BEGIN:VCALENDAR
VERSION:2.0
PRODID:-//NoHowest.org - ECPv6.15.16//NONSGML v1.0//EN
CALSCALE:GREGORIAN
METHOD:PUBLISH
X-WR-CALNAME:NoHowest.org
X-ORIGINAL-URL:https://nohowest.org
X-WR-CALDESC:Events for NoHowest.org
REFRESH-INTERVAL;VALUE=DURATION:PT1H
X-Robots-Tag:noindex
X-PUBLISHED-TTL:PT1H
BEGIN:VTIMEZONE
TZID:America/Los_Angeles
BEGIN:DAYLIGHT
TZOFFSETFROM:-0800
TZOFFSETTO:-0700
TZNAME:PDT
DTSTART:20250309T100000
END:DAYLIGHT
BEGIN:STANDARD
TZOFFSETFROM:-0700
TZOFFSETTO:-0800
TZNAME:PST
DTSTART:20251102T090000
END:STANDARD
BEGIN:DAYLIGHT
TZOFFSETFROM:-0800
TZOFFSETTO:-0700
TZNAME:PDT
DTSTART:20260308T100000
END:DAYLIGHT
BEGIN:STANDARD
TZOFFSETFROM:-0700
TZOFFSETTO:-0800
TZNAME:PST
DTSTART:20261101T090000
END:STANDARD
BEGIN:DAYLIGHT
TZOFFSETFROM:-0800
TZOFFSETTO:-0700
TZNAME:PDT
DTSTART:20270314T100000
END:DAYLIGHT
BEGIN:STANDARD
TZOFFSETFROM:-0700
TZOFFSETTO:-0800
TZNAME:PST
DTSTART:20271107T090000
END:STANDARD
END:VTIMEZONE
BEGIN:VEVENT
DTSTART;TZID=America/Los_Angeles:20260324T180000
DTEND;TZID=America/Los_Angeles:20260324T193000
DTSTAMP:20260424T060806
CREATED:20260320T175400Z
LAST-MODIFIED:20260320T181357Z
UID:20073-1774375200-1774380600@nohowest.org
SUMMARY:Planning and Land Use Management Meeting
DESCRIPTION:Join us Tuesday\, March 24\, 6pm online for a meeting of the Planning and Land Use Management Committee. \nZoom Meeting Online or By Telephone\nZoom Webinar Link: https://us02web.zoom.us/j/82461189463\nDial (888)475-4499 to Join the Meeting\nThen Enter This Webinar ID: 824 6118 9463 and Press # \n3.24.26 NoHo West PLUM Committee Agenda- Teleconference Meeting
URL:https://nohowest.org/calendar/planning-and-land-use-management-meeting/
CATEGORIES:Committee Meeting
ATTACH;FMTTYPE=image/png:https://nohowest.org/wp-content/uploads/2026/03/Meeting-12.png
END:VEVENT
BEGIN:VEVENT
DTSTART;TZID=America/Los_Angeles:20260330T110000
DTEND;TZID=America/Los_Angeles:20260330T120000
DTSTAMP:20260424T060806
CREATED:20260324T220539Z
LAST-MODIFIED:20260324T220539Z
UID:20087-1774868400-1774872000@nohowest.org
SUMMARY:Executive Committee Meeting
DESCRIPTION:The NoHo West Executive Committee Meeting will be held on March 30\, 11am online. \nNoHo West Agenda Executive Committee Meeting – 3.30.26 \nZoom Meeting Online or By Telephone:\nhttps://us02web.zoom.us/j/87205243524\nDial 888-475-4499 to Join the Meeting\nThen Enter This Webinar ID: 872 0524 3524 and Press #
URL:https://nohowest.org/calendar/executive-committee-meeting-56/
CATEGORIES:Committee Meeting
END:VEVENT
END:VCALENDAR