BEGIN:VCALENDAR
VERSION:2.0
PRODID:-//NoHowest.org - ECPv6.15.16//NONSGML v1.0//EN
CALSCALE:GREGORIAN
METHOD:PUBLISH
X-ORIGINAL-URL:https://nohowest.org
X-WR-CALDESC:Events for NoHowest.org
REFRESH-INTERVAL;VALUE=DURATION:PT1H
X-Robots-Tag:noindex
X-PUBLISHED-TTL:PT1H
BEGIN:VTIMEZONE
TZID:America/Los_Angeles
BEGIN:DAYLIGHT
TZOFFSETFROM:-0800
TZOFFSETTO:-0700
TZNAME:PDT
DTSTART:20230312T100000
END:DAYLIGHT
BEGIN:STANDARD
TZOFFSETFROM:-0700
TZOFFSETTO:-0800
TZNAME:PST
DTSTART:20231105T090000
END:STANDARD
BEGIN:DAYLIGHT
TZOFFSETFROM:-0800
TZOFFSETTO:-0700
TZNAME:PDT
DTSTART:20240310T100000
END:DAYLIGHT
BEGIN:STANDARD
TZOFFSETFROM:-0700
TZOFFSETTO:-0800
TZNAME:PST
DTSTART:20241103T090000
END:STANDARD
BEGIN:DAYLIGHT
TZOFFSETFROM:-0800
TZOFFSETTO:-0700
TZNAME:PDT
DTSTART:20250309T100000
END:DAYLIGHT
BEGIN:STANDARD
TZOFFSETFROM:-0700
TZOFFSETTO:-0800
TZNAME:PST
DTSTART:20251102T090000
END:STANDARD
END:VTIMEZONE
BEGIN:VEVENT
DTSTART;TZID=America/Los_Angeles:20240518T090000
DTEND;TZID=America/Los_Angeles:20240518T120000
DTSTAMP:20260425T164909
CREATED:20240508T231945Z
LAST-MODIFIED:20240508T231945Z
UID:18451-1716022800-1716033600@nohowest.org
SUMMARY:Senior Symposium
DESCRIPTION:Register in advance for a complimentary extra raffle ticket. This event is open to all ages and members of the community. Although the Senior Symposium is focused on health and senior care\, we encourage families with aging loved ones to attend! \nIn addition to community resources\, health screenings and presentations….join us to learn about utility bill savings programs! See our ONEgeneration booth at the event to learn about water conservation programs and if you qualify for discounts on your LADWP bills and other utility savings. \nVisit our Technology Pop-up Event at the Senior Symposium and receive help with your devices! Bring your phone\, tablet\, or laptop to receive assistance and helpful tips! Find this resource on the field in one of the large tented areas. When you stop by to ask a question you will be entered in a raffle to receive a prize!
URL:https://nohowest.org/calendar/senior-symposium-4/
LOCATION:One Generation Senior Enrichment Center\, 18255 Victory Blvd\, Reseda\, 91335
CATEGORIES:Community Events
GEO:34.1872365;-118.5312459
X-APPLE-STRUCTURED-LOCATION;VALUE=URI;X-ADDRESS=One Generation Senior Enrichment Center 18255 Victory Blvd Reseda 91335;X-APPLE-RADIUS=500;X-TITLE=18255 Victory Blvd:geo:-118.5312459,34.1872365
END:VEVENT
BEGIN:VEVENT
DTSTART;TZID=America/Los_Angeles:20240521T100000
DTEND;TZID=America/Los_Angeles:20240521T123000
DTSTAMP:20260425T164909
CREATED:20240418T225537Z
LAST-MODIFIED:20240418T225537Z
UID:18428-1716285600-1716294600@nohowest.org
SUMMARY:Beautification Conference
DESCRIPTION:On behalf of the City of Los Angeles Board of Public Works\, the Office of Community Beautification\, and Keep Los Angeles Beautiful\, we are pleased to invite you to the Sixth Annual Beautification Conference held Tuesday\, May 21\, at Pan Pacific Park. The conference will be held inside the Recreation Center at 7600 Beverly Blvd.\, Los Angeles\, CA 90036. \nAbout the Conference: \nJoin us for an opportunity to network and collaborate with other Angelenos on topics focused around beautifying the City. More than 250 attendees and 30 exhibitors will gather to discuss current beautification efforts\, share resources available to LA residents\, and exchange valuable information through informative panels. \nLocal leaders\, speakers\, and attendees \nInspiring keynote speakers \nLearn about community beautification opportunities\, sustainable gardening\, and practices in the home \nEvent is free and open to all (registration required) \nInteractive Resource Exposition \nLive Sustainable Gardening Workshop \n100 shade trees available\, restrictions apply* \nRain barrel raffle\, restrictions apply* \nMore information about the conference and Registration link is available here: http://laocb.org/keep-la-beautiful/beautification-conference/\nYou can also call to ask any question at 213-978-0228 \nRegistration :Sessions are free and open to all\, but registration is required to participate.\n*To be considered for the shade trees and rain barrel giveaways you must be a City of L.A. resident and be present during the event to claim your prize.\nProof of residence will be required (driver’s license or photo ID and your DWP bill).
URL:https://nohowest.org/calendar/beautification-conference-4/
LOCATION:Pan Pacific Park\, 7600 Beverly Blvd\, 90036
CATEGORIES:Community Events
GEO:34.0754453;-118.3542672
X-APPLE-STRUCTURED-LOCATION;VALUE=URI;X-ADDRESS=Pan Pacific Park 7600 Beverly Blvd 90036;X-APPLE-RADIUS=500;X-TITLE=7600 Beverly Blvd:geo:-118.3542672,34.0754453
END:VEVENT
END:VCALENDAR