BEGIN:VCALENDAR
VERSION:2.0
PRODID:-//NoHowest.org - ECPv6.15.16//NONSGML v1.0//EN
CALSCALE:GREGORIAN
METHOD:PUBLISH
X-ORIGINAL-URL:https://nohowest.org
X-WR-CALDESC:Events for NoHowest.org
REFRESH-INTERVAL;VALUE=DURATION:PT1H
X-Robots-Tag:noindex
X-PUBLISHED-TTL:PT1H
BEGIN:VTIMEZONE
TZID:America/Los_Angeles
BEGIN:DAYLIGHT
TZOFFSETFROM:-0800
TZOFFSETTO:-0700
TZNAME:PDT
DTSTART:20230312T100000
END:DAYLIGHT
BEGIN:STANDARD
TZOFFSETFROM:-0700
TZOFFSETTO:-0800
TZNAME:PST
DTSTART:20231105T090000
END:STANDARD
BEGIN:DAYLIGHT
TZOFFSETFROM:-0800
TZOFFSETTO:-0700
TZNAME:PDT
DTSTART:20240310T100000
END:DAYLIGHT
BEGIN:STANDARD
TZOFFSETFROM:-0700
TZOFFSETTO:-0800
TZNAME:PST
DTSTART:20241103T090000
END:STANDARD
BEGIN:DAYLIGHT
TZOFFSETFROM:-0800
TZOFFSETTO:-0700
TZNAME:PDT
DTSTART:20250309T100000
END:DAYLIGHT
BEGIN:STANDARD
TZOFFSETFROM:-0700
TZOFFSETTO:-0800
TZNAME:PST
DTSTART:20251102T090000
END:STANDARD
END:VTIMEZONE
BEGIN:VEVENT
DTSTART;TZID=America/Los_Angeles:20240706T190000
DTEND;TZID=America/Los_Angeles:20240706T210000
DTSTAMP:20260425T133708
CREATED:20240513T191014Z
LAST-MODIFIED:20240513T191317Z
UID:18480-1720292400-1720299600@nohowest.org
SUMMARY:No Ho Summer Nights: Free Concerts in the Parks
DESCRIPTION:June 22: Elton John vs. Billy Joel \nJuly 6: Locked out of Heaven\, Bruno Mars Tribute \nJuly 20: The Roaries\, Oldie/ Grease Tribute \nAugust 3: Element Band\, Sounds of the Mediterranean \nAugust 17: Blank Space\, Taylor Swift Tribute
URL:https://nohowest.org/calendar/no-ho-summer-nights-free-concerts-in-the-parks/2024-07-06/
LOCATION:North Hollywood Park
CATEGORIES:Community Events
GEO:34.1649059;-118.3789878
END:VEVENT
BEGIN:VEVENT
DTSTART;TZID=America/Los_Angeles:20240713T200000
DTEND;TZID=America/Los_Angeles:20240713T220000
DTSTAMP:20260425T133708
CREATED:20240513T191224Z
LAST-MODIFIED:20240513T191224Z
UID:18486-1720900800-1720908000@nohowest.org
SUMMARY:NoHo Summer Nights: Free Movies in the Park
DESCRIPTION:June 29: Top Gun: Maverick \nJuly 13: Paw Patrol \nJuly 27: Grease \nAugust 10: Barbie \nAugust 24: Coco
URL:https://nohowest.org/calendar/noho-summer-nights-free-movies-in-the-park/2024-07-13/
LOCATION:North Hollywood Park
CATEGORIES:Community Events
GEO:34.1649059;-118.3789878
END:VEVENT
BEGIN:VEVENT
DTSTART;TZID=America/Los_Angeles:20240720T090000
DTEND;TZID=America/Los_Angeles:20240720T120000
DTSTAMP:20260425T133708
CREATED:20240702T214407Z
LAST-MODIFIED:20240702T214407Z
UID:18636-1721466000-1721476800@nohowest.org
SUMMARY:Free Milkweed Giveaway
DESCRIPTION:Santa Monica Mountains Fund\, the official partner nonprofit at the Santa Monica Mountains National Recreation Area\, is hosting a free narrowleaf milkweed giveaway at Cottonwood Urban Farm in Panorama City! \nNarrowleaf milkweed is a gorgeous native plant that serves as a host for monarch butterflies to lay their eggs. Monarch caterpillars feed exclusively on milkweed leaves. Help us restore the monarch butterfly population by picking up and caring for your own milkweed plants. \nWe will be giving away free narrowleaf milkweed at Cottonwood Urban Farm on July 20th from 9AM-12PM. Six plants per household will be given out to ensure hungry monarch caterpillars have enough to eat. \nWe will offer one English-language and one Spanish-language plant talk to share some great tips on how to care for your milkweed. \nPlanting instructions and additional info about our nursery: https://www.samofund.org/milkweed
URL:https://nohowest.org/calendar/free-milkweed-giveaway/
LOCATION:8380 Ventura Canyon Ave\, 8380 Ventura Canyon Ave\, Panorama City\, 91402
CATEGORIES:Community Events
GEO:34.222797;-118.4286801
X-APPLE-STRUCTURED-LOCATION;VALUE=URI;X-ADDRESS=8380 Ventura Canyon Ave 8380 Ventura Canyon Ave Panorama City 91402;X-APPLE-RADIUS=500;X-TITLE=8380 Ventura Canyon Ave:geo:-118.4286801,34.222797
END:VEVENT
BEGIN:VEVENT
DTSTART;TZID=America/Los_Angeles:20240720T190000
DTEND;TZID=America/Los_Angeles:20240720T210000
DTSTAMP:20260425T133708
CREATED:20240513T191014Z
LAST-MODIFIED:20240513T191317Z
UID:18481-1721502000-1721509200@nohowest.org
SUMMARY:No Ho Summer Nights: Free Concerts in the Parks
DESCRIPTION:June 22: Elton John vs. Billy Joel \nJuly 6: Locked out of Heaven\, Bruno Mars Tribute \nJuly 20: The Roaries\, Oldie/ Grease Tribute \nAugust 3: Element Band\, Sounds of the Mediterranean \nAugust 17: Blank Space\, Taylor Swift Tribute
URL:https://nohowest.org/calendar/no-ho-summer-nights-free-concerts-in-the-parks/2024-07-20/
LOCATION:North Hollywood Park
CATEGORIES:Community Events
GEO:34.1649059;-118.3789878
END:VEVENT
BEGIN:VEVENT
DTSTART;TZID=America/Los_Angeles:20240727T200000
DTEND;TZID=America/Los_Angeles:20240727T220000
DTSTAMP:20260425T133708
CREATED:20240513T191224Z
LAST-MODIFIED:20240513T191224Z
UID:18487-1722110400-1722117600@nohowest.org
SUMMARY:NoHo Summer Nights: Free Movies in the Park
DESCRIPTION:June 29: Top Gun: Maverick \nJuly 13: Paw Patrol \nJuly 27: Grease \nAugust 10: Barbie \nAugust 24: Coco
URL:https://nohowest.org/calendar/noho-summer-nights-free-movies-in-the-park/2024-07-27/
LOCATION:North Hollywood Park
CATEGORIES:Community Events
GEO:34.1649059;-118.3789878
END:VEVENT
END:VCALENDAR