BEGIN:VCALENDAR
VERSION:2.0
PRODID:-//NoHowest.org - ECPv6.15.16//NONSGML v1.0//EN
CALSCALE:GREGORIAN
METHOD:PUBLISH
X-ORIGINAL-URL:https://nohowest.org
X-WR-CALDESC:Events for NoHowest.org
REFRESH-INTERVAL;VALUE=DURATION:PT1H
X-Robots-Tag:noindex
X-PUBLISHED-TTL:PT1H
BEGIN:VTIMEZONE
TZID:America/Los_Angeles
BEGIN:DAYLIGHT
TZOFFSETFROM:-0800
TZOFFSETTO:-0700
TZNAME:PDT
DTSTART:20230312T100000
END:DAYLIGHT
BEGIN:STANDARD
TZOFFSETFROM:-0700
TZOFFSETTO:-0800
TZNAME:PST
DTSTART:20231105T090000
END:STANDARD
BEGIN:DAYLIGHT
TZOFFSETFROM:-0800
TZOFFSETTO:-0700
TZNAME:PDT
DTSTART:20240310T100000
END:DAYLIGHT
BEGIN:STANDARD
TZOFFSETFROM:-0700
TZOFFSETTO:-0800
TZNAME:PST
DTSTART:20241103T090000
END:STANDARD
BEGIN:DAYLIGHT
TZOFFSETFROM:-0800
TZOFFSETTO:-0700
TZNAME:PDT
DTSTART:20250309T100000
END:DAYLIGHT
BEGIN:STANDARD
TZOFFSETFROM:-0700
TZOFFSETTO:-0800
TZNAME:PST
DTSTART:20251102T090000
END:STANDARD
END:VTIMEZONE
BEGIN:VEVENT
DTSTART;TZID=America/Los_Angeles:20240803T190000
DTEND;TZID=America/Los_Angeles:20240803T210000
DTSTAMP:20260425T115622
CREATED:20240513T191014Z
LAST-MODIFIED:20240513T191317Z
UID:18482-1722711600-1722718800@nohowest.org
SUMMARY:No Ho Summer Nights: Free Concerts in the Parks
DESCRIPTION:June 22: Elton John vs. Billy Joel \nJuly 6: Locked out of Heaven\, Bruno Mars Tribute \nJuly 20: The Roaries\, Oldie/ Grease Tribute \nAugust 3: Element Band\, Sounds of the Mediterranean \nAugust 17: Blank Space\, Taylor Swift Tribute
URL:https://nohowest.org/calendar/no-ho-summer-nights-free-concerts-in-the-parks/2024-08-03/
LOCATION:North Hollywood Park
CATEGORIES:Community Events
GEO:34.1649059;-118.3789878
END:VEVENT
BEGIN:VEVENT
DTSTART;TZID=America/Los_Angeles:20240810T200000
DTEND;TZID=America/Los_Angeles:20240810T220000
DTSTAMP:20260425T115622
CREATED:20240513T191224Z
LAST-MODIFIED:20240513T191224Z
UID:18488-1723320000-1723327200@nohowest.org
SUMMARY:NoHo Summer Nights: Free Movies in the Park
DESCRIPTION:June 29: Top Gun: Maverick \nJuly 13: Paw Patrol \nJuly 27: Grease \nAugust 10: Barbie \nAugust 24: Coco
URL:https://nohowest.org/calendar/noho-summer-nights-free-movies-in-the-park/2024-08-10/
LOCATION:North Hollywood Park
CATEGORIES:Community Events
GEO:34.1649059;-118.3789878
END:VEVENT
BEGIN:VEVENT
DTSTART;TZID=America/Los_Angeles:20240811T150000
DTEND;TZID=America/Los_Angeles:20240811T210000
DTSTAMP:20260425T115622
CREATED:20240731T182150Z
LAST-MODIFIED:20240731T182150Z
UID:18747-1723388400-1723410000@nohowest.org
SUMMARY:LA River Fest
DESCRIPTION:Annual River Fest is coming up on August 11th\, 2024 at the LA State Historic Park from 3pm-9pm. There will be music\, local artists\, food trucks and more.
URL:https://nohowest.org/calendar/la-river-fest/
LOCATION:LA State Historic Park\, 1245 North Spring Street\, Los Angeles\, 90012
CATEGORIES:Community Events
GEO:34.0649641;-118.2357038
X-APPLE-STRUCTURED-LOCATION;VALUE=URI;X-ADDRESS=LA State Historic Park 1245 North Spring Street Los Angeles 90012;X-APPLE-RADIUS=500;X-TITLE=1245 North Spring Street:geo:-118.2357038,34.0649641
END:VEVENT
BEGIN:VEVENT
DTSTART;TZID=America/Los_Angeles:20240817T190000
DTEND;TZID=America/Los_Angeles:20240817T210000
DTSTAMP:20260425T115622
CREATED:20240513T191014Z
LAST-MODIFIED:20240513T191317Z
UID:18483-1723921200-1723928400@nohowest.org
SUMMARY:No Ho Summer Nights: Free Concerts in the Parks
DESCRIPTION:June 22: Elton John vs. Billy Joel \nJuly 6: Locked out of Heaven\, Bruno Mars Tribute \nJuly 20: The Roaries\, Oldie/ Grease Tribute \nAugust 3: Element Band\, Sounds of the Mediterranean \nAugust 17: Blank Space\, Taylor Swift Tribute
URL:https://nohowest.org/calendar/no-ho-summer-nights-free-concerts-in-the-parks/2024-08-17/
LOCATION:North Hollywood Park
CATEGORIES:Community Events
GEO:34.1649059;-118.3789878
END:VEVENT
BEGIN:VEVENT
DTSTART;TZID=America/Los_Angeles:20240821T180000
DTEND;TZID=America/Los_Angeles:20240821T200000
DTSTAMP:20260425T115622
CREATED:20240820T191319Z
LAST-MODIFIED:20240820T191319Z
UID:18786-1724263200-1724270400@nohowest.org
SUMMARY:Legacy Business Meeting
DESCRIPTION:Your business may qualify for the City of Los Angeles Legacy Business Program! \nA “Legacy Business” is defined as a business that has been in operation for 20 years or more within the same community\, contributes significantly to its community’s history or identity\, sustains and cultivates distinctive cultural traditions or practices\, is not franchised or affiliated with a national corporate chain and provides vital goods and services in a language and manner that is culturally accessible to the community. \nYou can learn more about the Legacy Business Program in by attending one of three information sessions
URL:https://nohowest.org/calendar/legacy-business-meeting/2024-08-21/
CATEGORIES:Community Events
END:VEVENT
BEGIN:VEVENT
DTSTART;TZID=America/Los_Angeles:20240824T100000
DTEND;TZID=America/Los_Angeles:20240824T120000
DTSTAMP:20260425T115622
CREATED:20240820T191319Z
LAST-MODIFIED:20240820T191319Z
UID:18788-1724493600-1724500800@nohowest.org
SUMMARY:Legacy Business Meeting
DESCRIPTION:Your business may qualify for the City of Los Angeles Legacy Business Program! \nA “Legacy Business” is defined as a business that has been in operation for 20 years or more within the same community\, contributes significantly to its community’s history or identity\, sustains and cultivates distinctive cultural traditions or practices\, is not franchised or affiliated with a national corporate chain and provides vital goods and services in a language and manner that is culturally accessible to the community. \nYou can learn more about the Legacy Business Program in by attending one of three information sessions
URL:https://nohowest.org/calendar/legacy-business-meeting/2024-08-24/
CATEGORIES:Community Events
END:VEVENT
BEGIN:VEVENT
DTSTART;TZID=America/Los_Angeles:20240824T200000
DTEND;TZID=America/Los_Angeles:20240824T220000
DTSTAMP:20260425T115622
CREATED:20240513T191224Z
LAST-MODIFIED:20240513T191224Z
UID:18489-1724529600-1724536800@nohowest.org
SUMMARY:NoHo Summer Nights: Free Movies in the Park
DESCRIPTION:June 29: Top Gun: Maverick \nJuly 13: Paw Patrol \nJuly 27: Grease \nAugust 10: Barbie \nAugust 24: Coco
URL:https://nohowest.org/calendar/noho-summer-nights-free-movies-in-the-park/2024-08-24/
LOCATION:North Hollywood Park
CATEGORIES:Community Events
GEO:34.1649059;-118.3789878
END:VEVENT
BEGIN:VEVENT
DTSTART;TZID=America/Los_Angeles:20240828T150000
DTEND;TZID=America/Los_Angeles:20240828T163000
DTSTAMP:20260425T115622
CREATED:20240823T044636Z
LAST-MODIFIED:20240823T044636Z
UID:18792-1724857200-1724862600@nohowest.org
SUMMARY:Homeless Initiative Listening Sessions
DESCRIPTION:The County of Los Angeles Homeless Initiative is holding a series of virtual community listening sessions to strengthen strategies for addressing and preventing homelessness and to inform our annual funding recommendations for homeless services and housing in fiscal year 2025-2026. These listening sessions will solicit input from diverse stakeholders and partners\, including residents\, local leaders\, homeless services providers\, people with lived experience\, and other stakeholders to inform our funding recommendations. The goal of these sessions is to ensure their annual budget and strategies are up-to-date and responsive to the unique needs and priorities of our communities. Los Angeles County residents are invited to join this virtual listening session based on their service planning area. Los Angeles County residents are invited to join this virtual listening session based on their service planning area: \nSan Fernando Valley: Wednesday August 28\, 3:00-4:30pm\nMetro Los Angeles: Tuesday September 3\, 2:00-3:30pm\nEast Los Angeles: Thursday September 5\, 1:00-2:30pm\nSouth Los Angeles: Friday September 13\, 10:00am-12:00pm\nWest Los Angeles: Thursday September 19\, 9:00-10:30am \nRegister
URL:https://nohowest.org/calendar/homeless-initiative-listening-sessions/
CATEGORIES:Community Events
END:VEVENT
END:VCALENDAR