BEGIN:VCALENDAR
VERSION:2.0
PRODID:-//NoHowest.org - ECPv6.15.16//NONSGML v1.0//EN
CALSCALE:GREGORIAN
METHOD:PUBLISH
X-ORIGINAL-URL:https://nohowest.org
X-WR-CALDESC:Events for NoHowest.org
REFRESH-INTERVAL;VALUE=DURATION:PT1H
X-Robots-Tag:noindex
X-PUBLISHED-TTL:PT1H
BEGIN:VTIMEZONE
TZID:America/Los_Angeles
BEGIN:DAYLIGHT
TZOFFSETFROM:-0800
TZOFFSETTO:-0700
TZNAME:PDT
DTSTART:20230312T100000
END:DAYLIGHT
BEGIN:STANDARD
TZOFFSETFROM:-0700
TZOFFSETTO:-0800
TZNAME:PST
DTSTART:20231105T090000
END:STANDARD
BEGIN:DAYLIGHT
TZOFFSETFROM:-0800
TZOFFSETTO:-0700
TZNAME:PDT
DTSTART:20240310T100000
END:DAYLIGHT
BEGIN:STANDARD
TZOFFSETFROM:-0700
TZOFFSETTO:-0800
TZNAME:PST
DTSTART:20241103T090000
END:STANDARD
BEGIN:DAYLIGHT
TZOFFSETFROM:-0800
TZOFFSETTO:-0700
TZNAME:PDT
DTSTART:20250309T100000
END:DAYLIGHT
BEGIN:STANDARD
TZOFFSETFROM:-0700
TZOFFSETTO:-0800
TZNAME:PST
DTSTART:20251102T090000
END:STANDARD
END:VTIMEZONE
BEGIN:VEVENT
DTSTART;TZID=America/Los_Angeles:20240912T080000
DTEND;TZID=America/Los_Angeles:20240912T120000
DTSTAMP:20260425T100914
CREATED:20240828T005114Z
LAST-MODIFIED:20240828T005114Z
UID:18800-1726128000-1726142400@nohowest.org
SUMMARY:Small Business Summit
DESCRIPTION:San Fernando Valley Small Business Summit: \nGain insight on how to access capital\, procurement and government contracting\, legal aid\, and digital resources. Click HERE to register: https://docs.google.com/forms/d/e/1FAIpQLSfQaRwzswVehZFKTy-S3jnun63WJgUI2WC7hpdB2gclwoQy-g/viewform \nLocation: CSUN \nTime and Date: September 12\, 2024 \nTime: 8AM – 12:30PM \nFor questions\, email Mayor.Business@lacity.org
URL:https://nohowest.org/calendar/small-business-summit/
LOCATION:The Soraya Performing Arts Center\, Nordhoff Street\, Los Angeles\, California\, 91330\, United States
CATEGORIES:Community Events
GEO:34.2400253;-118.5257953
X-APPLE-STRUCTURED-LOCATION;VALUE=URI;X-ADDRESS=The Soraya Performing Arts Center Nordhoff Street Los Angeles California 91330 United States;X-APPLE-RADIUS=500;X-TITLE=Nordhoff Street:geo:-118.5257953,34.2400253
END:VEVENT
BEGIN:VEVENT
DTSTART;TZID=America/Los_Angeles:20240921T100000
DTEND;TZID=America/Los_Angeles:20240921T140000
DTSTAMP:20260425T100914
CREATED:20240827T040813Z
LAST-MODIFIED:20240827T040813Z
UID:18796-1726912800-1726927200@nohowest.org
SUMMARY:Fur Fest
DESCRIPTION:
URL:https://nohowest.org/calendar/fur-fest/
LOCATION:Valley Plaza Recreation Center\, 12240 Archwood St.\,\, North Hollywood\, CA\, 91606\, United States
CATEGORIES:Community Events
GEO:34.1920199;-118.4002565
X-APPLE-STRUCTURED-LOCATION;VALUE=URI;X-ADDRESS=Valley Plaza Recreation Center 12240 Archwood St. North Hollywood CA 91606 United States;X-APPLE-RADIUS=500;X-TITLE=12240 Archwood St.\,:geo:-118.4002565,34.1920199
END:VEVENT
BEGIN:VEVENT
DTSTART;TZID=America/Los_Angeles:20240928T080000
DTEND;TZID=America/Los_Angeles:20240928T163000
DTSTAMP:20260425T100914
CREATED:20240904T221051Z
LAST-MODIFIED:20240904T224248Z
UID:18844-1727510400-1727541000@nohowest.org
SUMMARY:Congress of Neighborhoods
DESCRIPTION:Registration for the 2024 Los Angeles Congress of Neighborhoods is officially OPEN! Last year\, we brought the community closer than ever\, and now we’re back at City Hall for our 14th Congress\, marking 25 years of Neighborhood Councils. \nJoin us on September 28th for “Neighborhood Power\, Citywide Impact: The Next 25 Years Start Now.” Let’s make history together!  Learn more and register: https://www.eventbrite.com/e/2024-los-angeles-congress-of-neighborhoods-tickets-881161416517
URL:https://nohowest.org/calendar/congress-of-neighborhoods-9/
LOCATION:City Hall
CATEGORIES:Community Events
GEO:34.0537126;-118.2428145
END:VEVENT
END:VCALENDAR