BEGIN:VCALENDAR
VERSION:2.0
PRODID:-//NoHowest.org - ECPv6.15.16//NONSGML v1.0//EN
CALSCALE:GREGORIAN
METHOD:PUBLISH
X-WR-CALNAME:NoHowest.org
X-ORIGINAL-URL:https://nohowest.org
X-WR-CALDESC:Events for NoHowest.org
REFRESH-INTERVAL;VALUE=DURATION:PT1H
X-Robots-Tag:noindex
X-PUBLISHED-TTL:PT1H
BEGIN:VTIMEZONE
TZID:America/Los_Angeles
BEGIN:DAYLIGHT
TZOFFSETFROM:-0800
TZOFFSETTO:-0700
TZNAME:PDT
DTSTART:20230312T100000
END:DAYLIGHT
BEGIN:STANDARD
TZOFFSETFROM:-0700
TZOFFSETTO:-0800
TZNAME:PST
DTSTART:20231105T090000
END:STANDARD
BEGIN:DAYLIGHT
TZOFFSETFROM:-0800
TZOFFSETTO:-0700
TZNAME:PDT
DTSTART:20240310T100000
END:DAYLIGHT
BEGIN:STANDARD
TZOFFSETFROM:-0700
TZOFFSETTO:-0800
TZNAME:PST
DTSTART:20241103T090000
END:STANDARD
BEGIN:DAYLIGHT
TZOFFSETFROM:-0800
TZOFFSETTO:-0700
TZNAME:PDT
DTSTART:20250309T100000
END:DAYLIGHT
BEGIN:STANDARD
TZOFFSETFROM:-0700
TZOFFSETTO:-0800
TZNAME:PST
DTSTART:20251102T090000
END:STANDARD
END:VTIMEZONE
BEGIN:VEVENT
DTSTART;TZID=America/Los_Angeles:20241001T173000
DTEND;TZID=America/Los_Angeles:20241001T200000
DTSTAMP:20260425T082226
CREATED:20240828T005456Z
LAST-MODIFIED:20240828T005456Z
UID:18804-1727803800-1727812800@nohowest.org
SUMMARY:Contractor Boot Camp
DESCRIPTION:The Los Angeles Community College District’s Small Contractor Boot Camp is a four-session program designed for local\, small and disadvantaged contractors to improve their competitive bidding capacity. Through a comprehensive curriculum\, they will learn more about the pre-qualification process for the BuildLACCD Program’s Pre-Qualified Service Provider bench\, for projects ranging from $25K to $5M. Check out the flyer for the curriculum’s details and register today.
URL:https://nohowest.org/calendar/contractor-boot-camp/
CATEGORIES:Community Events
END:VEVENT
BEGIN:VEVENT
DTSTART;TZID=America/Los_Angeles:20241008T170000
DTEND;TZID=America/Los_Angeles:20241008T190000
DTSTAMP:20260425T082226
CREATED:20240924T184707Z
LAST-MODIFIED:20240924T184707Z
UID:18887-1728406800-1728414000@nohowest.org
SUMMARY:Valley Magnet Fairs
DESCRIPTION:Don’t miss the 2024 Valley Magnet Fairs! Explore middle & high school magnet programs with performances\, booths\, & presentations.\n High Schools: Oct 8\, 5-7 PM @ Van Nuys HS\n Middle Schools: Oct 9\, 5-7 PM @ Patrick Henry MS
URL:https://nohowest.org/calendar/valley-magnet-fairs/2024-10-08/
CATEGORIES:Community Events
END:VEVENT
BEGIN:VEVENT
DTSTART;TZID=America/Los_Angeles:20241009T170000
DTEND;TZID=America/Los_Angeles:20241009T190000
DTSTAMP:20260425T082226
CREATED:20240924T184707Z
LAST-MODIFIED:20240924T184707Z
UID:18889-1728493200-1728500400@nohowest.org
SUMMARY:Valley Magnet Fairs
DESCRIPTION:Don’t miss the 2024 Valley Magnet Fairs! Explore middle & high school magnet programs with performances\, booths\, & presentations.\n High Schools: Oct 8\, 5-7 PM @ Van Nuys HS\n Middle Schools: Oct 9\, 5-7 PM @ Patrick Henry MS
URL:https://nohowest.org/calendar/valley-magnet-fairs/2024-10-09/
CATEGORIES:Community Events
END:VEVENT
BEGIN:VEVENT
DTSTART;TZID=America/Los_Angeles:20241012T093000
DTEND;TZID=America/Los_Angeles:20241012T130000
DTSTAMP:20260425T082226
CREATED:20241004T220900Z
LAST-MODIFIED:20241004T222923Z
UID:18928-1728725400-1728738000@nohowest.org
SUMMARY:Book Sale
DESCRIPTION:
URL:https://nohowest.org/calendar/book-sale/
LOCATION:Valley Plaza Library\, 12311 Vanowen Street\, North Hollywood\, 91605
CATEGORIES:Community Events
GEO:34.1946695;-118.4011736
X-APPLE-STRUCTURED-LOCATION;VALUE=URI;X-ADDRESS=Valley Plaza Library 12311 Vanowen Street North Hollywood 91605;X-APPLE-RADIUS=500;X-TITLE=12311 Vanowen Street:geo:-118.4011736,34.1946695
END:VEVENT
BEGIN:VEVENT
DTSTART;TZID=America/Los_Angeles:20241022T180000
DTEND;TZID=America/Los_Angeles:20241022T210000
DTSTAMP:20260425T082226
CREATED:20240917T002910Z
LAST-MODIFIED:20240917T002934Z
UID:18863-1729620000-1729630800@nohowest.org
SUMMARY:FREE Encore Screening of CIURÈ
DESCRIPTION:Join VFF and The Rainbow Pride Center at LAVC for a special encore screening of CIURÈ\, VFF24’s “10 Degrees Hotter” foreign feature film winner. Doors open at 5:30PM. Film begins promptly at 6:00PM. RSVP here. \nSynopsis: Salvo is a young father who struggles between makeshift jobs and a life of crime\, to support his son in suburban Palermo\, Sicily. When the spiral of violence turns against him\, he runs into Ciurè\, a transgender dancer who helps him find a way out of the underworld. In Italian with English subtitles. \nThis screening is free and ADA accessible. LAVC encourages persons with disabilities to participate in programs and activities. If you anticipate needing any type of accommodations\, or have questions about the physical access provided\, please contact Nat Guerrero at (818) 778-5924 or guerren3@lavc.edu as soon as possible but no later than (7) business days prior to the event. \nScreening takes place inside Monarch Hall at Los Angeles Valley College. Limited free street parking. Paid structure parking available. \nNote: Film is unrated by the MPAA and may not be suitable for all ages.
URL:https://nohowest.org/calendar/free-encore-screening-of-ciure/
LOCATION:Monarch Hall\, Los Angeles Valley College\, 5800 Fulton Ave\, Van Nuys\, 91401
CATEGORIES:Community Events
GEO:34.1757062;-118.4201438
X-APPLE-STRUCTURED-LOCATION;VALUE=URI;X-ADDRESS=Monarch Hall Los Angeles Valley College 5800 Fulton Ave Van Nuys 91401;X-APPLE-RADIUS=500;X-TITLE=5800 Fulton Ave:geo:-118.4201438,34.1757062
END:VEVENT
BEGIN:VEVENT
DTSTART;TZID=America/Los_Angeles:20241026T090000
DTEND;TZID=America/Los_Angeles:20241026T110000
DTSTAMP:20260425T082226
CREATED:20241016T190433Z
LAST-MODIFIED:20241016T190433Z
UID:18949-1729933200-1729940400@nohowest.org
SUMMARY:Community Clean-Up & Resource Fair
DESCRIPTION:Event Details:\nDate: October 26th\nTime: 9 AM – 11 AM (Set-up begins at 8 AM)\nLocation: 6451 St Clair Ave\, North Hollywood\, CA 91606 (Valley Plaza Park) \nRSVP Link: https://rb.gy/tfocsc \nWe invite you to volunteer and ask that you RSVP. There is parking available in the park lots and along the street. For more information\, please refer to the flyer. Volunteers can earn service credit\, which the CD2 Office is happy to sign off on.
URL:https://nohowest.org/calendar/community-clean-up-resource-fair/
LOCATION:Valley Plaza Recreation Center\, 12240 Archwood St.\,\, North Hollywood\, CA\, 91606\, United States
CATEGORIES:Community Events
GEO:34.1920199;-118.4002565
X-APPLE-STRUCTURED-LOCATION;VALUE=URI;X-ADDRESS=Valley Plaza Recreation Center 12240 Archwood St. North Hollywood CA 91606 United States;X-APPLE-RADIUS=500;X-TITLE=12240 Archwood St.\,:geo:-118.4002565,34.1920199
END:VEVENT
END:VCALENDAR