BEGIN:VCALENDAR
VERSION:2.0
PRODID:-//NoHowest.org - ECPv6.15.16//NONSGML v1.0//EN
CALSCALE:GREGORIAN
METHOD:PUBLISH
X-WR-CALNAME:NoHowest.org
X-ORIGINAL-URL:https://nohowest.org
X-WR-CALDESC:Events for NoHowest.org
REFRESH-INTERVAL;VALUE=DURATION:PT1H
X-Robots-Tag:noindex
X-PUBLISHED-TTL:PT1H
BEGIN:VTIMEZONE
TZID:America/Los_Angeles
BEGIN:DAYLIGHT
TZOFFSETFROM:-0800
TZOFFSETTO:-0700
TZNAME:PDT
DTSTART:20240310T100000
END:DAYLIGHT
BEGIN:STANDARD
TZOFFSETFROM:-0700
TZOFFSETTO:-0800
TZNAME:PST
DTSTART:20241103T090000
END:STANDARD
BEGIN:DAYLIGHT
TZOFFSETFROM:-0800
TZOFFSETTO:-0700
TZNAME:PDT
DTSTART:20250309T100000
END:DAYLIGHT
BEGIN:STANDARD
TZOFFSETFROM:-0700
TZOFFSETTO:-0800
TZNAME:PST
DTSTART:20251102T090000
END:STANDARD
BEGIN:DAYLIGHT
TZOFFSETFROM:-0800
TZOFFSETTO:-0700
TZNAME:PDT
DTSTART:20260308T100000
END:DAYLIGHT
BEGIN:STANDARD
TZOFFSETFROM:-0700
TZOFFSETTO:-0800
TZNAME:PST
DTSTART:20261101T090000
END:STANDARD
END:VTIMEZONE
BEGIN:VEVENT
DTSTART;TZID=America/Los_Angeles:20250121T200000
DTEND;TZID=America/Los_Angeles:20250121T230000
DTSTAMP:20260425T032915
CREATED:20241120T190116Z
LAST-MODIFIED:20250114T172647Z
UID:19058-1737489600-1737500400@nohowest.org
SUMMARY:Homeless Count-Postponed
DESCRIPTION:Join and make a difference! You can now register to volunteer for the 2025 Greater Los Angeles Homeless Count! This essential event aims to count our unhoused neighbors and obtain data that helps us develop effective strategies to address the homelessness crisis in Los Angeles City and County. Mark your calendars for Homeless Count 2025\, taking place on the nights of January 21\, 22\, and 23. To learn more and sign up\, visit count.lahsa.org!
URL:https://nohowest.org/calendar/homeless-count-8/
CATEGORIES:Community Events
END:VEVENT
BEGIN:VEVENT
DTSTART;TZID=America/Los_Angeles:20250126T100000
DTEND;TZID=America/Los_Angeles:20250126T113000
DTSTAMP:20260425T032915
CREATED:20250123T224609Z
LAST-MODIFIED:20250123T224609Z
UID:19173-1737885600-1737891000@nohowest.org
SUMMARY:Nazarian Swearing In
DESCRIPTION:The recent wind and fire emergency compelled us to reschedule this community swearing-in ceremony and celebration previously planned for an earlier date. \nWe hope you will be able to join us at this new date and time. \nDoors will open at 9:30. Program will commence at 10:00 am. \nLink here to RSVP \nThe Councilmember will be joined by special guest speakers and there will be \na resource fair accompanying the ceremony\, with information on services and resources from City agencies and other community organizations. \nParking will available in the parking structure on Ethel Avenue. \nQuestions? Email Councilmember.Nazarian@lacity.org or call 818-755-7676
URL:https://nohowest.org/calendar/nazarian-swearing-in/
CATEGORIES:Community Events
END:VEVENT
END:VCALENDAR