BEGIN:VCALENDAR
VERSION:2.0
PRODID:-//NoHowest.org - ECPv6.15.16//NONSGML v1.0//EN
CALSCALE:GREGORIAN
METHOD:PUBLISH
X-WR-CALNAME:NoHowest.org
X-ORIGINAL-URL:https://nohowest.org
X-WR-CALDESC:Events for NoHowest.org
REFRESH-INTERVAL;VALUE=DURATION:PT1H
X-Robots-Tag:noindex
X-PUBLISHED-TTL:PT1H
BEGIN:VTIMEZONE
TZID:America/Los_Angeles
BEGIN:DAYLIGHT
TZOFFSETFROM:-0800
TZOFFSETTO:-0700
TZNAME:PDT
DTSTART:20240310T100000
END:DAYLIGHT
BEGIN:STANDARD
TZOFFSETFROM:-0700
TZOFFSETTO:-0800
TZNAME:PST
DTSTART:20241103T090000
END:STANDARD
BEGIN:DAYLIGHT
TZOFFSETFROM:-0800
TZOFFSETTO:-0700
TZNAME:PDT
DTSTART:20250309T100000
END:DAYLIGHT
BEGIN:STANDARD
TZOFFSETFROM:-0700
TZOFFSETTO:-0800
TZNAME:PST
DTSTART:20251102T090000
END:STANDARD
BEGIN:DAYLIGHT
TZOFFSETFROM:-0800
TZOFFSETTO:-0700
TZNAME:PDT
DTSTART:20260308T100000
END:DAYLIGHT
BEGIN:STANDARD
TZOFFSETFROM:-0700
TZOFFSETTO:-0800
TZNAME:PST
DTSTART:20261101T090000
END:STANDARD
END:VTIMEZONE
BEGIN:VEVENT
DTSTART;TZID=America/Los_Angeles:20250612T090000
DTEND;TZID=America/Los_Angeles:20250612T130000
DTSTAMP:20260424T193325
CREATED:20250515T194721Z
LAST-MODIFIED:20250515T194721Z
UID:19441-1749718800-1749733200@nohowest.org
SUMMARY:Job Fair
DESCRIPTION:
URL:https://nohowest.org/calendar/job-fair-4/
LOCATION:Zev Yaroslavsky Family Support Center\, 7555 Van Nuys Boulevard\, Van Nuys\, 91405
CATEGORIES:Community Events
GEO:34.2082406;-118.4487839
X-APPLE-STRUCTURED-LOCATION;VALUE=URI;X-ADDRESS=Zev Yaroslavsky Family Support Center 7555 Van Nuys Boulevard Van Nuys 91405;X-APPLE-RADIUS=500;X-TITLE=7555 Van Nuys Boulevard:geo:-118.4487839,34.2082406
END:VEVENT
BEGIN:VEVENT
DTSTART;TZID=America/Los_Angeles:20250614T120000
DTEND;TZID=America/Los_Angeles:20250614T140000
DTSTAMP:20260424T193325
CREATED:20250515T193412Z
LAST-MODIFIED:20250612T172819Z
UID:19435-1749902400-1749909600@nohowest.org
SUMMARY:Otter Pop with a Cop-Cancelled
DESCRIPTION:
URL:https://nohowest.org/calendar/otter-pop-with-a-cop/
LOCATION:Whitsett Sports Fields\, 12413 Vanowen St.\, North Hollywood\, CA\, 91605
CATEGORIES:Community Events
GEO:34.1939509;-118.4033955
X-APPLE-STRUCTURED-LOCATION;VALUE=URI;X-ADDRESS=Whitsett Sports Fields 12413 Vanowen St. North Hollywood CA 91605;X-APPLE-RADIUS=500;X-TITLE=12413 Vanowen St.:geo:-118.4033955,34.1939509
END:VEVENT
BEGIN:VEVENT
DTSTART;TZID=America/Los_Angeles:20250618T180000
DTEND;TZID=America/Los_Angeles:20250618T200000
DTSTAMP:20260424T193325
CREATED:20250609T173340Z
LAST-MODIFIED:20250609T173340Z
UID:19511-1750269600-1750276800@nohowest.org
SUMMARY:Park Needs Assessment Community Meeting
DESCRIPTION:Join us for Phase 2 of the LA Park Needs Assessment! Let’s Keep the Conversation Going! \nThe City of Los Angeles Department of Recreation and Parks is continuing its Park Needs Assessment\, and we’re excited to invite you to the second round of Community Meetings. \nIn this next phase\, we’ll share what we have learned from your input so far and ask for your help in shaping the next steps. Whether you attended the first meetings or are joining us for the first time\, your voice is vital to creating parks that reflect the needs and priorities of Los Angeles residents. \nYour feedback will help to shape decisions that impact our parks and recreational spaces for generations to come. Invite your friends\, family\, and neighbors to join us in this important process! \nCommunity Meeting Details:\nEach meeting will include the same content\, so feel free to attend the meeting that best fits your schedule. \nWednesday\, June 18\, 2025\n• Time: 6:00pm – 8:00pm\n• Location: Sepulveda Recreation Center\, 8825 Kester Ave\, Panorama City\, CA 91402 \nTuesday\, July 1\, 2025\n• Time: 6:00pm – 7:30pm\n• Location: Virtual via Zoom – bit.ly/lapnavirtualmeeting0701 \nRSVP requested but not required. RSVP at bit.ly/EngageLAPNA \nAbout the Park Needs Assessment: \nThe City of Los Angeles Department of Recreation and Parks is conducting a Park Needs Assessment to better understand how we can improve and develop our parks to meet the needs of the residents of Los Angeles. It will guide future investment in park infrastructure and amenities that is reflective of the diverse cultures and communities of Los Angeles and its projected population growth.  The Park Needs Assessment process will include many opportunities for the community to participate and engage through community meetings\, pop-ups\, key group meetings\, equity focused events and more! To learn more about the process\, visit the Park Needs Assessment website at bit.ly/LACityParksNeeds.
URL:https://nohowest.org/calendar/park-needs-assessment-community-meeting/2025-06-18/
CATEGORIES:Community Events
END:VEVENT
BEGIN:VEVENT
DTSTART;TZID=America/Los_Angeles:20250621T093000
DTEND;TZID=America/Los_Angeles:20250621T123000
DTSTAMP:20260424T193325
CREATED:20250426T005710Z
LAST-MODIFIED:20250611T170627Z
UID:19383-1750498200-1750509000@nohowest.org
SUMMARY:Budget Day
DESCRIPTION:The Neighborhood Council Budget Advocates invites all residents\, community leaders\, and stakeholders to attend Budget Day 2025 on Saturday\, June 21 at City Hall\, beginning with a complimentary breakfast at 7:30 AM and a full program starting at 9:00 AM. \nWith the City facing an unprecedented financial crisis—including record-high deficits\, the potential for department layoffs\, and proposed reductions to public services—this year’s Budget Day is more urgent than ever. Community members are strongly encouraged to participate\, ask questions\, and advocate for their neighborhoods. \n“The City’s budget is more than numbers—it determines the services and quality of life Angelenos experience every day\,” said “At a time of significant cuts and hard choices\, public input is essential.” \nConfirmed speakers include: \n\nMayor Karen Bass\nMarquis Harris Dawson- City Council President\nMatt Szabo\, City Administrative Officer\nCouncilmember Katy Yaroslavsky\, Chair of the Budget & Finance Committee\nCity Controller Kenneth Mejia\nCarmen Chang\, Department Manager Empower L.A.\nJoy Atkinson- President of BONC\nRick Cole\, Office of the City Comptroller\nStephen Cheung\, President & CEO\, Los Angeles County Economic Development Corporation (LAEDC)
URL:https://nohowest.org/calendar/budget-day-8/
CATEGORIES:Community Events
END:VEVENT
BEGIN:VEVENT
DTSTART;TZID=America/Los_Angeles:20250627T140000
DTEND;TZID=America/Los_Angeles:20250627T163000
DTSTAMP:20260424T193325
CREATED:20250625T182255Z
LAST-MODIFIED:20250625T182421Z
UID:19536-1751032800-1751041800@nohowest.org
SUMMARY:Free Screening: Die Like a Man
DESCRIPTION:Please join us for free screenings of “Die Like a Man;” a powerful exploration of the root causes of gun violence\, and how it affects Los Angeles youth.\nIncluding a Q&A with Director Eric Nazarian and the cast (Friday and Saturday night)\nJune 27\, 2:00 PM – 4:30 PM\, LA Valley College Conference Room ACA 2505\nRSVP Here: https://docs.google.com/forms/d/e/1FAIpQLSf2sVLmBsZHUpIWofoChL-okHOm3CDtzsK0PDtEReK5oeq5PA/viewform\nJune 28\, 2:00 PM – 4:30 PM\, El Portal Theater\nRSVP Here: https://docs.google.com/forms/d/e/1FAIpQLSf2sVLmBsZHUpIWofoChL-okHOm3CDtzsK0PDtEReK5oeq5PA/viewform\nJune 28th\, 6:30 PM – 9:00 PM\, El Portal Theater\nRSVP Here: https://docs.google.com/forms/d/e/1FAIpQLSdeTegMPM15WlO3UTazCHuZdWJ1DdOb2awxiPgyDiDbzIZsbw/viewform
URL:https://nohowest.org/calendar/free-screening-die-like-a-man/2025-06-27/
CATEGORIES:Community Events
END:VEVENT
BEGIN:VEVENT
DTSTART;TZID=America/Los_Angeles:20250628T110000
DTEND;TZID=America/Los_Angeles:20250628T170000
DTSTAMP:20260424T193325
CREATED:20250515T195517Z
LAST-MODIFIED:20250515T195517Z
UID:19444-1751108400-1751130000@nohowest.org
SUMMARY:San Fernando Valley Pride
DESCRIPTION:SFV Pride March and Festivities – Saturday\, June 28th\n\n\n\nThe MARCH will start at the intersection of Van Nuys Blvd and Gault St at 11:00AM \n\n\nThe FESTIVAL will take place at the Van Nuys Civic Center 1-5PM
URL:https://nohowest.org/calendar/san-fernando-valley-pride-2/
CATEGORIES:Community Events
END:VEVENT
BEGIN:VEVENT
DTSTART;TZID=America/Los_Angeles:20250628T140000
DTEND;TZID=America/Los_Angeles:20250628T163000
DTSTAMP:20260424T193325
CREATED:20250625T182255Z
LAST-MODIFIED:20250625T182421Z
UID:19540-1751119200-1751128200@nohowest.org
SUMMARY:Free Screening: Die Like a Man
DESCRIPTION:Please join us for free screenings of “Die Like a Man;” a powerful exploration of the root causes of gun violence\, and how it affects Los Angeles youth.\nIncluding a Q&A with Director Eric Nazarian and the cast (Friday and Saturday night)\nJune 27\, 2:00 PM – 4:30 PM\, LA Valley College Conference Room ACA 2505\nRSVP Here: https://docs.google.com/forms/d/e/1FAIpQLSf2sVLmBsZHUpIWofoChL-okHOm3CDtzsK0PDtEReK5oeq5PA/viewform\nJune 28\, 2:00 PM – 4:30 PM\, El Portal Theater\nRSVP Here: https://docs.google.com/forms/d/e/1FAIpQLSf2sVLmBsZHUpIWofoChL-okHOm3CDtzsK0PDtEReK5oeq5PA/viewform\nJune 28th\, 6:30 PM – 9:00 PM\, El Portal Theater\nRSVP Here: https://docs.google.com/forms/d/e/1FAIpQLSdeTegMPM15WlO3UTazCHuZdWJ1DdOb2awxiPgyDiDbzIZsbw/viewform
URL:https://nohowest.org/calendar/free-screening-die-like-a-man/2025-06-28/
CATEGORIES:Community Events
END:VEVENT
BEGIN:VEVENT
DTSTART;TZID=America/Los_Angeles:20250628T183000
DTEND;TZID=America/Los_Angeles:20250628T210000
DTSTAMP:20260424T193325
CREATED:20250625T182255Z
LAST-MODIFIED:20250625T182421Z
UID:19541-1751135400-1751144400@nohowest.org
SUMMARY:Free Screening: Die Like a Man
DESCRIPTION:Please join us for free screenings of “Die Like a Man;” a powerful exploration of the root causes of gun violence\, and how it affects Los Angeles youth.\nIncluding a Q&A with Director Eric Nazarian and the cast (Friday and Saturday night)\nJune 27\, 2:00 PM – 4:30 PM\, LA Valley College Conference Room ACA 2505\nRSVP Here: https://docs.google.com/forms/d/e/1FAIpQLSf2sVLmBsZHUpIWofoChL-okHOm3CDtzsK0PDtEReK5oeq5PA/viewform\nJune 28\, 2:00 PM – 4:30 PM\, El Portal Theater\nRSVP Here: https://docs.google.com/forms/d/e/1FAIpQLSf2sVLmBsZHUpIWofoChL-okHOm3CDtzsK0PDtEReK5oeq5PA/viewform\nJune 28th\, 6:30 PM – 9:00 PM\, El Portal Theater\nRSVP Here: https://docs.google.com/forms/d/e/1FAIpQLSdeTegMPM15WlO3UTazCHuZdWJ1DdOb2awxiPgyDiDbzIZsbw/viewform
URL:https://nohowest.org/calendar/free-screening-die-like-a-man/2025-06-28/2/
CATEGORIES:Community Events
END:VEVENT
END:VCALENDAR