BEGIN:VCALENDAR
VERSION:2.0
PRODID:-//NoHowest.org - ECPv6.15.16//NONSGML v1.0//EN
CALSCALE:GREGORIAN
METHOD:PUBLISH
X-WR-CALNAME:NoHowest.org
X-ORIGINAL-URL:https://nohowest.org
X-WR-CALDESC:Events for NoHowest.org
REFRESH-INTERVAL;VALUE=DURATION:PT1H
X-Robots-Tag:noindex
X-PUBLISHED-TTL:PT1H
BEGIN:VTIMEZONE
TZID:America/Los_Angeles
BEGIN:DAYLIGHT
TZOFFSETFROM:-0800
TZOFFSETTO:-0700
TZNAME:PDT
DTSTART:20240310T100000
END:DAYLIGHT
BEGIN:STANDARD
TZOFFSETFROM:-0700
TZOFFSETTO:-0800
TZNAME:PST
DTSTART:20241103T090000
END:STANDARD
BEGIN:DAYLIGHT
TZOFFSETFROM:-0800
TZOFFSETTO:-0700
TZNAME:PDT
DTSTART:20250309T100000
END:DAYLIGHT
BEGIN:STANDARD
TZOFFSETFROM:-0700
TZOFFSETTO:-0800
TZNAME:PST
DTSTART:20251102T090000
END:STANDARD
BEGIN:DAYLIGHT
TZOFFSETFROM:-0800
TZOFFSETTO:-0700
TZNAME:PDT
DTSTART:20260308T100000
END:DAYLIGHT
BEGIN:STANDARD
TZOFFSETFROM:-0700
TZOFFSETTO:-0800
TZNAME:PST
DTSTART:20261101T090000
END:STANDARD
END:VTIMEZONE
BEGIN:VEVENT
DTSTART;TZID=America/Los_Angeles:20250701T180000
DTEND;TZID=America/Los_Angeles:20250701T193000
DTSTAMP:20260424T174519
CREATED:20250609T173340Z
LAST-MODIFIED:20250609T173340Z
UID:19512-1751392800-1751398200@nohowest.org
SUMMARY:Park Needs Assessment Community Meeting
DESCRIPTION:Join us for Phase 2 of the LA Park Needs Assessment! Let’s Keep the Conversation Going! \nThe City of Los Angeles Department of Recreation and Parks is continuing its Park Needs Assessment\, and we’re excited to invite you to the second round of Community Meetings. \nIn this next phase\, we’ll share what we have learned from your input so far and ask for your help in shaping the next steps. Whether you attended the first meetings or are joining us for the first time\, your voice is vital to creating parks that reflect the needs and priorities of Los Angeles residents. \nYour feedback will help to shape decisions that impact our parks and recreational spaces for generations to come. Invite your friends\, family\, and neighbors to join us in this important process! \nCommunity Meeting Details:\nEach meeting will include the same content\, so feel free to attend the meeting that best fits your schedule. \nWednesday\, June 18\, 2025\n• Time: 6:00pm – 8:00pm\n• Location: Sepulveda Recreation Center\, 8825 Kester Ave\, Panorama City\, CA 91402 \nTuesday\, July 1\, 2025\n• Time: 6:00pm – 7:30pm\n• Location: Virtual via Zoom – bit.ly/lapnavirtualmeeting0701 \nRSVP requested but not required. RSVP at bit.ly/EngageLAPNA \nAbout the Park Needs Assessment: \nThe City of Los Angeles Department of Recreation and Parks is conducting a Park Needs Assessment to better understand how we can improve and develop our parks to meet the needs of the residents of Los Angeles. It will guide future investment in park infrastructure and amenities that is reflective of the diverse cultures and communities of Los Angeles and its projected population growth.  The Park Needs Assessment process will include many opportunities for the community to participate and engage through community meetings\, pop-ups\, key group meetings\, equity focused events and more! To learn more about the process\, visit the Park Needs Assessment website at bit.ly/LACityParksNeeds.
URL:https://nohowest.org/calendar/park-needs-assessment-community-meeting/2025-07-01/
CATEGORIES:Community Events
END:VEVENT
BEGIN:VEVENT
DTSTART;TZID=America/Los_Angeles:20250701T190000
DTEND;TZID=America/Los_Angeles:20250701T200000
DTSTAMP:20260424T174519
CREATED:20250630T212335Z
LAST-MODIFIED:20250630T212335Z
UID:19546-1751396400-1751400000@nohowest.org
SUMMARY:Immigrant Rights Virtual Clinic
DESCRIPTION:In times like these\, knowing your rights isn’t just important — it’s essential. That’s why we’re bringing together trusted community advocates and leaders from every level of government for a Know Your Rights Clinic you won’t want to miss. \nTuesday\, July 1\, 2025 \n7:00 to 8:00 PM \nVia Zoom: RSVP to receive link. \nWe’re proud to partner with Coalition for Humane Immigrant Rights (CHIRLA) and welcome this distinguished lineup of speakers and public servants: \nU.S. Representative Luz Rivas\nState Senator Caroline Menjivar\nState Assemblymember Celeste Rodriguez\nCity Councilmember Adrin Nazarian\nCity Councilmember Imelda Padilla\nCity Councilmember Monica Rodriguez \nTogether\, we’ll address your legal rights in interactions with law enforcement and immigration officials (e.g.\, ICE\, DHS\, Border Patrol)\, how to protect your family\, and what resources are available to support you and your neighbors. \nWhether you’re joining out of concern for yourself and your family\, or to help protect your community\, this clinic will leave you informed\, empowered\, and ready to take action. \nRSVP now to reserve your spot and receive the Zoom link
URL:https://nohowest.org/calendar/immigrant-rights-virtual-clinic/
CATEGORIES:Community Events
END:VEVENT
BEGIN:VEVENT
DTSTART;TZID=America/Los_Angeles:20250726T190000
DTEND;TZID=America/Los_Angeles:20250726T213000
DTSTAMP:20260424T174519
CREATED:20250709T145849Z
LAST-MODIFIED:20250709T150129Z
UID:19568-1753556400-1753565400@nohowest.org
SUMMARY:NoHo Summer Nights Jelly Soul
DESCRIPTION:JELLY SOUL – The Jelly Roll Experience with Emerging Artist Julie Lyons
URL:https://nohowest.org/calendar/noho-summer-nights-3/
LOCATION:North Hollywood Park
CATEGORIES:Community Events
GEO:34.1649059;-118.3789878
END:VEVENT
BEGIN:VEVENT
DTSTART;TZID=America/Los_Angeles:20250731T180000
DTEND;TZID=America/Los_Angeles:20250731T193000
DTSTAMP:20260424T174520
CREATED:20250712T020320Z
LAST-MODIFIED:20250712T020320Z
UID:19598-1753984800-1753990200@nohowest.org
SUMMARY:Backpack Giveaway
DESCRIPTION:
URL:https://nohowest.org/calendar/backpack-giveaway/
LOCATION:Valley Plaza Recreation Center\, 12240 Archwood St.\,\, North Hollywood\, CA\, 91606\, United States
CATEGORIES:Community Events
GEO:34.1920199;-118.4002565
X-APPLE-STRUCTURED-LOCATION;VALUE=URI;X-ADDRESS=Valley Plaza Recreation Center 12240 Archwood St. North Hollywood CA 91606 United States;X-APPLE-RADIUS=500;X-TITLE=12240 Archwood St.\,:geo:-118.4002565,34.1920199
END:VEVENT
END:VCALENDAR