BEGIN:VCALENDAR
VERSION:2.0
PRODID:-//NoHowest.org - ECPv6.15.16//NONSGML v1.0//EN
CALSCALE:GREGORIAN
METHOD:PUBLISH
X-WR-CALNAME:NoHowest.org
X-ORIGINAL-URL:https://nohowest.org
X-WR-CALDESC:Events for NoHowest.org
REFRESH-INTERVAL;VALUE=DURATION:PT1H
X-Robots-Tag:noindex
X-PUBLISHED-TTL:PT1H
BEGIN:VTIMEZONE
TZID:America/Los_Angeles
BEGIN:DAYLIGHT
TZOFFSETFROM:-0800
TZOFFSETTO:-0700
TZNAME:PDT
DTSTART:20240310T100000
END:DAYLIGHT
BEGIN:STANDARD
TZOFFSETFROM:-0700
TZOFFSETTO:-0800
TZNAME:PST
DTSTART:20241103T090000
END:STANDARD
BEGIN:DAYLIGHT
TZOFFSETFROM:-0800
TZOFFSETTO:-0700
TZNAME:PDT
DTSTART:20250309T100000
END:DAYLIGHT
BEGIN:STANDARD
TZOFFSETFROM:-0700
TZOFFSETTO:-0800
TZNAME:PST
DTSTART:20251102T090000
END:STANDARD
BEGIN:DAYLIGHT
TZOFFSETFROM:-0800
TZOFFSETTO:-0700
TZNAME:PDT
DTSTART:20260308T100000
END:DAYLIGHT
BEGIN:STANDARD
TZOFFSETFROM:-0700
TZOFFSETTO:-0800
TZNAME:PST
DTSTART:20261101T090000
END:STANDARD
END:VTIMEZONE
BEGIN:VEVENT
DTSTART;TZID=America/Los_Angeles:20250802T190000
DTEND;TZID=America/Los_Angeles:20250802T213000
DTSTAMP:20260424T161211
CREATED:20250709T150054Z
LAST-MODIFIED:20250709T150054Z
UID:19571-1754161200-1754170200@nohowest.org
SUMMARY:NoHo Summer Nights: Rolling Stones Tribute
DESCRIPTION:START ME UP – The Rolling Stones Tribute with Emerging Artist Tonight’s Sunshine
URL:https://nohowest.org/calendar/noho-summer-nights-rolling-stones-tribute/
LOCATION:North Hollywood Park
CATEGORIES:Community Events
GEO:34.1649059;-118.3789878
END:VEVENT
BEGIN:VEVENT
DTSTART;TZID=America/Los_Angeles:20250807T140000
DTEND;TZID=America/Los_Angeles:20250807T150000
DTSTAMP:20260424T161211
CREATED:20250712T020040Z
LAST-MODIFIED:20250712T020040Z
UID:19596-1754575200-1754578800@nohowest.org
SUMMARY:Green Dragon Hearing
DESCRIPTION:This is a licensed cannabis retail business operating in full compliance of all local cannabis laws and soon to be licensed with the state. \nThe City of Los Angeles\, Department of Cannabis Regulation is currently providing annual licenses for the cannabis retail businesses in Los Angeles. It is a requirement that the Neighborhood Council be informed of the community meeting and the commission meeting dates of retail businesses in their neighborhood\, and offer to attend a meeting. Green Dragon Caregivers\, Inc DBA Green Dragon located at 7245 FULTON AVE NORTH HOLLYWOOD\, CA 91605 would like to make itself available at your neighborhood council meeting if you or your members desire to ask any questions to the licensee. \nGreen Dragon is requesting Neighborhood Council approval of their annual license. \nThe hearing for the business is set forth below. Green Dragon was previously approved for an annual license at its current location located at 7236 Varna. Because it has relocated around the corner at 7245 Fulton\, the Commission is required to approve the new location and the Varna location will be closed. However\, the operator and operations of the business will remain the same. \n\n\n\nCRC Meeting Date and Time: \nThursday\, August 7\, 2025 at 2:00pm.\n\n\nCRC Location:\nLos Angeles City Council Chambers \n200 North Spring Street\, Room 340\nLos Angeles\, CA 90012
URL:https://nohowest.org/calendar/green-dragon-hearing/
CATEGORIES:Community Events
END:VEVENT
BEGIN:VEVENT
DTSTART;TZID=America/Los_Angeles:20250809T190000
DTEND;TZID=America/Los_Angeles:20250809T213000
DTSTAMP:20260424T161211
CREATED:20250709T150311Z
LAST-MODIFIED:20250709T150311Z
UID:19575-1754766000-1754775000@nohowest.org
SUMMARY:NoHo Summer Nights: DJ Sal Roses
DESCRIPTION:Rapper-Songwriter DJ SAL ROSES
URL:https://nohowest.org/calendar/noho-summer-nights-dj-sal-roses/
CATEGORIES:Community Events
END:VEVENT
BEGIN:VEVENT
DTSTART;TZID=America/Los_Angeles:20250816T190000
DTEND;TZID=America/Los_Angeles:20250816T213000
DTSTAMP:20260424T161211
CREATED:20250709T150450Z
LAST-MODIFIED:20250709T150450Z
UID:19578-1755370800-1755379800@nohowest.org
SUMMARY:NoHo Summer Nights: Britney Spears Tribute
DESCRIPTION:IT’S BRITNEY BEEP – Britney Spears Tribute with Emerging Artist Dogs Forever
URL:https://nohowest.org/calendar/noho-summer-nights-britney-spears-tribute/
LOCATION:North Hollywood Park
CATEGORIES:Community Events
GEO:34.1649059;-118.3789878
END:VEVENT
BEGIN:VEVENT
DTSTART;TZID=America/Los_Angeles:20250823T090000
DTEND;TZID=America/Los_Angeles:20250823T113000
DTSTAMP:20260424T161211
CREATED:20250609T173633Z
LAST-MODIFIED:20250812T223958Z
UID:19514-1755939600-1755948600@nohowest.org
SUMMARY:Community Pancake Breakfast
DESCRIPTION:On behalf of the 818 Week Coalition\, it is our pleasure to invite you to “Saluting Our Firefighting Heroes: Breakfast with the Brave”\, a free community pancake breakfast honoring the Los Angeles Fire Department heroes who protected the San Fernando Valley during the January 2025 firestorms.\n\nThe January 2025 Firestorm: A City Tested; The Valley Protected!\n\nOn January 7\, 2025\, Los Angeles was gripped by a sudden and destructive firestorm driven by intense winds and dangerously dry conditions. On January 10\, Multiple fast-moving blazes ignited and evacuation orders surged in the San Fernando Valley as flames set fire to ridgelines and threatened Valley lives\, homes\, and businesses. As the fires neared the heart of our Valley\, threatening the vital intersection of the 101 and 405 freeways\, our firefighters sprang into action with unmatched courage. Six LAFD helicopters worked tirelessly through the night\, drawing water from the Encino Reservoir to battle the flames. Their bravery\, precision\, and relentless efforts turned the tide\, safeguarding lives\, businesses\, homes\, and essential infrastructure\, including the major transportation corridors. No structures were reported destroyed in the Hurst Fire near Sylmar.\n\nEvent Details\nDate: Saturday\, August 23\, 2025\nTime: 9:00 AM – 11:30 AM\nLocation: LAFD Station 39\, 14615 Oxnard Street\, Van Nuys\, CA 91401\n\nThis family-friendly gathering will bring together first responders\, community leaders\, local families\, and business and nonprofit partners for a morning of gratitude\, resource sharing\, and celebration.
URL:https://nohowest.org/calendar/community-pancake-breakfast/
LOCATION:LAFD 39\, 14615 Oxnard St.\, Van Nuys\, 91401
CATEGORIES:Community Events
GEO:34.179718;-118.4512376
X-APPLE-STRUCTURED-LOCATION;VALUE=URI;X-ADDRESS=LAFD 39 14615 Oxnard St. Van Nuys 91401;X-APPLE-RADIUS=500;X-TITLE=14615 Oxnard St.:geo:-118.4512376,34.179718
END:VEVENT
BEGIN:VEVENT
DTSTART;TZID=America/Los_Angeles:20250824T110000
DTEND;TZID=America/Los_Angeles:20250824T130000
DTSTAMP:20260424T161211
CREATED:20250818T184837Z
LAST-MODIFIED:20250818T184837Z
UID:19660-1756033200-1756040400@nohowest.org
SUMMARY:Self Defense Clinic
DESCRIPTION:Councilmember Nazarian invites you to a FREE self-defense clinic at Valley Plaza Recreation Center in North Hollywood. \nSunday\, August 24\, 2025\n11:00 AM to 1:00 PM\nValley Plaza Recreation Center\n12240 Archwood Street\nNorth Hollywood\, CA 91606 \nLearn tips and tricks to help save your life\, and defensive techniques you’ll remember even if you panic. \nRSVP to register for this FREE workshop. Call 818 213 7783 for more information.
URL:https://nohowest.org/calendar/self-defense-clinic/
LOCATION:Valley Plaza Recreation Center\, 12240 Archwood St.\,\, North Hollywood\, CA\, 91606\, United States
CATEGORIES:Community Events
GEO:34.1920199;-118.4002565
X-APPLE-STRUCTURED-LOCATION;VALUE=URI;X-ADDRESS=Valley Plaza Recreation Center 12240 Archwood St. North Hollywood CA 91606 United States;X-APPLE-RADIUS=500;X-TITLE=12240 Archwood St.\,:geo:-118.4002565,34.1920199
END:VEVENT
END:VCALENDAR