BEGIN:VCALENDAR
VERSION:2.0
PRODID:-//NoHowest.org - ECPv6.15.16//NONSGML v1.0//EN
CALSCALE:GREGORIAN
METHOD:PUBLISH
X-ORIGINAL-URL:https://nohowest.org
X-WR-CALDESC:Events for NoHowest.org
REFRESH-INTERVAL;VALUE=DURATION:PT1H
X-Robots-Tag:noindex
X-PUBLISHED-TTL:PT1H
BEGIN:VTIMEZONE
TZID:America/Los_Angeles
BEGIN:DAYLIGHT
TZOFFSETFROM:-0800
TZOFFSETTO:-0700
TZNAME:PDT
DTSTART:20240310T100000
END:DAYLIGHT
BEGIN:STANDARD
TZOFFSETFROM:-0700
TZOFFSETTO:-0800
TZNAME:PST
DTSTART:20241103T090000
END:STANDARD
BEGIN:DAYLIGHT
TZOFFSETFROM:-0800
TZOFFSETTO:-0700
TZNAME:PDT
DTSTART:20250309T100000
END:DAYLIGHT
BEGIN:STANDARD
TZOFFSETFROM:-0700
TZOFFSETTO:-0800
TZNAME:PST
DTSTART:20251102T090000
END:STANDARD
BEGIN:DAYLIGHT
TZOFFSETFROM:-0800
TZOFFSETTO:-0700
TZNAME:PDT
DTSTART:20260308T100000
END:DAYLIGHT
BEGIN:STANDARD
TZOFFSETFROM:-0700
TZOFFSETTO:-0800
TZNAME:PST
DTSTART:20261101T090000
END:STANDARD
END:VTIMEZONE
BEGIN:VEVENT
DTSTART;TZID=America/Los_Angeles:20250906T090000
DTEND;TZID=America/Los_Angeles:20250906T120000
DTSTAMP:20260424T143813
CREATED:20250905T173239Z
LAST-MODIFIED:20250905T175837Z
UID:19676-1757149200-1757160000@nohowest.org
SUMMARY:Citizen Workshop
DESCRIPTION:Saturday\, September 6\, 9:00 AM – 12:00 PM | In-Person San Fernando Valley Clinic\nRSVP Required: bit.ly/talleresconSALEF
URL:https://nohowest.org/calendar/citizen-workshop-3/
CATEGORIES:Community Events
END:VEVENT
BEGIN:VEVENT
DTSTART;TZID=America/Los_Angeles:20250909T180000
DTEND;TZID=America/Los_Angeles:20250909T193000
DTSTAMP:20260424T143813
CREATED:20250905T173657Z
LAST-MODIFIED:20250905T180633Z
UID:19682-1757440800-1757446200@nohowest.org
SUMMARY:Park Needs Assessment Meeting
DESCRIPTION:Los Angeles parks have been ranked 90th out of 100 by the Trust for Public Land. And you can do something about it. The city is conducting a needs assessment and has a draft for your review and meetings to review a proposed plan and take your comments. \nSeptember 9\nGeneral Virtual Community Meeting and Q&A\nOur general virtual community meeting will include a presentation and interactive Q+A session via Zoom.\n6:00–7:30p\nVia Zoom \nSeptember 10\nTopical Virtual Meeting – Budgets\, Cost Estimates\, and Decision Making\nOur deep-dive virtual meetings will include more specific discussions on various topics pertaining to LA Recreation and Parks via Zoom.\n6:00–7:30p\nVia Zoom \nSeptember 11\nTopical Virtual Meeting – Budgets\, Cost Estimates\, and Decision Making\nOur deep-dive virtual meetings will include more specific discussions on various topics pertaining to LA Recreation and Parks via Zoom.\n6:00–7:30p\nVia Zoom \nSeptember 18\nTopical Virtual Meeting – Budgets\, Cost Estimates\, and Decision Making\nOur deep-dive virtual meetings will include more specific discussions on various topics pertaining to LA Recreation and Parks via Zoom.\n6:00–7:30p\nVia Zoom
URL:https://nohowest.org/calendar/park-needs-assessment-meeting-2/2025-09-09/
CATEGORIES:Community Events
END:VEVENT
BEGIN:VEVENT
DTSTART;TZID=America/Los_Angeles:20250910T180000
DTEND;TZID=America/Los_Angeles:20250910T193000
DTSTAMP:20260424T143813
CREATED:20250905T173657Z
LAST-MODIFIED:20250905T180633Z
UID:19684-1757527200-1757532600@nohowest.org
SUMMARY:Park Needs Assessment Meeting
DESCRIPTION:Los Angeles parks have been ranked 90th out of 100 by the Trust for Public Land. And you can do something about it. The city is conducting a needs assessment and has a draft for your review and meetings to review a proposed plan and take your comments. \nSeptember 9\nGeneral Virtual Community Meeting and Q&A\nOur general virtual community meeting will include a presentation and interactive Q+A session via Zoom.\n6:00–7:30p\nVia Zoom \nSeptember 10\nTopical Virtual Meeting – Budgets\, Cost Estimates\, and Decision Making\nOur deep-dive virtual meetings will include more specific discussions on various topics pertaining to LA Recreation and Parks via Zoom.\n6:00–7:30p\nVia Zoom \nSeptember 11\nTopical Virtual Meeting – Budgets\, Cost Estimates\, and Decision Making\nOur deep-dive virtual meetings will include more specific discussions on various topics pertaining to LA Recreation and Parks via Zoom.\n6:00–7:30p\nVia Zoom \nSeptember 18\nTopical Virtual Meeting – Budgets\, Cost Estimates\, and Decision Making\nOur deep-dive virtual meetings will include more specific discussions on various topics pertaining to LA Recreation and Parks via Zoom.\n6:00–7:30p\nVia Zoom
URL:https://nohowest.org/calendar/park-needs-assessment-meeting-2/2025-09-10/
CATEGORIES:Community Events
END:VEVENT
BEGIN:VEVENT
DTSTART;TZID=America/Los_Angeles:20250911T180000
DTEND;TZID=America/Los_Angeles:20250911T193000
DTSTAMP:20260424T143813
CREATED:20250905T173657Z
LAST-MODIFIED:20250905T180633Z
UID:19685-1757613600-1757619000@nohowest.org
SUMMARY:Park Needs Assessment Meeting
DESCRIPTION:Los Angeles parks have been ranked 90th out of 100 by the Trust for Public Land. And you can do something about it. The city is conducting a needs assessment and has a draft for your review and meetings to review a proposed plan and take your comments. \nSeptember 9\nGeneral Virtual Community Meeting and Q&A\nOur general virtual community meeting will include a presentation and interactive Q+A session via Zoom.\n6:00–7:30p\nVia Zoom \nSeptember 10\nTopical Virtual Meeting – Budgets\, Cost Estimates\, and Decision Making\nOur deep-dive virtual meetings will include more specific discussions on various topics pertaining to LA Recreation and Parks via Zoom.\n6:00–7:30p\nVia Zoom \nSeptember 11\nTopical Virtual Meeting – Budgets\, Cost Estimates\, and Decision Making\nOur deep-dive virtual meetings will include more specific discussions on various topics pertaining to LA Recreation and Parks via Zoom.\n6:00–7:30p\nVia Zoom \nSeptember 18\nTopical Virtual Meeting – Budgets\, Cost Estimates\, and Decision Making\nOur deep-dive virtual meetings will include more specific discussions on various topics pertaining to LA Recreation and Parks via Zoom.\n6:00–7:30p\nVia Zoom
URL:https://nohowest.org/calendar/park-needs-assessment-meeting-2/2025-09-11/
CATEGORIES:Community Events
END:VEVENT
BEGIN:VEVENT
DTSTART;TZID=America/Los_Angeles:20250913T090000
DTEND;TZID=America/Los_Angeles:20250913T123000
DTSTAMP:20260424T143813
CREATED:20250905T173321Z
LAST-MODIFIED:20250905T173321Z
UID:19680-1757754000-1757766600@nohowest.org
SUMMARY:Metro Youth Summit
DESCRIPTION:Metro Youth Summit: Youth Elevating Transit for the World Stage 🌍🚇 \nKnow a young person passionate about transportation\, equity\, or the future of Los Angeles? Invite them to be part of the 2025 Metro Youth Summit—an event by youth\, for youth! \nSaturday\, September 13\, 2025\n🕘 9:00 AM\n📍 LA Union Station Ticketing Concourse\n800 N Alameda St\, Los Angeles\, CA 90012 \nHosted by the Metro Youth Council\, this high-energy summit will include:\n🎶 DJ + 360 Photo Booth\n🎤 Youth-led discussions\n🎁 Food\, prizes\, and volunteer hours\n🌎 Theme: Youth Elevating Transit for the World Stage \nHelp spread the word and encourage youth across CD6 to register and be part of the conversation that will shape the future of transit. \n🔗 Register here\n📧 For more info: metroyouthcouncil@metro.net
URL:https://nohowest.org/calendar/metro-youth-summit/
CATEGORIES:Community Events
END:VEVENT
BEGIN:VEVENT
DTSTART;TZID=America/Los_Angeles:20250918T180000
DTEND;TZID=America/Los_Angeles:20250918T193000
DTSTAMP:20260424T143813
CREATED:20250905T173657Z
LAST-MODIFIED:20250905T180633Z
UID:19686-1758218400-1758223800@nohowest.org
SUMMARY:Park Needs Assessment Meeting
DESCRIPTION:Los Angeles parks have been ranked 90th out of 100 by the Trust for Public Land. And you can do something about it. The city is conducting a needs assessment and has a draft for your review and meetings to review a proposed plan and take your comments. \nSeptember 9\nGeneral Virtual Community Meeting and Q&A\nOur general virtual community meeting will include a presentation and interactive Q+A session via Zoom.\n6:00–7:30p\nVia Zoom \nSeptember 10\nTopical Virtual Meeting – Budgets\, Cost Estimates\, and Decision Making\nOur deep-dive virtual meetings will include more specific discussions on various topics pertaining to LA Recreation and Parks via Zoom.\n6:00–7:30p\nVia Zoom \nSeptember 11\nTopical Virtual Meeting – Budgets\, Cost Estimates\, and Decision Making\nOur deep-dive virtual meetings will include more specific discussions on various topics pertaining to LA Recreation and Parks via Zoom.\n6:00–7:30p\nVia Zoom \nSeptember 18\nTopical Virtual Meeting – Budgets\, Cost Estimates\, and Decision Making\nOur deep-dive virtual meetings will include more specific discussions on various topics pertaining to LA Recreation and Parks via Zoom.\n6:00–7:30p\nVia Zoom
URL:https://nohowest.org/calendar/park-needs-assessment-meeting-2/2025-09-18/
CATEGORIES:Community Events
END:VEVENT
BEGIN:VEVENT
DTSTART;TZID=America/Los_Angeles:20250920T090000
DTEND;TZID=America/Los_Angeles:20250920T120000
DTSTAMP:20260424T143813
CREATED:20250912T171150Z
LAST-MODIFIED:20250912T171150Z
UID:19706-1758358800-1758369600@nohowest.org
SUMMARY:CD2 Lung Day
DESCRIPTION:
URL:https://nohowest.org/calendar/cd2-lung-day/
LOCATION:Our Lady of the Holy Rosary Church\, 7800 Vineland AVe\, North Hollywood
CATEGORIES:Community Events
GEO:34.2125235;-118.3699128
X-APPLE-STRUCTURED-LOCATION;VALUE=URI;X-ADDRESS=Our Lady of the Holy Rosary Church 7800 Vineland AVe North Hollywood;X-APPLE-RADIUS=500;X-TITLE=7800 Vineland AVe:geo:-118.3699128,34.2125235
END:VEVENT
BEGIN:VEVENT
DTSTART;TZID=America/Los_Angeles:20250927T080000
DTEND;TZID=America/Los_Angeles:20250927T170000
DTSTAMP:20260424T143813
CREATED:20250818T185015Z
LAST-MODIFIED:20250818T185015Z
UID:19663-1758960000-1758992400@nohowest.org
SUMMARY:Congress of Neighborhoods
DESCRIPTION:Registration is Now Open 🎉 \nJoin hundreds of your fellow NC members for: \n\n20+ workshops on leadership\, advocacy\, and community-building\n30 exhibitors with valuable resources\nOpportunities to meet with city leaders and fellow advocates\nComplimentary lunch and networking opportunities\n\nWhen: Saturday\, September 27\, 2025 from 8 am – 5 pm\nWhere: Los Angeles City Hall\nCost: Free and open to all
URL:https://nohowest.org/calendar/congress-of-neighborhoods-10/
LOCATION:City Hall
CATEGORIES:Community Events
GEO:34.0537126;-118.2428145
END:VEVENT
BEGIN:VEVENT
DTSTART;TZID=America/Los_Angeles:20250927T083000
DTEND;TZID=America/Los_Angeles:20250927T120000
DTSTAMP:20260424T143813
CREATED:20250912T171750Z
LAST-MODIFIED:20250912T175026Z
UID:19710-1758961800-1758974400@nohowest.org
SUMMARY:Shine LA
DESCRIPTION:Local opportunities include: \n1) SHINE LA (HOPE THE MISSION)- (9:00AM-11:30AM) 16641 Roscoe Pl. North Hills\, CA 91343; Participate in preparing meals for formerly unhoused individuals.\n2) Beautify North Hollywood Park- (8:30AM-11:30AM) 11430 Chandler Blvd. North Hollywood\, CA 91601; Litter removal\, and other activities aimed at revitalizing the area.\nhttps://mayor.lacity.gov/ShineLA
URL:https://nohowest.org/calendar/shine-la/
CATEGORIES:Community Events
END:VEVENT
END:VCALENDAR