BEGIN:VCALENDAR
VERSION:2.0
PRODID:-//NoHowest.org - ECPv6.15.16//NONSGML v1.0//EN
CALSCALE:GREGORIAN
METHOD:PUBLISH
X-WR-CALNAME:NoHowest.org
X-ORIGINAL-URL:https://nohowest.org
X-WR-CALDESC:Events for NoHowest.org
REFRESH-INTERVAL;VALUE=DURATION:PT1H
X-Robots-Tag:noindex
X-PUBLISHED-TTL:PT1H
BEGIN:VTIMEZONE
TZID:America/Los_Angeles
BEGIN:DAYLIGHT
TZOFFSETFROM:-0800
TZOFFSETTO:-0700
TZNAME:PDT
DTSTART:20240310T100000
END:DAYLIGHT
BEGIN:STANDARD
TZOFFSETFROM:-0700
TZOFFSETTO:-0800
TZNAME:PST
DTSTART:20241103T090000
END:STANDARD
BEGIN:DAYLIGHT
TZOFFSETFROM:-0800
TZOFFSETTO:-0700
TZNAME:PDT
DTSTART:20250309T100000
END:DAYLIGHT
BEGIN:STANDARD
TZOFFSETFROM:-0700
TZOFFSETTO:-0800
TZNAME:PST
DTSTART:20251102T090000
END:STANDARD
BEGIN:DAYLIGHT
TZOFFSETFROM:-0800
TZOFFSETTO:-0700
TZNAME:PDT
DTSTART:20260308T100000
END:DAYLIGHT
BEGIN:STANDARD
TZOFFSETFROM:-0700
TZOFFSETTO:-0800
TZNAME:PST
DTSTART:20261101T090000
END:STANDARD
END:VTIMEZONE
BEGIN:VEVENT
DTSTART;TZID=America/Los_Angeles:20251006T180000
DTEND;TZID=America/Los_Angeles:20251006T200000
DTSTAMP:20260424T125345
CREATED:20251002T220438Z
LAST-MODIFIED:20251002T220438Z
UID:19737-1759773600-1759780800@nohowest.org
SUMMARY:Self Defense Clinic
DESCRIPTION:Monday\, October 6th\, 2025 \n6:00 pm – 8:00 pm\nLive at\nLA Valley College\nMonarch Hall\n5800 Fulton Ave\, Valley Glen\, CA 91401 \nDemonstration developed and taught by 5th Degree Black Belt\, Jean Morrison\, with over 3 decades of teaching self-defense techniques that work when under attack.\nYou will learn: \nThe 2 Most Important Tools for Self-Defense \nDefensive Techniques You’ll Remember Even If You Panic \n5 High Impact Target Areas \nBonus Tips and Tricks to Help Save Your Life
URL:https://nohowest.org/calendar/self-defense-clinic-2/
LOCATION:LA Valley College\, 5800 Fulton Ave\, Valley Glen\, 91401
CATEGORIES:Community Events
GEO:34.1757062;-118.4201438
X-APPLE-STRUCTURED-LOCATION;VALUE=URI;X-ADDRESS=LA Valley College 5800 Fulton Ave Valley Glen 91401;X-APPLE-RADIUS=500;X-TITLE=5800 Fulton Ave:geo:-118.4201438,34.1757062
END:VEVENT
BEGIN:VEVENT
DTSTART;TZID=America/Los_Angeles:20251008T160000
DTEND;TZID=America/Los_Angeles:20251008T180000
DTSTAMP:20260424T125345
CREATED:20251007T174605Z
LAST-MODIFIED:20251007T174605Z
UID:19748-1759939200-1759946400@nohowest.org
SUMMARY:The Officials Screening & Panel Discussion
DESCRIPTION:LWV Watch Party October 8\, 2025\, 4:00pm PT \nJoin our (free) LWV zoom watch party for The Officials(released by Time Magazine)\, a 26- minute documentary short on the challenges election officials encounter on Wednesday the 8th at 4-5PM PT. The screening and panel discussion is open to League members and the public. Share with your friends and colleagues. \nWe’re watching the film together(with the directors of the film)\, then Adam Ambrogi will moderate a panel with New Mexico Secretary of State Maggie Toulouse Oliver\, our own Jeanette Senecal Chief of Civic Learning & Impact\, and featured local election officials from the film\, Tonya Wichman(OH)\, Janice Winfrey(MI)\, and Daniel Baxter(MI). \nWith the League taking over management of Election Hero Day\, our awareness and support of election officials is so important. The film contains local election officials who are bipartisan\, and the framework is nonpartisan (although it may show some ideological threats around election officials\, based on mis and disinformation). \nFollowing the film\, we can give a link and toolkit for folks who want show the film in their communities\, or host their own panels on the topic (for free). \nHere’s the link for people to sign up LINK
URL:https://nohowest.org/calendar/the-officials-screening-panel-discussion/
CATEGORIES:Community Events
END:VEVENT
BEGIN:VEVENT
DTSTART;TZID=America/Los_Angeles:20251011T150000
DTEND;TZID=America/Los_Angeles:20251011T180000
DTSTAMP:20260424T125345
CREATED:20251002T221438Z
LAST-MODIFIED:20251002T221438Z
UID:19740-1760194800-1760205600@nohowest.org
SUMMARY:Fall Festival
DESCRIPTION:🍂 You’re invited! Join us for a FREE Fall Festival 🎃 on Saturday\, Oct. 11 from 3–6 PM at the North Hollywood Rec Center (11455 W. Magnolia Blvd).\nBring the family for kids’ activities\, pumpkin painting\, free tree gifts\, a claw machine\, dog adoptions\, and more! Plus\, enjoy live music featuring New Romantics: A Taylor Swift Tribute.\n👉 RSVP here: https://shorturl.at/HBELv
URL:https://nohowest.org/calendar/fall-festival/
LOCATION:North Hollywood Recreation Center\, 11430 Chandler Blvd\, North Hollywood
CATEGORIES:Community Events
GEO:34.1675946;-118.3799724
X-APPLE-STRUCTURED-LOCATION;VALUE=URI;X-ADDRESS=North Hollywood Recreation Center 11430 Chandler Blvd North Hollywood;X-APPLE-RADIUS=500;X-TITLE=11430 Chandler Blvd:geo:-118.3799724,34.1675946
END:VEVENT
BEGIN:VEVENT
DTSTART;TZID=America/Los_Angeles:20251014T180000
DTEND;TZID=America/Los_Angeles:20251014T200000
DTSTAMP:20260424T125345
CREATED:20251007T174100Z
LAST-MODIFIED:20251007T174100Z
UID:19745-1760464800-1760472000@nohowest.org
SUMMARY:Stormwater Capture at Whitsett Sports Center
DESCRIPTION:Hear about plans to 2 additional soccer fields at Whitsett Sports Park
URL:https://nohowest.org/calendar/stormwater-capture-at-whitsett-sports-center/
LOCATION:Valley Plaza Recreation Center\, 12240 Archwood St.\,\, North Hollywood\, CA\, 91606\, United States
CATEGORIES:Community Events
GEO:34.1920199;-118.4002565
X-APPLE-STRUCTURED-LOCATION;VALUE=URI;X-ADDRESS=Valley Plaza Recreation Center 12240 Archwood St. North Hollywood CA 91606 United States;X-APPLE-RADIUS=500;X-TITLE=12240 Archwood St.\,:geo:-118.4002565,34.1920199
END:VEVENT
BEGIN:VEVENT
DTSTART;TZID=America/Los_Angeles:20251024T170000
DTEND;TZID=America/Los_Angeles:20251024T190000
DTSTAMP:20260424T125345
CREATED:20251024T185102Z
LAST-MODIFIED:20251024T185102Z
UID:19755-1761325200-1761332400@nohowest.org
SUMMARY:Trunk or Treat
DESCRIPTION:
URL:https://nohowest.org/calendar/trunk-or-treat/
LOCATION:Van Nuys LAPD\, 6240 Sylmar Ave\, Van Nuys
CATEGORIES:Community Events
GEO:34.1832188;-118.4450601
X-APPLE-STRUCTURED-LOCATION;VALUE=URI;X-ADDRESS=Van Nuys LAPD 6240 Sylmar Ave Van Nuys;X-APPLE-RADIUS=500;X-TITLE=6240 Sylmar Ave:geo:-118.4450601,34.1832188
END:VEVENT
BEGIN:VEVENT
DTSTART;TZID=America/Los_Angeles:20251025T100000
DTEND;TZID=America/Los_Angeles:20251025T140000
DTSTAMP:20260424T125345
CREATED:20251024T185534Z
LAST-MODIFIED:20251024T185534Z
UID:19762-1761386400-1761400800@nohowest.org
SUMMARY:National Prescription Drug Take Back Day
DESCRIPTION:Get rid of your unwanted prescription drugs safely Saturday\, October 25\, 1am-2pm at Kaiser Panorama City
URL:https://nohowest.org/calendar/national-prescription-drug-take-back-day-2/
CATEGORIES:Community Events
END:VEVENT
BEGIN:VEVENT
DTSTART;TZID=America/Los_Angeles:20251031T160000
DTEND;TZID=America/Los_Angeles:20251031T200000
DTSTAMP:20260424T125345
CREATED:20251024T185246Z
LAST-MODIFIED:20251024T185246Z
UID:19759-1761926400-1761940800@nohowest.org
SUMMARY:Halloween Spooky Carnival
DESCRIPTION:
URL:https://nohowest.org/calendar/halloween-spooky-carnival/
LOCATION:North Hollywood Park
CATEGORIES:Community Events
GEO:34.1649059;-118.3789878
END:VEVENT
END:VCALENDAR