BEGIN:VCALENDAR
VERSION:2.0
PRODID:-//NoHowest.org - ECPv6.15.16//NONSGML v1.0//EN
CALSCALE:GREGORIAN
METHOD:PUBLISH
X-ORIGINAL-URL:https://nohowest.org
X-WR-CALDESC:Events for NoHowest.org
REFRESH-INTERVAL;VALUE=DURATION:PT1H
X-Robots-Tag:noindex
X-PUBLISHED-TTL:PT1H
BEGIN:VTIMEZONE
TZID:America/Los_Angeles
BEGIN:DAYLIGHT
TZOFFSETFROM:-0800
TZOFFSETTO:-0700
TZNAME:PDT
DTSTART:20240310T100000
END:DAYLIGHT
BEGIN:STANDARD
TZOFFSETFROM:-0700
TZOFFSETTO:-0800
TZNAME:PST
DTSTART:20241103T090000
END:STANDARD
BEGIN:DAYLIGHT
TZOFFSETFROM:-0800
TZOFFSETTO:-0700
TZNAME:PDT
DTSTART:20250309T100000
END:DAYLIGHT
BEGIN:STANDARD
TZOFFSETFROM:-0700
TZOFFSETTO:-0800
TZNAME:PST
DTSTART:20251102T090000
END:STANDARD
BEGIN:DAYLIGHT
TZOFFSETFROM:-0800
TZOFFSETTO:-0700
TZNAME:PDT
DTSTART:20260308T100000
END:DAYLIGHT
BEGIN:STANDARD
TZOFFSETFROM:-0700
TZOFFSETTO:-0800
TZNAME:PST
DTSTART:20261101T090000
END:STANDARD
END:VTIMEZONE
BEGIN:VEVENT
DTSTART;TZID=America/Los_Angeles:20251103T173000
DTEND;TZID=America/Los_Angeles:20251103T183000
DTSTAMP:20260424T110052
CREATED:20251103T185510Z
LAST-MODIFIED:20251103T185510Z
UID:19797-1762191000-1762194600@nohowest.org
SUMMARY:Mayor's Town Hall on Immigrant's Rights
DESCRIPTION:During this hour Zoom session\, Mayor Bass and other City and community leaders will provide you with the latest facts\, share important updates\, and most importantly\, take the time to answer your questions. \nPlease complete the registration form to submit any questions or comments in advance\, as well as to request language interpretation services. Your responses are essential in helping us ensure that everyone’s questions are addressed and that appropriate interpretation is provided for all who need it.
URL:https://nohowest.org/calendar/mayors-town-hall-on-immigrants-rights/
CATEGORIES:Community Events
END:VEVENT
BEGIN:VEVENT
DTSTART;TZID=America/Los_Angeles:20251105T110000
DTEND;TZID=America/Los_Angeles:20251105T120000
DTSTAMP:20260424T110052
CREATED:20251029T231827Z
LAST-MODIFIED:20251031T175532Z
UID:19789-1762340400-1762344000@nohowest.org
SUMMARY:LA 28 Procurement Workshop
DESCRIPTION:As part of our ongoing commitment to help small and local businesses access contracting opportunities for the 2028 Olympic and Paralympic Games\, we’re pleased to invite you to participate in our next Procurement Series Webinar. This session will provide a preview of our upcoming Procurement Plan and focus on opportunities in the Food and Beverage sector. \nDate: Wednesday\, November 5\, 2025\nTime: 11:00 AM – 12:00 PM PT\nLocation: Virtual (link provided upon registration)\nPlease register here to confirm your attendance.
URL:https://nohowest.org/calendar/la-28-procurement-workshop/
CATEGORIES:Community Events
END:VEVENT
BEGIN:VEVENT
DTSTART;TZID=America/Los_Angeles:20251122T100000
DTEND;TZID=America/Los_Angeles:20251122T120000
DTSTAMP:20260424T110052
CREATED:20251104T175426Z
LAST-MODIFIED:20251104T180053Z
UID:19800-1763805600-1763812800@nohowest.org
SUMMARY:Turkey Giveaway
DESCRIPTION:Saturday\, November 22 \n10:00 AM – 12:00 PM \nEast Valley Family YMCA \n5142 Tujunga Ave. \nNorth Hollywood\, CA 91601 \nTo reserve a Turkey\, click here \nSupplies are limited — first come\, first served!
URL:https://nohowest.org/calendar/turkey-giveaway/
LOCATION:East Valley Family YMCA\, 5142 Tujunga Ave.\, North Hollywood
CATEGORIES:Community Events
GEO:34.1641896;-118.378555
X-APPLE-STRUCTURED-LOCATION;VALUE=URI;X-ADDRESS=East Valley Family YMCA 5142 Tujunga Ave. North Hollywood;X-APPLE-RADIUS=500;X-TITLE=5142 Tujunga Ave.:geo:-118.378555,34.1641896
END:VEVENT
END:VCALENDAR