BEGIN:VCALENDAR
VERSION:2.0
PRODID:-//NoHowest.org - ECPv6.15.16//NONSGML v1.0//EN
CALSCALE:GREGORIAN
METHOD:PUBLISH
X-ORIGINAL-URL:https://nohowest.org
X-WR-CALDESC:Events for NoHowest.org
REFRESH-INTERVAL;VALUE=DURATION:PT1H
X-Robots-Tag:noindex
X-PUBLISHED-TTL:PT1H
BEGIN:VTIMEZONE
TZID:America/Los_Angeles
BEGIN:DAYLIGHT
TZOFFSETFROM:-0800
TZOFFSETTO:-0700
TZNAME:PDT
DTSTART:20220313T100000
END:DAYLIGHT
BEGIN:STANDARD
TZOFFSETFROM:-0700
TZOFFSETTO:-0800
TZNAME:PST
DTSTART:20221106T090000
END:STANDARD
BEGIN:DAYLIGHT
TZOFFSETFROM:-0800
TZOFFSETTO:-0700
TZNAME:PDT
DTSTART:20230312T100000
END:DAYLIGHT
BEGIN:STANDARD
TZOFFSETFROM:-0700
TZOFFSETTO:-0800
TZNAME:PST
DTSTART:20231105T090000
END:STANDARD
BEGIN:DAYLIGHT
TZOFFSETFROM:-0800
TZOFFSETTO:-0700
TZNAME:PDT
DTSTART:20240310T100000
END:DAYLIGHT
BEGIN:STANDARD
TZOFFSETFROM:-0700
TZOFFSETTO:-0800
TZNAME:PST
DTSTART:20241103T090000
END:STANDARD
END:VTIMEZONE
BEGIN:VEVENT
DTSTART;TZID=America/Los_Angeles:20230712T183000
DTEND;TZID=America/Los_Angeles:20230712T203000
DTSTAMP:20260425T182028
CREATED:20221110T211916Z
LAST-MODIFIED:20230707T204943Z
UID:13129-1689186600-1689193800@nohowest.org
SUMMARY:Board Meeting
DESCRIPTION:Join us for the next NoHo West Neighborhood Council Meeting Wednesday\, July 12\, 6:30pm at James Madison Middle School\, 13000 Hart St. Also available by Zoom: \nZoom Meeting Online or By Telephone\nhttps://us02web.zoom.us/j/85132000142\nDial 888-475-4499 to Join the Meeting\nThen Enter This Webinar ID:\n851 3200 0142 and Press # \nOn our agenda: \n\nAppoint new Board Members\nElect Officers\nPresentation by LAUSD School Board Member Kelly Gonez\n\nMeeting Documents: \n\nGeneral Board Meeting Agenda 7-12-23\nGeneral Board Meeting Minutes 5-10-23\nSpecial Board Meeting Minutes 5-22-23\nMay 2023 MER\nJune 2023 MER\nNCFP AdminPacket-AnnualBudget NoHoWest 2023-24\nGmail – Fwd HostGator – Payment Confirmation Notification\nNoHo West Online Outreach Proposal 2023-0705\nProposed NoHoWest NC Standing Rules FY2023-24\nNPG Valley Plaza Summer 2023
URL:https://nohowest.org/calendar/board-meeting-7-2023-07-12/
LOCATION:James Madison Middle School\, 13000 Hart St.\, North Hollywood\, 91605
CATEGORIES:General Board
GEO:34.196254;-118.4162646
X-APPLE-STRUCTURED-LOCATION;VALUE=URI;X-ADDRESS=James Madison Middle School 13000 Hart St. North Hollywood 91605;X-APPLE-RADIUS=500;X-TITLE=13000 Hart St.:geo:-118.4162646,34.196254
END:VEVENT
END:VCALENDAR