BEGIN:VCALENDAR
VERSION:2.0
PRODID:-//NoHowest.org - ECPv6.15.16//NONSGML v1.0//EN
CALSCALE:GREGORIAN
METHOD:PUBLISH
X-ORIGINAL-URL:https://nohowest.org
X-WR-CALDESC:Events for NoHowest.org
REFRESH-INTERVAL;VALUE=DURATION:PT1H
X-Robots-Tag:noindex
X-PUBLISHED-TTL:PT1H
BEGIN:VTIMEZONE
TZID:America/Los_Angeles
BEGIN:DAYLIGHT
TZOFFSETFROM:-0800
TZOFFSETTO:-0700
TZNAME:PDT
DTSTART:20220313T100000
END:DAYLIGHT
BEGIN:STANDARD
TZOFFSETFROM:-0700
TZOFFSETTO:-0800
TZNAME:PST
DTSTART:20221106T090000
END:STANDARD
BEGIN:DAYLIGHT
TZOFFSETFROM:-0800
TZOFFSETTO:-0700
TZNAME:PDT
DTSTART:20230312T100000
END:DAYLIGHT
BEGIN:STANDARD
TZOFFSETFROM:-0700
TZOFFSETTO:-0800
TZNAME:PST
DTSTART:20231105T090000
END:STANDARD
BEGIN:DAYLIGHT
TZOFFSETFROM:-0800
TZOFFSETTO:-0700
TZNAME:PDT
DTSTART:20240310T100000
END:DAYLIGHT
BEGIN:STANDARD
TZOFFSETFROM:-0700
TZOFFSETTO:-0800
TZNAME:PST
DTSTART:20241103T090000
END:STANDARD
END:VTIMEZONE
BEGIN:VEVENT
DTSTART;TZID=America/Los_Angeles:20230811T183000
DTEND;TZID=America/Los_Angeles:20230811T203000
DTSTAMP:20260425T165400
CREATED:20221110T211916Z
LAST-MODIFIED:20230810T170455Z
UID:13130-1691778600-1691785800@nohowest.org
SUMMARY:Board Meeting
DESCRIPTION:Join us for the next NoHoWest Neighborhood Council Meeting on August 11\, 6:30pm at Valley Plaza Recreation Center\, 12240 Archwood St. \nOn our agenda: \n\nAppoint new board members\nElect executive officers\n\nMeeting Documents: \n\nGeneral Board Meeting Agenda 8-11-23 v2\nNCFP AdminPacket-AnnualBudget NoHoWest 2023-24-1\nProposed NoHoWest NC Standing Rules FY2023-24-1\nGeneral Board Meeting Minutes 5-10-23\nSpecial Board Meeting Minutes 5-22-23-1\nMay 2023 MER-2\nJune 2023 MER-1\nJuly 2023 MER\nLADWP Signed – MOU – 02.22.2023\nNCFP107NPGApplicationrev3 LAP NoHo West-1\nNoHoWest 2023 0701-1\nNoHo West Online Outreach Proposal 2023-0705-1
URL:https://nohowest.org/calendar/board-meeting-7-2023-08-09/
CATEGORIES:General Board
END:VEVENT
END:VCALENDAR