BEGIN:VCALENDAR
VERSION:2.0
PRODID:-//NoHowest.org - ECPv6.15.16//NONSGML v1.0//EN
CALSCALE:GREGORIAN
METHOD:PUBLISH
X-ORIGINAL-URL:https://nohowest.org
X-WR-CALDESC:Events for NoHowest.org
REFRESH-INTERVAL;VALUE=DURATION:PT1H
X-Robots-Tag:noindex
X-PUBLISHED-TTL:PT1H
BEGIN:VTIMEZONE
TZID:America/Los_Angeles
BEGIN:DAYLIGHT
TZOFFSETFROM:-0800
TZOFFSETTO:-0700
TZNAME:PDT
DTSTART:20230312T100000
END:DAYLIGHT
BEGIN:STANDARD
TZOFFSETFROM:-0700
TZOFFSETTO:-0800
TZNAME:PST
DTSTART:20231105T090000
END:STANDARD
BEGIN:DAYLIGHT
TZOFFSETFROM:-0800
TZOFFSETTO:-0700
TZNAME:PDT
DTSTART:20240310T100000
END:DAYLIGHT
BEGIN:STANDARD
TZOFFSETFROM:-0700
TZOFFSETTO:-0800
TZNAME:PST
DTSTART:20241103T090000
END:STANDARD
BEGIN:DAYLIGHT
TZOFFSETFROM:-0800
TZOFFSETTO:-0700
TZNAME:PDT
DTSTART:20250309T100000
END:DAYLIGHT
BEGIN:STANDARD
TZOFFSETFROM:-0700
TZOFFSETTO:-0800
TZNAME:PST
DTSTART:20251102T090000
END:STANDARD
END:VTIMEZONE
BEGIN:VEVENT
DTSTART;TZID=America/Los_Angeles:20240110T183000
DTEND;TZID=America/Los_Angeles:20240110T203000
DTSTAMP:20260425T080626
CREATED:20231121T223048Z
LAST-MODIFIED:20231208T192635Z
UID:16870-1704911400-1704918600@nohowest.org
SUMMARY:Board Meeting-Cancelled
DESCRIPTION:
URL:https://nohowest.org/calendar/board-meeting-8/
LOCATION:James Madison Middle School\, 13000 Hart St.\, North Hollywood\, 91605
CATEGORIES:General Board
GEO:34.196254;-118.4162646
X-APPLE-STRUCTURED-LOCATION;VALUE=URI;X-ADDRESS=James Madison Middle School 13000 Hart St. North Hollywood 91605;X-APPLE-RADIUS=500;X-TITLE=13000 Hart St.:geo:-118.4162646,34.196254
END:VEVENT
BEGIN:VEVENT
DTSTART;TZID=America/Los_Angeles:20240125T183000
DTEND;TZID=America/Los_Angeles:20240125T203000
DTSTAMP:20260425T080626
CREATED:20240123T212056Z
LAST-MODIFIED:20240125T184506Z
UID:17666-1706207400-1706214600@nohowest.org
SUMMARY:Special Board Meeting
DESCRIPTION:Join us online for a Special Meeting of No Ho West Neighborhood Council on Thursday\, January 25\, 6:30pm on Zoom. \nOn our agenda: \n\n7528 Bellaire Ave: 9 townhouse style apartments and self storage.\nWhitsett Slope fence\n\nMeeting Materials: \n\nNoHo West NC General Board Meeting Agenda 01-25-24\nNorth Hollywood West – December 2023 MER\nNoHo West General Board Meeting Minutes 12-13-23\nTesla N. Hollywood Outreach Presentation\n7528 Bellaire – PPT Presentation 20240111-1\n\nZoom meeting Online or By Telephone\nhttps://us02web.zoom.us/j/89103353348\nDial 888-475-4499 to Join the Meeting\nThen enter This Webinar ID:\n891 0335 3348 and Press #
URL:https://nohowest.org/calendar/special-board-meeting-6/
CATEGORIES:General Board
END:VEVENT
END:VCALENDAR