BEGIN:VCALENDAR
VERSION:2.0
PRODID:-//NoHowest.org - ECPv6.15.16//NONSGML v1.0//EN
CALSCALE:GREGORIAN
METHOD:PUBLISH
X-ORIGINAL-URL:https://nohowest.org
X-WR-CALDESC:Events for NoHowest.org
REFRESH-INTERVAL;VALUE=DURATION:PT1H
X-Robots-Tag:noindex
X-PUBLISHED-TTL:PT1H
BEGIN:VTIMEZONE
TZID:America/Los_Angeles
BEGIN:DAYLIGHT
TZOFFSETFROM:-0800
TZOFFSETTO:-0700
TZNAME:PDT
DTSTART:20230312T100000
END:DAYLIGHT
BEGIN:STANDARD
TZOFFSETFROM:-0700
TZOFFSETTO:-0800
TZNAME:PST
DTSTART:20231105T090000
END:STANDARD
BEGIN:DAYLIGHT
TZOFFSETFROM:-0800
TZOFFSETTO:-0700
TZNAME:PDT
DTSTART:20240310T100000
END:DAYLIGHT
BEGIN:STANDARD
TZOFFSETFROM:-0700
TZOFFSETTO:-0800
TZNAME:PST
DTSTART:20241103T090000
END:STANDARD
BEGIN:DAYLIGHT
TZOFFSETFROM:-0800
TZOFFSETTO:-0700
TZNAME:PDT
DTSTART:20250309T100000
END:DAYLIGHT
BEGIN:STANDARD
TZOFFSETFROM:-0700
TZOFFSETTO:-0800
TZNAME:PST
DTSTART:20251102T090000
END:STANDARD
END:VTIMEZONE
BEGIN:VEVENT
DTSTART;TZID=America/Los_Angeles:20240814T183000
DTEND;TZID=America/Los_Angeles:20240814T203000
DTSTAMP:20260424T203541
CREATED:20240315T212858Z
LAST-MODIFIED:20240821T190047Z
UID:18306-1723660200-1723667400@nohowest.org
SUMMARY:Board Meeting-Cancelled
DESCRIPTION:Join us for the next NoHo West Neighborhood Council Meeting on Wednesday\, August 14\, 6:30pm online. \nOn our agenda: \n\nAlcohol permit for El Super at 12727 Sherman Way\nBudget\nBylaws updates\n\nMeeting materials: \n\nNoHo West NC General Board Meeting Agenda 8-14-24\nNoHo West General Board Meeting Minutes 7-10-24\nNorth Hollywood West NC-1\nGmail – Fwd_ Thank you for your payment.\nNOHOWNC Bylaws Redline 6-26-24 v JR 7-14-24\nJuly MER 2024\n\nZoom meeting Online or By Telephone\nhttps://us02web.zoom.us/j/84338610690\nDial 888-475-4499 to Join the Meeting\nThen enter This Webinar ID:\n843 3861 0690 and Press #
URL:https://nohowest.org/calendar/board-meeting-11-2024-08-14/
CATEGORIES:General Board
END:VEVENT
END:VCALENDAR