BEGIN:VCALENDAR
VERSION:2.0
PRODID:-//NoHowest.org - ECPv6.15.16//NONSGML v1.0//EN
CALSCALE:GREGORIAN
METHOD:PUBLISH
X-ORIGINAL-URL:https://nohowest.org
X-WR-CALDESC:Events for NoHowest.org
REFRESH-INTERVAL;VALUE=DURATION:PT1H
X-Robots-Tag:noindex
X-PUBLISHED-TTL:PT1H
BEGIN:VTIMEZONE
TZID:America/Los_Angeles
BEGIN:DAYLIGHT
TZOFFSETFROM:-0800
TZOFFSETTO:-0700
TZNAME:PDT
DTSTART:20230312T100000
END:DAYLIGHT
BEGIN:STANDARD
TZOFFSETFROM:-0700
TZOFFSETTO:-0800
TZNAME:PST
DTSTART:20231105T090000
END:STANDARD
BEGIN:DAYLIGHT
TZOFFSETFROM:-0800
TZOFFSETTO:-0700
TZNAME:PDT
DTSTART:20240310T100000
END:DAYLIGHT
BEGIN:STANDARD
TZOFFSETFROM:-0700
TZOFFSETTO:-0800
TZNAME:PST
DTSTART:20241103T090000
END:STANDARD
BEGIN:DAYLIGHT
TZOFFSETFROM:-0800
TZOFFSETTO:-0700
TZNAME:PDT
DTSTART:20250309T100000
END:DAYLIGHT
BEGIN:STANDARD
TZOFFSETFROM:-0700
TZOFFSETTO:-0800
TZNAME:PST
DTSTART:20251102T090000
END:STANDARD
END:VTIMEZONE
BEGIN:VEVENT
DTSTART;TZID=America/Los_Angeles:20240911T183000
DTEND;TZID=America/Los_Angeles:20240911T203000
DTSTAMP:20260424T185440
CREATED:20240315T212858Z
LAST-MODIFIED:20240904T220812Z
UID:18307-1726079400-1726086600@nohowest.org
SUMMARY:Board Meeting
DESCRIPTION:Join us for the next NoHo West Neighborhood Council Meeting on Wednesday\, September 11\, 6:30pm online. \nOn our agenda: \n\n7549 Coldwater Pre-School\nBudget\n\nMeeting Documents: \n\nNoHo West NC General Board Meeting Agenda 9-11-24\nNOHOWNC Bylaws JR 7-14-24\nNOHOWNC Bylaws Redline 6-26-24 v JR 7-14-24\nGeneral Board Meeting Minutes-7-10-24\nHostGator Invoice\nNorth Hollywood West NC Rollover Funds\n\nZoom meeting Online or By Telephone\nhttps://us02web.zoom.us/j/83395611257\nDial 833 548 0276 to Join the Meeting\nThen enter This Webinar ID:\n833 9561 1257 and Press #
URL:https://nohowest.org/calendar/board-meeting-11-2024-09-11/
CATEGORIES:General Board
END:VEVENT
END:VCALENDAR