BEGIN:VCALENDAR
VERSION:2.0
PRODID:-//NoHowest.org - ECPv6.15.16//NONSGML v1.0//EN
CALSCALE:GREGORIAN
METHOD:PUBLISH
X-ORIGINAL-URL:https://nohowest.org
X-WR-CALDESC:Events for NoHowest.org
REFRESH-INTERVAL;VALUE=DURATION:PT1H
X-Robots-Tag:noindex
X-PUBLISHED-TTL:PT1H
BEGIN:VTIMEZONE
TZID:America/Los_Angeles
BEGIN:DAYLIGHT
TZOFFSETFROM:-0800
TZOFFSETTO:-0700
TZNAME:PDT
DTSTART:20230312T100000
END:DAYLIGHT
BEGIN:STANDARD
TZOFFSETFROM:-0700
TZOFFSETTO:-0800
TZNAME:PST
DTSTART:20231105T090000
END:STANDARD
BEGIN:DAYLIGHT
TZOFFSETFROM:-0800
TZOFFSETTO:-0700
TZNAME:PDT
DTSTART:20240310T100000
END:DAYLIGHT
BEGIN:STANDARD
TZOFFSETFROM:-0700
TZOFFSETTO:-0800
TZNAME:PST
DTSTART:20241103T090000
END:STANDARD
BEGIN:DAYLIGHT
TZOFFSETFROM:-0800
TZOFFSETTO:-0700
TZNAME:PDT
DTSTART:20250309T100000
END:DAYLIGHT
BEGIN:STANDARD
TZOFFSETFROM:-0700
TZOFFSETTO:-0800
TZNAME:PST
DTSTART:20251102T090000
END:STANDARD
END:VTIMEZONE
BEGIN:VEVENT
DTSTART;TZID=America/Los_Angeles:20241211T183000
DTEND;TZID=America/Los_Angeles:20241211T203000
DTSTAMP:20260424T133211
CREATED:20240315T212858Z
LAST-MODIFIED:20241210T175807Z
UID:18310-1733941800-1733949000@nohowest.org
SUMMARY:Board Meeting
DESCRIPTION:Join us for our last NoHo West Neighborhood Council Meeting of 2024 on December 11\, 6:30pm online. \nOn our agenda: \n\nWorld Harvest Food Bank Grant\n\nMeeting documents: \n\nNoHo West NC General Board Meeting Agenda 12-11-24\nNoHo West NC General Board Meeting Minutes -11-13-24\nNovember 2024 MER NoHo West\nWorld Harvest Food Bank NPG\n501c-Design-Proposal-NHWNC\n\nZoom meeting Online or By Telephone:\nhttps://us02web.zoom.us/j/87565169651\nDial 888-475-4499 to Join the Meeting\nThen enter This Webinar ID:\n875 6516 9651 and Press #
URL:https://nohowest.org/calendar/board-meeting-11-2024-12-11/
CATEGORIES:General Board
END:VEVENT
END:VCALENDAR