BEGIN:VCALENDAR
VERSION:2.0
PRODID:-//NoHowest.org - ECPv6.15.16//NONSGML v1.0//EN
CALSCALE:GREGORIAN
METHOD:PUBLISH
X-ORIGINAL-URL:https://nohowest.org
X-WR-CALDESC:Events for NoHowest.org
REFRESH-INTERVAL;VALUE=DURATION:PT1H
X-Robots-Tag:noindex
X-PUBLISHED-TTL:PT1H
BEGIN:VTIMEZONE
TZID:America/Los_Angeles
BEGIN:DAYLIGHT
TZOFFSETFROM:-0800
TZOFFSETTO:-0700
TZNAME:PDT
DTSTART:20240310T100000
END:DAYLIGHT
BEGIN:STANDARD
TZOFFSETFROM:-0700
TZOFFSETTO:-0800
TZNAME:PST
DTSTART:20241103T090000
END:STANDARD
BEGIN:DAYLIGHT
TZOFFSETFROM:-0800
TZOFFSETTO:-0700
TZNAME:PDT
DTSTART:20250309T100000
END:DAYLIGHT
BEGIN:STANDARD
TZOFFSETFROM:-0700
TZOFFSETTO:-0800
TZNAME:PST
DTSTART:20251102T090000
END:STANDARD
BEGIN:DAYLIGHT
TZOFFSETFROM:-0800
TZOFFSETTO:-0700
TZNAME:PDT
DTSTART:20260308T100000
END:DAYLIGHT
BEGIN:STANDARD
TZOFFSETFROM:-0700
TZOFFSETTO:-0800
TZNAME:PST
DTSTART:20261101T090000
END:STANDARD
END:VTIMEZONE
BEGIN:VEVENT
DTSTART;TZID=America/Los_Angeles:20250115T143000
DTEND;TZID=America/Los_Angeles:20250115T163000
DTSTAMP:20260424T113840
CREATED:20250114T171739Z
LAST-MODIFIED:20250114T171739Z
UID:19164-1736951400-1736958600@nohowest.org
SUMMARY:Free Masks
DESCRIPTION:NoHo West Neighborhood Council will distribute free N95 facemasks to help residents with air quality. We will be at the Valley Plaza Library January 15\, 2:30-4:30 or until supplies last.
URL:https://nohowest.org/calendar/free-masks/
LOCATION:Valley Plaza Library\, 12311 Vanowen Street\, North Hollywood\, 91605
CATEGORIES:General Board
GEO:34.1946695;-118.4011736
X-APPLE-STRUCTURED-LOCATION;VALUE=URI;X-ADDRESS=Valley Plaza Library 12311 Vanowen Street North Hollywood 91605;X-APPLE-RADIUS=500;X-TITLE=12311 Vanowen Street:geo:-118.4011736,34.1946695
END:VEVENT
END:VCALENDAR