BEGIN:VCALENDAR
VERSION:2.0
PRODID:-//NoHowest.org - ECPv6.15.16//NONSGML v1.0//EN
CALSCALE:GREGORIAN
METHOD:PUBLISH
X-ORIGINAL-URL:https://nohowest.org
X-WR-CALDESC:Events for NoHowest.org
REFRESH-INTERVAL;VALUE=DURATION:PT1H
X-Robots-Tag:noindex
X-PUBLISHED-TTL:PT1H
BEGIN:VTIMEZONE
TZID:America/Los_Angeles
BEGIN:DAYLIGHT
TZOFFSETFROM:-0800
TZOFFSETTO:-0700
TZNAME:PDT
DTSTART:20240310T100000
END:DAYLIGHT
BEGIN:STANDARD
TZOFFSETFROM:-0700
TZOFFSETTO:-0800
TZNAME:PST
DTSTART:20241103T090000
END:STANDARD
BEGIN:DAYLIGHT
TZOFFSETFROM:-0800
TZOFFSETTO:-0700
TZNAME:PDT
DTSTART:20250309T100000
END:DAYLIGHT
BEGIN:STANDARD
TZOFFSETFROM:-0700
TZOFFSETTO:-0800
TZNAME:PST
DTSTART:20251102T090000
END:STANDARD
BEGIN:DAYLIGHT
TZOFFSETFROM:-0800
TZOFFSETTO:-0700
TZNAME:PDT
DTSTART:20260308T100000
END:DAYLIGHT
BEGIN:STANDARD
TZOFFSETFROM:-0700
TZOFFSETTO:-0800
TZNAME:PST
DTSTART:20261101T090000
END:STANDARD
END:VTIMEZONE
BEGIN:VEVENT
DTSTART;TZID=America/Los_Angeles:20250212T183000
DTEND;TZID=America/Los_Angeles:20250212T210000
DTSTAMP:20260424T100135
CREATED:20240722T174259Z
LAST-MODIFIED:20250212T043959Z
UID:18714-1739385000-1739394000@nohowest.org
SUMMARY:Board Meeting
DESCRIPTION:Join us for the next meeting of the NoHo West Neighborhood Council Wednesday\, February 12\, 6:30pm at the Valley Plaza Library\, 12311 Vanowen St. \nOn our agenda: \n\nInterfaith Food Bank Presentation\nGrant for Emergency Relief to LAFD Foundation\nCrisis and Incident Respone Through Community Lead Engagement for Council District 2\n\nMeeting documents: \n\nNoHo West NC General Board Meeting Agenda 2-12-25\nDecember 2024 MER\nJanuary 2025 MER\nNoHo West NC General Board Meeting Minutes -12-11-24\nAmazon.com – Order 114-3246711-8359429\n20250205143300_001\nAmazon.com – Order 114-1002560-9722650\nNoho west domain renewal\nDraft CIS Council File 24-0600-S36\nDraft CIS Council File 24-1567\n\nHybrid meeting: in person and online \nZoom meeting Online or By Telephone:\nhttps://us02web.zoom.us/j/83675794075\nDial 888-475-4499 to Join the Meeting\nThen enter This Webinar ID:\n836 7579 4075 and Press #
URL:https://nohowest.org/calendar/board-meeting-12/
CATEGORIES:General Board
END:VEVENT
BEGIN:VEVENT
DTSTART;TZID=America/Los_Angeles:20250215T100000
DTEND;TZID=America/Los_Angeles:20250215T133000
DTSTAMP:20260424T100135
CREATED:20241219T234331Z
LAST-MODIFIED:20241219T234331Z
UID:19144-1739613600-1739626200@nohowest.org
SUMMARY:Shredding Event
DESCRIPTION:
URL:https://nohowest.org/calendar/shredding-event-2/
CATEGORIES:General Board
END:VEVENT
END:VCALENDAR