BEGIN:VCALENDAR
VERSION:2.0
PRODID:-//NoHowest.org - ECPv6.15.16//NONSGML v1.0//EN
CALSCALE:GREGORIAN
METHOD:PUBLISH
X-WR-CALNAME:NoHowest.org
X-ORIGINAL-URL:https://nohowest.org
X-WR-CALDESC:Events for NoHowest.org
REFRESH-INTERVAL;VALUE=DURATION:PT1H
X-Robots-Tag:noindex
X-PUBLISHED-TTL:PT1H
BEGIN:VTIMEZONE
TZID:America/Los_Angeles
BEGIN:DAYLIGHT
TZOFFSETFROM:-0800
TZOFFSETTO:-0700
TZNAME:PDT
DTSTART:20240310T100000
END:DAYLIGHT
BEGIN:STANDARD
TZOFFSETFROM:-0700
TZOFFSETTO:-0800
TZNAME:PST
DTSTART:20241103T090000
END:STANDARD
BEGIN:DAYLIGHT
TZOFFSETFROM:-0800
TZOFFSETTO:-0700
TZNAME:PDT
DTSTART:20250309T100000
END:DAYLIGHT
BEGIN:STANDARD
TZOFFSETFROM:-0700
TZOFFSETTO:-0800
TZNAME:PST
DTSTART:20251102T090000
END:STANDARD
BEGIN:DAYLIGHT
TZOFFSETFROM:-0800
TZOFFSETTO:-0700
TZNAME:PDT
DTSTART:20260308T100000
END:DAYLIGHT
BEGIN:STANDARD
TZOFFSETFROM:-0700
TZOFFSETTO:-0800
TZNAME:PST
DTSTART:20261101T090000
END:STANDARD
END:VTIMEZONE
BEGIN:VEVENT
DTSTART;TZID=America/Los_Angeles:20250813T183000
DTEND;TZID=America/Los_Angeles:20250813T210000
DTSTAMP:20260424T002320
CREATED:20240722T174259Z
LAST-MODIFIED:20250808T184411Z
UID:18719-1755109800-1755118800@nohowest.org
SUMMARY:Board Meeting
DESCRIPTION:Join us for the next NoHo West Neighborhood Council Meeting Wednesday\, August 13\, 6:30pm online: https://us02web.zoom.us/j/82004224572 \nDial 888-475-4499 to Join the Meeting\nThen enter This Webinar ID:\n8200 422 4572 and Press # \nMeeting Documents: \n\nNoHo West NC GBM Agenda 8-13-25\nProposed Update to NoHoWest NC Standing Rules FY2024-25(1)\nJuly 2025 MER-1\nNoHo West NC – Promotional Items\nNoHo West NC Meeting Minutes 7.9.25\nNoHo West Online Outreach 2025-0701-1\nNationwide Displays Invoice 11320-1
URL:https://nohowest.org/calendar/board-meeting-12-2025-08-13/
CATEGORIES:General Board
END:VEVENT
END:VCALENDAR