BEGIN:VCALENDAR
VERSION:2.0
PRODID:-//NoHowest.org - ECPv6.15.16//NONSGML v1.0//EN
CALSCALE:GREGORIAN
METHOD:PUBLISH
X-WR-CALNAME:NoHowest.org
X-ORIGINAL-URL:https://nohowest.org
X-WR-CALDESC:Events for NoHowest.org
REFRESH-INTERVAL;VALUE=DURATION:PT1H
X-Robots-Tag:noindex
X-PUBLISHED-TTL:PT1H
BEGIN:VTIMEZONE
TZID:America/Los_Angeles
BEGIN:DAYLIGHT
TZOFFSETFROM:-0800
TZOFFSETTO:-0700
TZNAME:PDT
DTSTART:20240310T100000
END:DAYLIGHT
BEGIN:STANDARD
TZOFFSETFROM:-0700
TZOFFSETTO:-0800
TZNAME:PST
DTSTART:20241103T090000
END:STANDARD
BEGIN:DAYLIGHT
TZOFFSETFROM:-0800
TZOFFSETTO:-0700
TZNAME:PDT
DTSTART:20250309T100000
END:DAYLIGHT
BEGIN:STANDARD
TZOFFSETFROM:-0700
TZOFFSETTO:-0800
TZNAME:PST
DTSTART:20251102T090000
END:STANDARD
BEGIN:DAYLIGHT
TZOFFSETFROM:-0800
TZOFFSETTO:-0700
TZNAME:PDT
DTSTART:20260308T100000
END:DAYLIGHT
BEGIN:STANDARD
TZOFFSETFROM:-0700
TZOFFSETTO:-0800
TZNAME:PST
DTSTART:20261101T090000
END:STANDARD
END:VTIMEZONE
BEGIN:VEVENT
DTSTART;TZID=America/Los_Angeles:20251008T183000
DTEND;TZID=America/Los_Angeles:20251008T203000
DTSTAMP:20260423T212430
CREATED:20250912T174003Z
LAST-MODIFIED:20251002T211907Z
UID:19714-1759948200-1759955400@nohowest.org
SUMMARY:Board Meeting
DESCRIPTION:The next NoHoWest Neighborhood Council Meeting is Wednesday\, October 8\, 6:30pm on Zoom. \nOn our agenda: \n\nBeautify LA Grant\nNoHo Home Alliance Grant\n\nZoom meeting Online or By Telephone:\nhttps://us02web.zoom.us/j/87095482482\nDial 888-475-4499 to Join the Meeting\nThen enter This Webinar ID:\n8709 5482 482 and Press # \nMeeting Documents: \n\nNoHo West NC GBM Agenda 10-8-25\nBeautify LA North Hollywood West NPG application\nNoHo Home Alliance NPG application\nNoHo West NC Meeting Minutes 9.10.25
URL:https://nohowest.org/calendar/board-meeting-16/
CATEGORIES:General Board
END:VEVENT
END:VCALENDAR