BEGIN:VCALENDAR
VERSION:2.0
PRODID:-//NoHowest.org - ECPv6.15.16//NONSGML v1.0//EN
CALSCALE:GREGORIAN
METHOD:PUBLISH
X-WR-CALNAME:NoHowest.org
X-ORIGINAL-URL:https://nohowest.org
X-WR-CALDESC:Events for NoHowest.org
REFRESH-INTERVAL;VALUE=DURATION:PT1H
X-Robots-Tag:noindex
X-PUBLISHED-TTL:PT1H
BEGIN:VTIMEZONE
TZID:America/Los_Angeles
BEGIN:DAYLIGHT
TZOFFSETFROM:-0800
TZOFFSETTO:-0700
TZNAME:PDT
DTSTART:20250309T100000
END:DAYLIGHT
BEGIN:STANDARD
TZOFFSETFROM:-0700
TZOFFSETTO:-0800
TZNAME:PST
DTSTART:20251102T090000
END:STANDARD
BEGIN:DAYLIGHT
TZOFFSETFROM:-0800
TZOFFSETTO:-0700
TZNAME:PDT
DTSTART:20260308T100000
END:DAYLIGHT
BEGIN:STANDARD
TZOFFSETFROM:-0700
TZOFFSETTO:-0800
TZNAME:PST
DTSTART:20261101T090000
END:STANDARD
BEGIN:DAYLIGHT
TZOFFSETFROM:-0800
TZOFFSETTO:-0700
TZNAME:PDT
DTSTART:20270314T100000
END:DAYLIGHT
BEGIN:STANDARD
TZOFFSETFROM:-0700
TZOFFSETTO:-0800
TZNAME:PST
DTSTART:20271107T090000
END:STANDARD
END:VTIMEZONE
BEGIN:VEVENT
DTSTART;TZID=America/Los_Angeles:20260114T183000
DTEND;TZID=America/Los_Angeles:20260114T210000
DTSTAMP:20260423T160956
CREATED:20251122T003541Z
LAST-MODIFIED:20260115T190428Z
UID:19839-1768415400-1768424400@nohowest.org
SUMMARY:Board Meeting
DESCRIPTION:Join us Wednesday\, January 14\, 6:30pm for the next NoHo West Meeting at Valley Plaza Library\, 12311 Vanowen Street. \nWe have a few business items we need to take care of to stay compliant and then we will go into the board retreat. \nPlease come with ideas as to what you’d like to see happen in our area that the NC can help with. \nMeeting documents: \n\n\n\nNoHo West NC GBM Agenda 1-14-26\nNoHo West NC Meeting Minutes 11.12.25\nNov 2025 MER-1\nDecember 2025 MER\n\n\n\n 
URL:https://nohowest.org/calendar/board-meeting-17/
CATEGORIES:General Board
END:VEVENT
END:VCALENDAR