BEGIN:VCALENDAR
VERSION:2.0
PRODID:-//NoHowest.org - ECPv6.15.16//NONSGML v1.0//EN
CALSCALE:GREGORIAN
METHOD:PUBLISH
X-WR-CALNAME:NoHowest.org
X-ORIGINAL-URL:https://nohowest.org
X-WR-CALDESC:Events for NoHowest.org
REFRESH-INTERVAL;VALUE=DURATION:PT1H
X-Robots-Tag:noindex
X-PUBLISHED-TTL:PT1H
BEGIN:VTIMEZONE
TZID:America/Los_Angeles
BEGIN:DAYLIGHT
TZOFFSETFROM:-0800
TZOFFSETTO:-0700
TZNAME:PDT
DTSTART:20250309T100000
END:DAYLIGHT
BEGIN:STANDARD
TZOFFSETFROM:-0700
TZOFFSETTO:-0800
TZNAME:PST
DTSTART:20251102T090000
END:STANDARD
BEGIN:DAYLIGHT
TZOFFSETFROM:-0800
TZOFFSETTO:-0700
TZNAME:PDT
DTSTART:20260308T100000
END:DAYLIGHT
BEGIN:STANDARD
TZOFFSETFROM:-0700
TZOFFSETTO:-0800
TZNAME:PST
DTSTART:20261101T090000
END:STANDARD
BEGIN:DAYLIGHT
TZOFFSETFROM:-0800
TZOFFSETTO:-0700
TZNAME:PDT
DTSTART:20270314T100000
END:DAYLIGHT
BEGIN:STANDARD
TZOFFSETFROM:-0700
TZOFFSETTO:-0800
TZNAME:PST
DTSTART:20271107T090000
END:STANDARD
END:VTIMEZONE
BEGIN:VEVENT
DTSTART;TZID=America/Los_Angeles:20260311T183000
DTEND;TZID=America/Los_Angeles:20260311T210000
DTSTAMP:20260423T121559
CREATED:20251122T003541Z
LAST-MODIFIED:20260310T230250Z
UID:19841-1773253800-1773262800@nohowest.org
SUMMARY:Board Meeting
DESCRIPTION:Join us for the next NoHo West Neighborhood Council Meeting Wednesday\, March 11\, 6:30pm online. \nZoom Meeting Online or By Telephone\nhttps://us02web.zoom.us/j/81888734444\nDial 888-475-4499 to Join the Meeting\nThen Enter This Webinar ID: 818 8873 4444 and Press # \nWe will discuss funding grants for Comfy Carepacks and the Valley Plaza Spring Event \nMeeting Documents: \n\nNoHo West Agenda General Board Meeting – 3.11.26\nJanuary MER 2026\nNoHo West NC Meeting Minutes 2.11.26\nNoHo West Online Outreach 2025-0701-2\nNPG2026\nFebruary 2026 MER
URL:https://nohowest.org/calendar/board-meeting-17-2026-03-11/
CATEGORIES:General Board
END:VEVENT
END:VCALENDAR