BEGIN:VCALENDAR
VERSION:2.0
PRODID:-//NoHowest.org - ECPv6.15.16//NONSGML v1.0//EN
CALSCALE:GREGORIAN
METHOD:PUBLISH
X-ORIGINAL-URL:https://nohowest.org
X-WR-CALDESC:Events for NoHowest.org
REFRESH-INTERVAL;VALUE=DURATION:PT1H
X-Robots-Tag:noindex
X-PUBLISHED-TTL:PT1H
BEGIN:VTIMEZONE
TZID:America/Los_Angeles
BEGIN:DAYLIGHT
TZOFFSETFROM:-0800
TZOFFSETTO:-0700
TZNAME:PDT
DTSTART:20240310T100000
END:DAYLIGHT
BEGIN:STANDARD
TZOFFSETFROM:-0700
TZOFFSETTO:-0800
TZNAME:PST
DTSTART:20241103T090000
END:STANDARD
BEGIN:DAYLIGHT
TZOFFSETFROM:-0800
TZOFFSETTO:-0700
TZNAME:PDT
DTSTART:20250309T100000
END:DAYLIGHT
BEGIN:STANDARD
TZOFFSETFROM:-0700
TZOFFSETTO:-0800
TZNAME:PST
DTSTART:20251102T090000
END:STANDARD
BEGIN:DAYLIGHT
TZOFFSETFROM:-0800
TZOFFSETTO:-0700
TZNAME:PDT
DTSTART:20260308T100000
END:DAYLIGHT
BEGIN:STANDARD
TZOFFSETFROM:-0700
TZOFFSETTO:-0800
TZNAME:PST
DTSTART:20261101T090000
END:STANDARD
END:VTIMEZONE
BEGIN:VEVENT
DTSTART;TZID=America/Los_Angeles:20251207T130000
DTEND;TZID=America/Los_Angeles:20251207T160000
DTSTAMP:20260423T193752
CREATED:20251024T190802Z
LAST-MODIFIED:20251024T190802Z
UID:19765-1765112400-1765123200@nohowest.org
SUMMARY:Jingle Bells Bingo
DESCRIPTION:Play\, Win & Feed a Furry Friend \nJoin us for a festive afternoon of bingo\, laughter\, and giving back — all to support pets belonging to individuals experiencing homelessness. Every dollar raised will help provide pet food\, wellness exams\, and vaccinations\, ensuring these beloved companions get the care they need and deserve. \nDate: Sunday\, December 7th\, 2025 1:00 – 4:00 p.m.\nLocation: The Thirsty Merchant — 12430 Riverside Dr.\, Valley Village\, CA
URL:https://nohowest.org/calendar/jingle-bells-bingo/
CATEGORIES:Community Events
END:VEVENT
BEGIN:VEVENT
DTSTART;TZID=America/Los_Angeles:20251210T183000
DTEND;TZID=America/Los_Angeles:20251210T210000
DTSTAMP:20260423T193752
CREATED:20240722T174259Z
LAST-MODIFIED:20251210T190155Z
UID:18723-1765391400-1765400400@nohowest.org
SUMMARY:Board Meeting-Cancelled
DESCRIPTION:Join us for the last NoHo West General Board Meeting of the year on Wednesday\, December 10\, 6:30pm online. \nWe welcome Assemblymember Celeste Rodriguez as our special guest. \nNoHo West NC GBM Agenda 12-10-25 \nZoom meeting Online or By Telephone:\nhttps://us02web.zoom.us/j/88029306884\nDial 888-475-4499 to Join the Meeting\nThen enter This Webinar ID:\n8802 930 6884 and Press #
URL:https://nohowest.org/calendar/board-meeting-12-2025-12-10/
CATEGORIES:General Board
END:VEVENT
BEGIN:VEVENT
DTSTART;TZID=America/Los_Angeles:20251213T160000
DTEND;TZID=America/Los_Angeles:20251213T180000
DTSTAMP:20260423T193752
CREATED:20251104T175904Z
LAST-MODIFIED:20251122T004308Z
UID:19807-1765641600-1765648800@nohowest.org
SUMMARY:Let it Snow
DESCRIPTION:
URL:https://nohowest.org/calendar/let-it-snow/
LOCATION:Valley Plaza Recreation Center\, 12240 Archwood St.\,\, North Hollywood\, CA\, 91606\, United States
CATEGORIES:Community Events
GEO:34.1920199;-118.4002565
X-APPLE-STRUCTURED-LOCATION;VALUE=URI;X-ADDRESS=Valley Plaza Recreation Center 12240 Archwood St. North Hollywood CA 91606 United States;X-APPLE-RADIUS=500;X-TITLE=12240 Archwood St.\,:geo:-118.4002565,34.1920199
END:VEVENT
END:VCALENDAR