BEGIN:VCALENDAR
VERSION:2.0
PRODID:-//NoHowest.org - ECPv6.15.16//NONSGML v1.0//EN
CALSCALE:GREGORIAN
METHOD:PUBLISH
X-ORIGINAL-URL:https://nohowest.org
X-WR-CALDESC:Events for NoHowest.org
REFRESH-INTERVAL;VALUE=DURATION:PT1H
X-Robots-Tag:noindex
X-PUBLISHED-TTL:PT1H
BEGIN:VTIMEZONE
TZID:America/Los_Angeles
BEGIN:DAYLIGHT
TZOFFSETFROM:-0800
TZOFFSETTO:-0700
TZNAME:PDT
DTSTART:20250309T100000
END:DAYLIGHT
BEGIN:STANDARD
TZOFFSETFROM:-0700
TZOFFSETTO:-0800
TZNAME:PST
DTSTART:20251102T090000
END:STANDARD
BEGIN:DAYLIGHT
TZOFFSETFROM:-0800
TZOFFSETTO:-0700
TZNAME:PDT
DTSTART:20260308T100000
END:DAYLIGHT
BEGIN:STANDARD
TZOFFSETFROM:-0700
TZOFFSETTO:-0800
TZNAME:PST
DTSTART:20261101T090000
END:STANDARD
BEGIN:DAYLIGHT
TZOFFSETFROM:-0800
TZOFFSETTO:-0700
TZNAME:PDT
DTSTART:20270314T100000
END:DAYLIGHT
BEGIN:STANDARD
TZOFFSETFROM:-0700
TZOFFSETTO:-0800
TZNAME:PST
DTSTART:20271107T090000
END:STANDARD
END:VTIMEZONE
BEGIN:VEVENT
DTSTART;TZID=America/Los_Angeles:20260202T113000
DTEND;TZID=America/Los_Angeles:20260202T123000
DTSTAMP:20260423T160920
CREATED:20260130T192432Z
LAST-MODIFIED:20260130T192432Z
UID:19947-1770031800-1770035400@nohowest.org
SUMMARY:Special Executive Committee Meeting
DESCRIPTION:NoHo West Agenda Executive Committee Meeting – 2.2.26 \nZoom Meeting Online or By Telephone\nhttps://us02web.zoom.us/j/86306781895\nDial 888-475-4499 to Join the Meeting\nThen Enter This Webinar ID: 863 0678 1895 and Press #
URL:https://nohowest.org/calendar/special-executive-committee-meeting-4/
CATEGORIES:Committee Meeting
END:VEVENT
BEGIN:VEVENT
DTSTART;TZID=America/Los_Angeles:20260206T100000
DTEND;TZID=America/Los_Angeles:20260206T140000
DTSTAMP:20260423T160921
CREATED:20260130T192856Z
LAST-MODIFIED:20260130T192856Z
UID:19949-1770372000-1770386400@nohowest.org
SUMMARY:Free Tax Prep
DESCRIPTION:Free income tax preparation and filing by California State University\, Northridge\, through the IRS Volunteer Income Tax Assistance program. \nAppointments are preferred. Book an appointment \nTax forms we prepare are:\n\nForm 1040 (U.S. Individual Income Tax Return)\nCA Form 540 (California Resident Income)\nForm 1040NR (Nonresident Income Tax Return)\nBoth spouses must be present for joint returns\n\nWhat to bring on the day of your visit:\n\nA valid CA Driver’s License\, ID\, or Passport\nSocial Security Numbers or ITINs for the taxpayer\, spouse\, and dependents\nTax documents (Forms W-2\, W-2G\, 1099-R\, 1099-INT\, 1099-DIV\, 1099-NEC\, 1099-MISC\, and all other tax documents)\nBank account number and routing number for direct deposit of refund\n\nIf this applies to you\, also bring:\n\nAll Forms 1095\, Health Form Statements\nDaycare provider’s information\, including total amount paid for daycare per child\, daycare provider’s name\, address\, phone number\, and tax ID number\nTotal education expenses (books\, laptops\, etc.)
URL:https://nohowest.org/calendar/free-tax-prep/2026-02-06/
CATEGORIES:Community Events
END:VEVENT
BEGIN:VEVENT
DTSTART;TZID=America/Los_Angeles:20260211T183000
DTEND;TZID=America/Los_Angeles:20260211T210000
DTSTAMP:20260423T160921
CREATED:20251122T003541Z
LAST-MODIFIED:20260206T020848Z
UID:19840-1770834600-1770843600@nohowest.org
SUMMARY:Board Meeting
DESCRIPTION:Join us for the next North Hollywood West Neighborhood Council Meeting on Wednesday\, February 11\, 6:30pm online. \nMeeting Documents: \n\nNoHo West Agenda General Board Meeting – 2.11.26 v2\nNoHo West NC Meeting Minutes 1.14.26\nNCFP 105 Missing Receipt Affidavit\n\nZoom Meeting Online or By Telephone\nhttps://us02web.zoom.us/j/88422327513\nDial 888-475-4499 to Join the Meeting\nThen Enter This Webinar ID: 884 2232 7513 and Press #
URL:https://nohowest.org/calendar/board-meeting-17-2026-02-11/
CATEGORIES:General Board
END:VEVENT
BEGIN:VEVENT
DTSTART;TZID=America/Los_Angeles:20260213T100000
DTEND;TZID=America/Los_Angeles:20260213T140000
DTSTAMP:20260423T160921
CREATED:20260130T192856Z
LAST-MODIFIED:20260130T192856Z
UID:19950-1770976800-1770991200@nohowest.org
SUMMARY:Free Tax Prep
DESCRIPTION:Free income tax preparation and filing by California State University\, Northridge\, through the IRS Volunteer Income Tax Assistance program. \nAppointments are preferred. Book an appointment \nTax forms we prepare are:\n\nForm 1040 (U.S. Individual Income Tax Return)\nCA Form 540 (California Resident Income)\nForm 1040NR (Nonresident Income Tax Return)\nBoth spouses must be present for joint returns\n\nWhat to bring on the day of your visit:\n\nA valid CA Driver’s License\, ID\, or Passport\nSocial Security Numbers or ITINs for the taxpayer\, spouse\, and dependents\nTax documents (Forms W-2\, W-2G\, 1099-R\, 1099-INT\, 1099-DIV\, 1099-NEC\, 1099-MISC\, and all other tax documents)\nBank account number and routing number for direct deposit of refund\n\nIf this applies to you\, also bring:\n\nAll Forms 1095\, Health Form Statements\nDaycare provider’s information\, including total amount paid for daycare per child\, daycare provider’s name\, address\, phone number\, and tax ID number\nTotal education expenses (books\, laptops\, etc.)
URL:https://nohowest.org/calendar/free-tax-prep/2026-02-13/
CATEGORIES:Community Events
END:VEVENT
BEGIN:VEVENT
DTSTART;TZID=America/Los_Angeles:20260214T090000
DTEND;TZID=America/Los_Angeles:20260214T120000
DTSTAMP:20260423T160921
CREATED:20260212T231003Z
LAST-MODIFIED:20260212T231041Z
UID:19972-1771059600-1771070400@nohowest.org
SUMMARY:Know Your Rights Literature Drop
DESCRIPTION:This Saturday\, we’re spreading love—not hate—in the 818 by sharing Know Your Rights information with our neighbors. Join us for a community literature drop and help protect families. Even one hour helps. RSVP for location details.
URL:https://nohowest.org/calendar/know-your-rights-literature-drop/
CATEGORIES:Community Events
END:VEVENT
BEGIN:VEVENT
DTSTART;TZID=America/Los_Angeles:20260220T100000
DTEND;TZID=America/Los_Angeles:20260220T140000
DTSTAMP:20260423T160921
CREATED:20260130T192856Z
LAST-MODIFIED:20260130T192856Z
UID:19951-1771581600-1771596000@nohowest.org
SUMMARY:Free Tax Prep
DESCRIPTION:Free income tax preparation and filing by California State University\, Northridge\, through the IRS Volunteer Income Tax Assistance program. \nAppointments are preferred. Book an appointment \nTax forms we prepare are:\n\nForm 1040 (U.S. Individual Income Tax Return)\nCA Form 540 (California Resident Income)\nForm 1040NR (Nonresident Income Tax Return)\nBoth spouses must be present for joint returns\n\nWhat to bring on the day of your visit:\n\nA valid CA Driver’s License\, ID\, or Passport\nSocial Security Numbers or ITINs for the taxpayer\, spouse\, and dependents\nTax documents (Forms W-2\, W-2G\, 1099-R\, 1099-INT\, 1099-DIV\, 1099-NEC\, 1099-MISC\, and all other tax documents)\nBank account number and routing number for direct deposit of refund\n\nIf this applies to you\, also bring:\n\nAll Forms 1095\, Health Form Statements\nDaycare provider’s information\, including total amount paid for daycare per child\, daycare provider’s name\, address\, phone number\, and tax ID number\nTotal education expenses (books\, laptops\, etc.)
URL:https://nohowest.org/calendar/free-tax-prep/2026-02-20/
CATEGORIES:Community Events
END:VEVENT
BEGIN:VEVENT
DTSTART;TZID=America/Los_Angeles:20260226T180000
DTEND;TZID=America/Los_Angeles:20260226T190000
DTSTAMP:20260423T160921
CREATED:20260224T000817Z
LAST-MODIFIED:20260224T000817Z
UID:19999-1772128800-1772132400@nohowest.org
SUMMARY:North Hollywood Dog Park
DESCRIPTION:Attend an online Community Meeting next Thursday to hear about the new North Hollywood Dog Park. Learn about the plan and share your input with the Department of Recreation and Parks. \n6:00 to 7:00 PM\nThursday\, February 26\, 2026 \nvia ZOOM: https://www.zoomgov.com/j/1610806300
URL:https://nohowest.org/calendar/north-hollywood-dog-park/
CATEGORIES:Community Events
END:VEVENT
BEGIN:VEVENT
DTSTART;TZID=America/Los_Angeles:20260227T100000
DTEND;TZID=America/Los_Angeles:20260227T140000
DTSTAMP:20260423T160921
CREATED:20260130T192856Z
LAST-MODIFIED:20260130T192856Z
UID:19952-1772186400-1772200800@nohowest.org
SUMMARY:Free Tax Prep
DESCRIPTION:Free income tax preparation and filing by California State University\, Northridge\, through the IRS Volunteer Income Tax Assistance program. \nAppointments are preferred. Book an appointment \nTax forms we prepare are:\n\nForm 1040 (U.S. Individual Income Tax Return)\nCA Form 540 (California Resident Income)\nForm 1040NR (Nonresident Income Tax Return)\nBoth spouses must be present for joint returns\n\nWhat to bring on the day of your visit:\n\nA valid CA Driver’s License\, ID\, or Passport\nSocial Security Numbers or ITINs for the taxpayer\, spouse\, and dependents\nTax documents (Forms W-2\, W-2G\, 1099-R\, 1099-INT\, 1099-DIV\, 1099-NEC\, 1099-MISC\, and all other tax documents)\nBank account number and routing number for direct deposit of refund\n\nIf this applies to you\, also bring:\n\nAll Forms 1095\, Health Form Statements\nDaycare provider’s information\, including total amount paid for daycare per child\, daycare provider’s name\, address\, phone number\, and tax ID number\nTotal education expenses (books\, laptops\, etc.)
URL:https://nohowest.org/calendar/free-tax-prep/2026-02-27/
CATEGORIES:Community Events
END:VEVENT
BEGIN:VEVENT
DTSTART;TZID=America/Los_Angeles:20260228T080000
DTEND;TZID=America/Los_Angeles:20260228T110000
DTSTAMP:20260423T160921
CREATED:20260219T222612Z
LAST-MODIFIED:20260219T222612Z
UID:19982-1772265600-1772276400@nohowest.org
SUMMARY:Valley Plaza Community Clean Up
DESCRIPTION:We will be meeting at the Victory Child Care Center\, located at 6451 St Clair Ave\, North Hollywood\, CA 91606. Join us!
URL:https://nohowest.org/calendar/valley-plaza-community-clean-up/
CATEGORIES:Community Events
END:VEVENT
END:VCALENDAR