BEGIN:VCALENDAR
VERSION:2.0
PRODID:-//NoHowest.org - ECPv6.15.16//NONSGML v1.0//EN
CALSCALE:GREGORIAN
METHOD:PUBLISH
X-WR-CALNAME:NoHowest.org
X-ORIGINAL-URL:https://nohowest.org
X-WR-CALDESC:Events for NoHowest.org
REFRESH-INTERVAL;VALUE=DURATION:PT1H
X-Robots-Tag:noindex
X-PUBLISHED-TTL:PT1H
BEGIN:VTIMEZONE
TZID:America/Los_Angeles
BEGIN:DAYLIGHT
TZOFFSETFROM:-0800
TZOFFSETTO:-0700
TZNAME:PDT
DTSTART:20250309T100000
END:DAYLIGHT
BEGIN:STANDARD
TZOFFSETFROM:-0700
TZOFFSETTO:-0800
TZNAME:PST
DTSTART:20251102T090000
END:STANDARD
BEGIN:DAYLIGHT
TZOFFSETFROM:-0800
TZOFFSETTO:-0700
TZNAME:PDT
DTSTART:20260308T100000
END:DAYLIGHT
BEGIN:STANDARD
TZOFFSETFROM:-0700
TZOFFSETTO:-0800
TZNAME:PST
DTSTART:20261101T090000
END:STANDARD
BEGIN:DAYLIGHT
TZOFFSETFROM:-0800
TZOFFSETTO:-0700
TZNAME:PDT
DTSTART:20270314T100000
END:DAYLIGHT
BEGIN:STANDARD
TZOFFSETFROM:-0700
TZOFFSETTO:-0800
TZNAME:PST
DTSTART:20271107T090000
END:STANDARD
END:VTIMEZONE
BEGIN:VEVENT
DTSTART;TZID=America/Los_Angeles:20260305T130000
DTEND;TZID=America/Los_Angeles:20260305T150000
DTSTAMP:20260423T140717
CREATED:20260212T231324Z
LAST-MODIFIED:20260212T231324Z
UID:19976-1772715600-1772722800@nohowest.org
SUMMARY:Information Session on Pilot Neighborhood Decarbonization Programs
DESCRIPTION:This information session will be regarding Senate Bill (SB) 1221 and the California Public Utilities Commission’s (CPUC) designation of priority neighborhoods for possible future pilot projects.\nThis information session will be recorded and made available on SoCalGas’s website to allow access for those who are unable to attend the live event1.\nDate: March 5\, 2026\, (virtual only)\nTime: 1:00 PM – 3:00 PM\nWebcast: Teams Meeting*\n(https://teams.microsoft.com/meet/23517043270654?p=o2Cn3mAbCzebL2v0GX*)\nMeeting ID: 235 170 432 706 54\nPasscode:  HC6w3UJ2\nPhone number: +1 (858) 284-1506\nPhone Conference ID: 344 915 21# \nNote: If you need a language interpreter\, please contact SoCalGas at SB1221maps@semprautilities.com at least five business days before the Information Session.\nBackground and Purpose\nSB 1221 allows up to 30 pilot projects across California to help transition some neighborhoods from natural gas service to zero-emission alternatives. The CPUC is developing program rules in Rulemaking 24-09-012. The program is expected to be established on or before July 1\, 2026.\nOne early step in the implementation of SB 1221 is the CPUC’s designation of priority neighborhood decarbonization zones (decarbonization zones). These are geographic areas where the CPUC may authorize these pilot projects. The CPUC has issued initial decarbonization zones (see Decision 25-12-042*) but plans on updating the decarbonization zones by December 31\, 2026\, and is interested in additional public input to inform this update.\nThis virtual event will allow you to provide your opinion on which neighborhoods should be designated decarbonization zones for possible future projects. Your input on local environmental hazards\, access to heating and cooling\, health considerations\, community barriers to decarbonization\, and diversity and equity considerations is also sought.
URL:https://nohowest.org/calendar/information-session-on-pilot-neighborhood-decarbonization-programs/
CATEGORIES:Community Events
END:VEVENT
BEGIN:VEVENT
DTSTART;TZID=America/Los_Angeles:20260305T170000
DTEND;TZID=America/Los_Angeles:20260305T183000
DTSTAMP:20260423T140717
CREATED:20260219T222328Z
LAST-MODIFIED:20260219T222328Z
UID:19979-1772730000-1772735400@nohowest.org
SUMMARY:Meet the Author Event
DESCRIPTION:Join us at Valley Plaza Branch Library for:\n\n\nFur\, Feathers & Fantasy with Kiyash Monsef\nThursday\, March 5 at 5:00 p.m.\n\n\nMeet the author of Once There Was for a fun and engaging event all about writing\, fantasy\, and the magic of storytelling.\n\n\nParticipants will:\n• Explore creative writing techniques\n• Build imaginative fantasy worlds\n• Learn about the author’s journey to publication\n• Get inspired to tell their own stories\n\n\nThis is a great opportunity for young writers and fantasy lovers to connect with a published author and spark their creativity.\n\n\nA limited number of copies of Once There Was will be available while supplies last.
URL:https://nohowest.org/calendar/meet-the-author-event/
LOCATION:Valley Plaza Library\, 12311 Vanowen Street\, North Hollywood\, 91605
CATEGORIES:Community Events
GEO:34.1946695;-118.4011736
X-APPLE-STRUCTURED-LOCATION;VALUE=URI;X-ADDRESS=Valley Plaza Library 12311 Vanowen Street North Hollywood 91605;X-APPLE-RADIUS=500;X-TITLE=12311 Vanowen Street:geo:-118.4011736,34.1946695
END:VEVENT
BEGIN:VEVENT
DTSTART;TZID=America/Los_Angeles:20260306T100000
DTEND;TZID=America/Los_Angeles:20260306T140000
DTSTAMP:20260423T140717
CREATED:20260130T192856Z
LAST-MODIFIED:20260130T192856Z
UID:19953-1772791200-1772805600@nohowest.org
SUMMARY:Free Tax Prep
DESCRIPTION:Free income tax preparation and filing by California State University\, Northridge\, through the IRS Volunteer Income Tax Assistance program. \nAppointments are preferred. Book an appointment \nTax forms we prepare are:\n\nForm 1040 (U.S. Individual Income Tax Return)\nCA Form 540 (California Resident Income)\nForm 1040NR (Nonresident Income Tax Return)\nBoth spouses must be present for joint returns\n\nWhat to bring on the day of your visit:\n\nA valid CA Driver’s License\, ID\, or Passport\nSocial Security Numbers or ITINs for the taxpayer\, spouse\, and dependents\nTax documents (Forms W-2\, W-2G\, 1099-R\, 1099-INT\, 1099-DIV\, 1099-NEC\, 1099-MISC\, and all other tax documents)\nBank account number and routing number for direct deposit of refund\n\nIf this applies to you\, also bring:\n\nAll Forms 1095\, Health Form Statements\nDaycare provider’s information\, including total amount paid for daycare per child\, daycare provider’s name\, address\, phone number\, and tax ID number\nTotal education expenses (books\, laptops\, etc.)
URL:https://nohowest.org/calendar/free-tax-prep/2026-03-06/
CATEGORIES:Community Events
END:VEVENT
BEGIN:VEVENT
DTSTART;TZID=America/Los_Angeles:20260307T090000
DTEND;TZID=America/Los_Angeles:20260307T150000
DTSTAMP:20260423T140717
CREATED:20260219T223443Z
LAST-MODIFIED:20260219T223443Z
UID:19988-1772874000-1772895600@nohowest.org
SUMMARY:Summer Night Lights Hiring Hub
DESCRIPTION:
URL:https://nohowest.org/calendar/summer-night-lights-hiring-hub/
LOCATION:Valley Plaza Library\, 12311 Vanowen Street\, North Hollywood\, 91605
CATEGORIES:Community Events
GEO:34.1946695;-118.4011736
X-APPLE-STRUCTURED-LOCATION;VALUE=URI;X-ADDRESS=Valley Plaza Library 12311 Vanowen Street North Hollywood 91605;X-APPLE-RADIUS=500;X-TITLE=12311 Vanowen Street:geo:-118.4011736,34.1946695
END:VEVENT
BEGIN:VEVENT
DTSTART;TZID=America/Los_Angeles:20260311T183000
DTEND;TZID=America/Los_Angeles:20260311T210000
DTSTAMP:20260423T140717
CREATED:20251122T003541Z
LAST-MODIFIED:20260310T230250Z
UID:19841-1773253800-1773262800@nohowest.org
SUMMARY:Board Meeting
DESCRIPTION:Join us for the next NoHo West Neighborhood Council Meeting Wednesday\, March 11\, 6:30pm online. \nZoom Meeting Online or By Telephone\nhttps://us02web.zoom.us/j/81888734444\nDial 888-475-4499 to Join the Meeting\nThen Enter This Webinar ID: 818 8873 4444 and Press # \nWe will discuss funding grants for Comfy Carepacks and the Valley Plaza Spring Event \nMeeting Documents: \n\nNoHo West Agenda General Board Meeting – 3.11.26\nJanuary MER 2026\nNoHo West NC Meeting Minutes 2.11.26\nNoHo West Online Outreach 2025-0701-2\nNPG2026\nFebruary 2026 MER
URL:https://nohowest.org/calendar/board-meeting-17-2026-03-11/
CATEGORIES:General Board
END:VEVENT
BEGIN:VEVENT
DTSTART;TZID=America/Los_Angeles:20260313T100000
DTEND;TZID=America/Los_Angeles:20260313T140000
DTSTAMP:20260423T140717
CREATED:20260130T192856Z
LAST-MODIFIED:20260130T192856Z
UID:19954-1773396000-1773410400@nohowest.org
SUMMARY:Free Tax Prep
DESCRIPTION:Free income tax preparation and filing by California State University\, Northridge\, through the IRS Volunteer Income Tax Assistance program. \nAppointments are preferred. Book an appointment \nTax forms we prepare are:\n\nForm 1040 (U.S. Individual Income Tax Return)\nCA Form 540 (California Resident Income)\nForm 1040NR (Nonresident Income Tax Return)\nBoth spouses must be present for joint returns\n\nWhat to bring on the day of your visit:\n\nA valid CA Driver’s License\, ID\, or Passport\nSocial Security Numbers or ITINs for the taxpayer\, spouse\, and dependents\nTax documents (Forms W-2\, W-2G\, 1099-R\, 1099-INT\, 1099-DIV\, 1099-NEC\, 1099-MISC\, and all other tax documents)\nBank account number and routing number for direct deposit of refund\n\nIf this applies to you\, also bring:\n\nAll Forms 1095\, Health Form Statements\nDaycare provider’s information\, including total amount paid for daycare per child\, daycare provider’s name\, address\, phone number\, and tax ID number\nTotal education expenses (books\, laptops\, etc.)
URL:https://nohowest.org/calendar/free-tax-prep/2026-03-13/
CATEGORIES:Community Events
END:VEVENT
BEGIN:VEVENT
DTSTART;TZID=America/Los_Angeles:20260315T103000
DTEND;TZID=America/Los_Angeles:20260315T123000
DTSTAMP:20260423T140717
CREATED:20260305T235102Z
LAST-MODIFIED:20260305T235102Z
UID:20020-1773570600-1773577800@nohowest.org
SUMMARY:Self Defense Workshop
DESCRIPTION:This month’s District 2 Self-Defense Workshop will be held at: \n10:30 AM to 12:30 PM\nSunday\, March 15\, 2026 \nValley Plaza Recreation Center\n12240 Archwood Street\nNorth Hollywood\, CA 91606 \nBuild self-confidence and learn tips and tricks to save your life\, techniques you’ll remember even if you panic. \nRegister
URL:https://nohowest.org/calendar/self-defense-workshop-2/
CATEGORIES:Community Events
END:VEVENT
BEGIN:VEVENT
DTSTART;TZID=America/Los_Angeles:20260318T170000
DTEND;TZID=America/Los_Angeles:20260318T183000
DTSTAMP:20260423T140717
CREATED:20260311T174021Z
LAST-MODIFIED:20260311T180458Z
UID:20028-1773853200-1773858600@nohowest.org
SUMMARY:North Hollywood to Pasadena Bus Meeting
DESCRIPTION:Metro is approaching final design and preparing for construction this Spring to deliver faster and reliable bus service between the San Fernando and San Gabriel Valleys. \nJoin Metro in March to hear how the North Hollywood to Pasadena Bus Rapid Transit (BRT) Project is progressing through final design before construction is anticipated to begin this year. Your feedback is encouraged! \nNorth Hollywood: Wednesday\, March 18 | 5-6:30pm | La Rochelle Bakery & Cafe\, 5050 Vineland Ave.\nFull meeting details and location: metro.net/nohopasbrt
URL:https://nohowest.org/calendar/north-hollywood-to-pasadena-bus-meeting/
LOCATION:La Rochelle Bakery & Cafe\, 5050 Vineland Ave\, North Hollywood\, 91601
CATEGORIES:Community Events
GEO:34.1625127;-118.3700659
X-APPLE-STRUCTURED-LOCATION;VALUE=URI;X-ADDRESS=La Rochelle Bakery & Cafe 5050 Vineland Ave North Hollywood 91601;X-APPLE-RADIUS=500;X-TITLE=5050 Vineland Ave:geo:-118.3700659,34.1625127
END:VEVENT
BEGIN:VEVENT
DTSTART;TZID=America/Los_Angeles:20260320T100000
DTEND;TZID=America/Los_Angeles:20260320T140000
DTSTAMP:20260423T140717
CREATED:20260130T192856Z
LAST-MODIFIED:20260130T192856Z
UID:19955-1774000800-1774015200@nohowest.org
SUMMARY:Free Tax Prep
DESCRIPTION:Free income tax preparation and filing by California State University\, Northridge\, through the IRS Volunteer Income Tax Assistance program. \nAppointments are preferred. Book an appointment \nTax forms we prepare are:\n\nForm 1040 (U.S. Individual Income Tax Return)\nCA Form 540 (California Resident Income)\nForm 1040NR (Nonresident Income Tax Return)\nBoth spouses must be present for joint returns\n\nWhat to bring on the day of your visit:\n\nA valid CA Driver’s License\, ID\, or Passport\nSocial Security Numbers or ITINs for the taxpayer\, spouse\, and dependents\nTax documents (Forms W-2\, W-2G\, 1099-R\, 1099-INT\, 1099-DIV\, 1099-NEC\, 1099-MISC\, and all other tax documents)\nBank account number and routing number for direct deposit of refund\n\nIf this applies to you\, also bring:\n\nAll Forms 1095\, Health Form Statements\nDaycare provider’s information\, including total amount paid for daycare per child\, daycare provider’s name\, address\, phone number\, and tax ID number\nTotal education expenses (books\, laptops\, etc.)
URL:https://nohowest.org/calendar/free-tax-prep/2026-03-20/
CATEGORIES:Community Events
END:VEVENT
BEGIN:VEVENT
DTSTART;TZID=America/Los_Angeles:20260324T180000
DTEND;TZID=America/Los_Angeles:20260324T193000
DTSTAMP:20260423T140717
CREATED:20260320T175400Z
LAST-MODIFIED:20260320T181357Z
UID:20073-1774375200-1774380600@nohowest.org
SUMMARY:Planning and Land Use Management Meeting
DESCRIPTION:Join us Tuesday\, March 24\, 6pm online for a meeting of the Planning and Land Use Management Committee. \nZoom Meeting Online or By Telephone\nZoom Webinar Link: https://us02web.zoom.us/j/82461189463\nDial (888)475-4499 to Join the Meeting\nThen Enter This Webinar ID: 824 6118 9463 and Press # \n3.24.26 NoHo West PLUM Committee Agenda- Teleconference Meeting
URL:https://nohowest.org/calendar/planning-and-land-use-management-meeting/
CATEGORIES:Committee Meeting
ATTACH;FMTTYPE=image/png:https://nohowest.org/wp-content/uploads/2026/03/Meeting-12.png
END:VEVENT
BEGIN:VEVENT
DTSTART;TZID=America/Los_Angeles:20260325T180000
DTEND;TZID=America/Los_Angeles:20260325T200000
DTSTAMP:20260423T140717
CREATED:20260219T223926Z
LAST-MODIFIED:20260219T224132Z
UID:19992-1774461600-1774468800@nohowest.org
SUMMARY:DWP Solutions Summit
DESCRIPTION:On behalf of the City of LA’s Office of Public Accountability\, we are inviting community members and stakeholders to attend their public Solutions Summits to learn more about LADWP resources in March and April. \nSolutions Summit #2 (North Hollywood)\nDate/Time: Wednesday\, March 25th (6:00 pm to 8:00 pm)\nLocation: Saint Anne Banquet Hall\, 11211 Moorpark St.\, North Hollywood 91602 \nCommunity members can RSVP at:\n\n\n\nEnglish RSVP link: RSVP Form: Office of Public Accountability/Ratepayer Advocate’s Solutions Summits\nSpanish RSVP link: Formulario de RSVP: Reuniones Comunitar de la Oficina de Responsabilidad Pública de la Ciudad de Los Angeles
URL:https://nohowest.org/calendar/dwp-solutions-summit/
LOCATION:St. Anne Banquet Hall\, 11211 Moorpark St.\, North Hollywood\, 91602
CATEGORIES:Community Events
GEO:34.1506319;-118.375643
X-APPLE-STRUCTURED-LOCATION;VALUE=URI;X-ADDRESS=St. Anne Banquet Hall 11211 Moorpark St. North Hollywood 91602;X-APPLE-RADIUS=500;X-TITLE=11211 Moorpark St.:geo:-118.375643,34.1506319
END:VEVENT
BEGIN:VEVENT
DTSTART;TZID=America/Los_Angeles:20260326T180000
DTEND;TZID=America/Los_Angeles:20260326T193000
DTSTAMP:20260423T140717
CREATED:20260320T191943Z
LAST-MODIFIED:20260320T192238Z
UID:20077-1774548000-1774553400@nohowest.org
SUMMARY:Madison Middle School Classroom Replacement Project Community Meeting
DESCRIPTION:You are invited to our first community meeting to learn all about this exciting $60.5 million CLASSROOM REPLACEMENT PROJECT at Madison Middle School. We will provide a project overview\, the preliminary design\, anticipated project development calendar and the anticipated construction schedule. We look forward to hearing your comments and answering your questions. \nOnline Zoom Meeting:\nlausd.zoom.us/j/84173598887\nMeeting ID#: 841 7359 8887
URL:https://nohowest.org/calendar/madison-middle-school-classroom-replacement-project-community-meeting/
LOCATION:James Madison Middle School\, 13000 Hart St.\, North Hollywood\, 91605
CATEGORIES:Community Events
GEO:34.196254;-118.4162646
X-APPLE-STRUCTURED-LOCATION;VALUE=URI;X-ADDRESS=James Madison Middle School 13000 Hart St. North Hollywood 91605;X-APPLE-RADIUS=500;X-TITLE=13000 Hart St.:geo:-118.4162646,34.196254
END:VEVENT
BEGIN:VEVENT
DTSTART;TZID=America/Los_Angeles:20260327T100000
DTEND;TZID=America/Los_Angeles:20260327T140000
DTSTAMP:20260423T140717
CREATED:20260130T192856Z
LAST-MODIFIED:20260130T192856Z
UID:19956-1774605600-1774620000@nohowest.org
SUMMARY:Free Tax Prep
DESCRIPTION:Free income tax preparation and filing by California State University\, Northridge\, through the IRS Volunteer Income Tax Assistance program. \nAppointments are preferred. Book an appointment \nTax forms we prepare are:\n\nForm 1040 (U.S. Individual Income Tax Return)\nCA Form 540 (California Resident Income)\nForm 1040NR (Nonresident Income Tax Return)\nBoth spouses must be present for joint returns\n\nWhat to bring on the day of your visit:\n\nA valid CA Driver’s License\, ID\, or Passport\nSocial Security Numbers or ITINs for the taxpayer\, spouse\, and dependents\nTax documents (Forms W-2\, W-2G\, 1099-R\, 1099-INT\, 1099-DIV\, 1099-NEC\, 1099-MISC\, and all other tax documents)\nBank account number and routing number for direct deposit of refund\n\nIf this applies to you\, also bring:\n\nAll Forms 1095\, Health Form Statements\nDaycare provider’s information\, including total amount paid for daycare per child\, daycare provider’s name\, address\, phone number\, and tax ID number\nTotal education expenses (books\, laptops\, etc.)
URL:https://nohowest.org/calendar/free-tax-prep/2026-03-27/
CATEGORIES:Community Events
END:VEVENT
BEGIN:VEVENT
DTSTART;TZID=America/Los_Angeles:20260328T080000
DTEND;TZID=America/Los_Angeles:20260328T120000
DTSTAMP:20260423T140717
CREATED:20260305T233114Z
LAST-MODIFIED:20260318T192751Z
UID:20015-1774684800-1774699200@nohowest.org
SUMMARY:Community Clean Up
DESCRIPTION:This cleanup will start at Raymer and Whitsett and go west to Bellaire. \nMeeting Place: Public Storage\, 12510 Raymer St\, North Hollywood\, CA 91605\n\nStreet parking only.\nRSVP:  https://forms.gle/YiD8MTYGtgW8Ri2LA
URL:https://nohowest.org/calendar/community-clean-up/
LOCATION:Public Storage\, 12510 Raymer St.\, North Hollywood\, CA\, 91605\, United States
CATEGORIES:Community Events
GEO:34.2026412;-118.4057947
X-APPLE-STRUCTURED-LOCATION;VALUE=URI;X-ADDRESS=Public Storage 12510 Raymer St. North Hollywood CA 91605 United States;X-APPLE-RADIUS=500;X-TITLE=12510 Raymer St.:geo:-118.4057947,34.2026412
END:VEVENT
BEGIN:VEVENT
DTSTART;TZID=America/Los_Angeles:20260330T110000
DTEND;TZID=America/Los_Angeles:20260330T120000
DTSTAMP:20260423T140717
CREATED:20260324T220539Z
LAST-MODIFIED:20260324T220539Z
UID:20087-1774868400-1774872000@nohowest.org
SUMMARY:Executive Committee Meeting
DESCRIPTION:The NoHo West Executive Committee Meeting will be held on March 30\, 11am online. \nNoHo West Agenda Executive Committee Meeting – 3.30.26 \nZoom Meeting Online or By Telephone:\nhttps://us02web.zoom.us/j/87205243524\nDial 888-475-4499 to Join the Meeting\nThen Enter This Webinar ID: 872 0524 3524 and Press #
URL:https://nohowest.org/calendar/executive-committee-meeting-56/
CATEGORIES:Committee Meeting
END:VEVENT
END:VCALENDAR