BEGIN:VCALENDAR
VERSION:2.0
PRODID:-//NoHowest.org - ECPv6.15.16//NONSGML v1.0//EN
CALSCALE:GREGORIAN
METHOD:PUBLISH
X-WR-CALNAME:NoHowest.org
X-ORIGINAL-URL:https://nohowest.org
X-WR-CALDESC:Events for NoHowest.org
REFRESH-INTERVAL;VALUE=DURATION:PT1H
X-Robots-Tag:noindex
X-PUBLISHED-TTL:PT1H
BEGIN:VTIMEZONE
TZID:America/Los_Angeles
BEGIN:DAYLIGHT
TZOFFSETFROM:-0800
TZOFFSETTO:-0700
TZNAME:PDT
DTSTART:20250309T100000
END:DAYLIGHT
BEGIN:STANDARD
TZOFFSETFROM:-0700
TZOFFSETTO:-0800
TZNAME:PST
DTSTART:20251102T090000
END:STANDARD
BEGIN:DAYLIGHT
TZOFFSETFROM:-0800
TZOFFSETTO:-0700
TZNAME:PDT
DTSTART:20260308T100000
END:DAYLIGHT
BEGIN:STANDARD
TZOFFSETFROM:-0700
TZOFFSETTO:-0800
TZNAME:PST
DTSTART:20261101T090000
END:STANDARD
BEGIN:DAYLIGHT
TZOFFSETFROM:-0800
TZOFFSETTO:-0700
TZNAME:PDT
DTSTART:20270314T100000
END:DAYLIGHT
BEGIN:STANDARD
TZOFFSETFROM:-0700
TZOFFSETTO:-0800
TZNAME:PST
DTSTART:20271107T090000
END:STANDARD
END:VTIMEZONE
BEGIN:VEVENT
DTSTART;TZID=America/Los_Angeles:20260509T090000
DTEND;TZID=America/Los_Angeles:20260509T120000
DTSTAMP:20260423T141341
CREATED:20260415T224909Z
LAST-MODIFIED:20260415T224959Z
UID:20135-1778317200-1778328000@nohowest.org
SUMMARY:Fur Fest 2026
DESCRIPTION:Comfy Care Packs\, North Hollywood West Neighborhood Council and the Los Angeles Department of Recreation and Parks Presents Fur Fest 2026\, a Celebration of Pets and their People. Join us on Saturday\, May 9\, 9:00 AM to noon for pet resources\, microchipping of the first 50 pets\, refreshments\, giveaways\, vaccinations. Registration required while supplies last. All dogs must be on a leash and all cats must be in a carrier. \nThanks to a grant from the North Hollywood West Neighborhood Council\, the Latino Alliance for Animal Care Foundation will provide pet vaccinations and microchipping. \n\nVaccinations: Available for pets with prior registration (limit of 2 pets per household\, while supplies last).\nMicrochipping: Available for the first 50 pets\, thanks to partial funding from the office of Adrin Nazarian\, LA City Council District 2.\n\nWe will also have giveaways from Nylabone\, Chewy\, MetroPaws\, Earthbath\, Petralyte\, BestLife4pets and the Noho West Neighborhood Council.
URL:https://nohowest.org/calendar/fur-fest-2026/
LOCATION:Valley Plaza Recreation Center\, 12240 Archwood St.\,\, North Hollywood\, CA\, 91606\, United States
CATEGORIES:Community Events
GEO:34.1920199;-118.4002565
X-APPLE-STRUCTURED-LOCATION;VALUE=URI;X-ADDRESS=Valley Plaza Recreation Center 12240 Archwood St. North Hollywood CA 91606 United States;X-APPLE-RADIUS=500;X-TITLE=12240 Archwood St.\,:geo:-118.4002565,34.1920199
END:VEVENT
BEGIN:VEVENT
DTSTART;TZID=America/Los_Angeles:20260513T183000
DTEND;TZID=America/Los_Angeles:20260513T210000
DTSTAMP:20260423T141341
CREATED:20251122T003541Z
LAST-MODIFIED:20260331T224543Z
UID:19843-1778697000-1778706000@nohowest.org
SUMMARY:Board Meeting
DESCRIPTION:Join us the 2nd Wednesday
URL:https://nohowest.org/calendar/board-meeting-17-2026-05-13/2026-05-13/
CATEGORIES:General Board
END:VEVENT
BEGIN:VEVENT
DTSTART;TZID=America/Los_Angeles:20260516T090000
DTEND;TZID=America/Los_Angeles:20260516T110000
DTSTAMP:20260423T141341
CREATED:20260318T193402Z
LAST-MODIFIED:20260417T230418Z
UID:20063-1778922000-1778929200@nohowest.org
SUMMARY:Vanowen Clean Up
DESCRIPTION:In addition to the monthly cleanups we’re coordinating with CD2\, Volunteers Cleaning Communities (VCC https://volunteerscleaningcommunities.com/) is cleaning the full width of Vanowen across the valley and partnering with NCs.\n\nAs the northside of Vanowen runs through our NC district from Fulton to 170\, we will join this effort.\n\nWe will meet on May 16 at 8am\, outside Valley Plaza Library\, where people would check in\, get teamed up and given their street assignment. More details to follow.\n\n\nJoin us for community litter pickup event on all of Vanowen Street from Topanga to Vineland. 13 1/2 miles length with 150 volunteers. Meet us Saturday\, May from 9 to 11:00 AM. Tools will be provided and sections will be assigned at registration. Noho West Neighborhood Council is one of the sponsors of this event come and meet your neighbors!
URL:https://nohowest.org/calendar/vanowen-clean-up/
LOCATION:Valley Plaza Library\, 12311 Vanowen Street\, North Hollywood\, 91605
CATEGORIES:Community Events
GEO:34.1946695;-118.4011736
X-APPLE-STRUCTURED-LOCATION;VALUE=URI;X-ADDRESS=Valley Plaza Library 12311 Vanowen Street North Hollywood 91605;X-APPLE-RADIUS=500;X-TITLE=12311 Vanowen Street:geo:-118.4011736,34.1946695
END:VEVENT
END:VCALENDAR