BEGIN:VCALENDAR
VERSION:2.0
PRODID:-//NoHowest.org - ECPv6.15.16//NONSGML v1.0//EN
CALSCALE:GREGORIAN
METHOD:PUBLISH
X-WR-CALNAME:NoHowest.org
X-ORIGINAL-URL:https://nohowest.org
X-WR-CALDESC:Events for NoHowest.org
REFRESH-INTERVAL;VALUE=DURATION:PT1H
X-Robots-Tag:noindex
X-PUBLISHED-TTL:PT1H
BEGIN:VTIMEZONE
TZID:America/Los_Angeles
BEGIN:DAYLIGHT
TZOFFSETFROM:-0800
TZOFFSETTO:-0700
TZNAME:PDT
DTSTART:20160313T100000
END:DAYLIGHT
BEGIN:STANDARD
TZOFFSETFROM:-0700
TZOFFSETTO:-0800
TZNAME:PST
DTSTART:20161106T090000
END:STANDARD
BEGIN:DAYLIGHT
TZOFFSETFROM:-0800
TZOFFSETTO:-0700
TZNAME:PDT
DTSTART:20170312T100000
END:DAYLIGHT
BEGIN:STANDARD
TZOFFSETFROM:-0700
TZOFFSETTO:-0800
TZNAME:PST
DTSTART:20171105T090000
END:STANDARD
BEGIN:DAYLIGHT
TZOFFSETFROM:-0800
TZOFFSETTO:-0700
TZNAME:PDT
DTSTART:20180311T100000
END:DAYLIGHT
BEGIN:STANDARD
TZOFFSETFROM:-0700
TZOFFSETTO:-0800
TZNAME:PST
DTSTART:20181104T090000
END:STANDARD
END:VTIMEZONE
BEGIN:VEVENT
DTSTART;TZID=America/Los_Angeles:20170926T130000
DTEND;TZID=America/Los_Angeles:20170926T150000
DTSTAMP:20260423T212715
CREATED:20170908T170505Z
LAST-MODIFIED:20170908T170505Z
UID:6701-1506430800-1506438000@nohowest.org
SUMMARY:The Basics: Memory Loss\, Dementia\, and Alzheimer’s Disease
DESCRIPTION:Tuesday\, September 26\, 1-3 p.m.\nKaiser Permanente Panorama City:\n13652 Cantara St.\, Panorama City\, CA 91402\, Medical Offices 2\, Area 153\nLearn about detection\, causes\, risk factors\, stages\, and treatment of Alzheimer’s disease.\nRegister by phone at 800.272.3900 or online.
URL:https://nohowest.org/calendar/the-basics-memory-loss-dementia-and-alzheimers-disease/
LOCATION:Kaiser Permanente Panorama City\, 13652 Cantara St\, Panorama City\, 91402
CATEGORIES:Community Events
GEO:34.2187902;-118.4300562
X-APPLE-STRUCTURED-LOCATION;VALUE=URI;X-ADDRESS=Kaiser Permanente Panorama City 13652 Cantara St Panorama City 91402;X-APPLE-RADIUS=500;X-TITLE=13652 Cantara St:geo:-118.4300562,34.2187902
END:VEVENT
BEGIN:VEVENT
DTSTART;TZID=America/Los_Angeles:20170912T130000
DTEND;TZID=America/Los_Angeles:20170912T150000
DTSTAMP:20260423T212715
CREATED:20170908T170303Z
LAST-MODIFIED:20170908T170303Z
UID:6697-1505221200-1505228400@nohowest.org
SUMMARY:Know The Ten Signs
DESCRIPTION:Tuesday\, September 12\, 1-3 p.m.\nKaiser Permanente Panorama City:\n13652 Cantara St.\, Panorama City\, CA 91402\, Medical Offices 2\, Area 153\nAttend this training to learn the 10 Warning Signs of Alzheimer’s disease. We’ll separate myth from reality and address commonly-held fears about Alzheimer’s in America.\nRegister by phone at 800.272.3900 or online.
URL:https://nohowest.org/calendar/know-the-ten-signs/
LOCATION:Kaiser Permanente Panorama City\, 13652 Cantara St\, Panorama City\, 91402
GEO:34.2187902;-118.4300562
X-APPLE-STRUCTURED-LOCATION;VALUE=URI;X-ADDRESS=Kaiser Permanente Panorama City 13652 Cantara St Panorama City 91402;X-APPLE-RADIUS=500;X-TITLE=13652 Cantara St:geo:-118.4300562,34.2187902
END:VEVENT
END:VCALENDAR