BEGIN:VCALENDAR
VERSION:2.0
PRODID:-//NoHowest.org - ECPv6.15.16//NONSGML v1.0//EN
CALSCALE:GREGORIAN
METHOD:PUBLISH
X-ORIGINAL-URL:https://nohowest.org
X-WR-CALDESC:Events for NoHowest.org
REFRESH-INTERVAL;VALUE=DURATION:PT1H
X-Robots-Tag:noindex
X-PUBLISHED-TTL:PT1H
BEGIN:VTIMEZONE
TZID:America/Los_Angeles
BEGIN:DAYLIGHT
TZOFFSETFROM:-0800
TZOFFSETTO:-0700
TZNAME:PDT
DTSTART:20190310T100000
END:DAYLIGHT
BEGIN:STANDARD
TZOFFSETFROM:-0700
TZOFFSETTO:-0800
TZNAME:PST
DTSTART:20191103T090000
END:STANDARD
BEGIN:DAYLIGHT
TZOFFSETFROM:-0800
TZOFFSETTO:-0700
TZNAME:PDT
DTSTART:20200308T100000
END:DAYLIGHT
BEGIN:STANDARD
TZOFFSETFROM:-0700
TZOFFSETTO:-0800
TZNAME:PST
DTSTART:20201101T090000
END:STANDARD
BEGIN:DAYLIGHT
TZOFFSETFROM:-0800
TZOFFSETTO:-0700
TZNAME:PDT
DTSTART:20210314T100000
END:DAYLIGHT
BEGIN:STANDARD
TZOFFSETFROM:-0700
TZOFFSETTO:-0800
TZNAME:PST
DTSTART:20211107T090000
END:STANDARD
END:VTIMEZONE
BEGIN:VEVENT
DTSTART;TZID=America/Los_Angeles:20200313T100000
DTEND;TZID=America/Los_Angeles:20200313T140000
DTSTAMP:20260424T113933
CREATED:20200217T213520Z
LAST-MODIFIED:20200217T213520Z
UID:9068-1584093600-1584108000@nohowest.org
SUMMARY:Volunteers of America Resource Fair
DESCRIPTION:Come to our free event and meet some of our community partners. Learn about all the resources available to our community. There will be book giveaways\, raffles\, prizes and a special guest character.
URL:https://nohowest.org/calendar/volunteers-of-america-resource-fair/
LOCATION:12231  Vanowen\, 12231 Vanowen\, North Hollywood\, 91605
CATEGORIES:Community Events
GEO:34.1939449;-118.3998104
X-APPLE-STRUCTURED-LOCATION;VALUE=URI;X-ADDRESS=12231  Vanowen 12231 Vanowen North Hollywood 91605;X-APPLE-RADIUS=500;X-TITLE=12231 Vanowen:geo:-118.3998104,34.1939449
END:VEVENT
END:VCALENDAR