BEGIN:VCALENDAR
VERSION:2.0
PRODID:-//NoHowest.org - ECPv6.15.16//NONSGML v1.0//EN
CALSCALE:GREGORIAN
METHOD:PUBLISH
X-ORIGINAL-URL:https://nohowest.org
X-WR-CALDESC:Events for NoHowest.org
REFRESH-INTERVAL;VALUE=DURATION:PT1H
X-Robots-Tag:noindex
X-PUBLISHED-TTL:PT1H
BEGIN:VTIMEZONE
TZID:America/Los_Angeles
BEGIN:DAYLIGHT
TZOFFSETFROM:-0800
TZOFFSETTO:-0700
TZNAME:PDT
DTSTART:20180311T100000
END:DAYLIGHT
BEGIN:STANDARD
TZOFFSETFROM:-0700
TZOFFSETTO:-0800
TZNAME:PST
DTSTART:20181104T090000
END:STANDARD
BEGIN:DAYLIGHT
TZOFFSETFROM:-0800
TZOFFSETTO:-0700
TZNAME:PDT
DTSTART:20190310T100000
END:DAYLIGHT
BEGIN:STANDARD
TZOFFSETFROM:-0700
TZOFFSETTO:-0800
TZNAME:PST
DTSTART:20191103T090000
END:STANDARD
BEGIN:DAYLIGHT
TZOFFSETFROM:-0800
TZOFFSETTO:-0700
TZNAME:PDT
DTSTART:20200308T100000
END:DAYLIGHT
BEGIN:STANDARD
TZOFFSETFROM:-0700
TZOFFSETTO:-0800
TZNAME:PST
DTSTART:20201101T090000
END:STANDARD
END:VTIMEZONE
BEGIN:VEVENT
DTSTART;TZID=America/Los_Angeles:20190327T180000
DTEND;TZID=America/Los_Angeles:20190327T200000
DTSTAMP:20260424T051013
CREATED:20190221T175659Z
LAST-MODIFIED:20190221T175659Z
UID:8374-1553709600-1553716800@nohowest.org
SUMMARY:LAPD Community Town Hall
DESCRIPTION:The LAPD Operations Valley Bureau invites you to the department’s State of the Bureau address to discuss public safety and quality of issues\, crime trends and prevention\, homelessness and community engagement. Join the LAPD command staff and get to know your local law enforcement officers. For more information\, contact (818) 644-8140.
URL:https://nohowest.org/calendar/lapd-community-town-hall/
LOCATION:AGBU Manoogian Demirdjian School\, 6844 Oakdale Ave\, Canoga Park\, 91306
CATEGORIES:Community Events
GEO:34.1947706;-118.5663168
X-APPLE-STRUCTURED-LOCATION;VALUE=URI;X-ADDRESS=AGBU Manoogian Demirdjian School 6844 Oakdale Ave Canoga Park 91306;X-APPLE-RADIUS=500;X-TITLE=6844 Oakdale Ave:geo:-118.5663168,34.1947706
END:VEVENT
END:VCALENDAR