BEGIN:VCALENDAR
VERSION:2.0
PRODID:-//NoHowest.org - ECPv6.15.16//NONSGML v1.0//EN
CALSCALE:GREGORIAN
METHOD:PUBLISH
X-ORIGINAL-URL:https://nohowest.org
X-WR-CALDESC:Events for NoHowest.org
REFRESH-INTERVAL;VALUE=DURATION:PT1H
X-Robots-Tag:noindex
X-PUBLISHED-TTL:PT1H
BEGIN:VTIMEZONE
TZID:America/Los_Angeles
BEGIN:DAYLIGHT
TZOFFSETFROM:-0800
TZOFFSETTO:-0700
TZNAME:PDT
DTSTART:20160313T100000
END:DAYLIGHT
BEGIN:STANDARD
TZOFFSETFROM:-0700
TZOFFSETTO:-0800
TZNAME:PST
DTSTART:20161106T090000
END:STANDARD
BEGIN:DAYLIGHT
TZOFFSETFROM:-0800
TZOFFSETTO:-0700
TZNAME:PDT
DTSTART:20170312T100000
END:DAYLIGHT
BEGIN:STANDARD
TZOFFSETFROM:-0700
TZOFFSETTO:-0800
TZNAME:PST
DTSTART:20171105T090000
END:STANDARD
BEGIN:DAYLIGHT
TZOFFSETFROM:-0800
TZOFFSETTO:-0700
TZNAME:PDT
DTSTART:20180311T100000
END:DAYLIGHT
BEGIN:STANDARD
TZOFFSETFROM:-0700
TZOFFSETTO:-0800
TZNAME:PST
DTSTART:20181104T090000
END:STANDARD
END:VTIMEZONE
BEGIN:VEVENT
DTSTART;TZID=America/Los_Angeles:20170408T160000
DTEND;TZID=America/Los_Angeles:20170408T190000
DTSTAMP:20260424T082132
CREATED:20170325T050427Z
LAST-MODIFIED:20170401T175211Z
UID:6249-1491667200-1491678000@nohowest.org
SUMMARY:10th Annual Fight for Air Climb
DESCRIPTION:The American Lung Association will be hosting its 10th Annual Fight for Air Climb as climbers take on the challenge of 63 floors in the annual stair climb. Come and support their effort to make a positive impact in the approximately 415\,000 lives that are affected by lung disease and to fight for clean air. The funds will be used to support the mission of the American Lung Association. \nSaturday\, April 8\n4:00 pm \nAon Center\n707 Wilshire Blvd.\nLos Angeles \nFor more information\, call 310-735-9177 or email amanda.gutzwiller@lung.org.
URL:https://nohowest.org/calendar/0th-annual-fight-for-air-climb/
LOCATION:Aon Center\, 707 Wilshire Blvd.\, Los Angeles
CATEGORIES:Community Events
GEO:34.0492187;-118.2570021
X-APPLE-STRUCTURED-LOCATION;VALUE=URI;X-ADDRESS=Aon Center 707 Wilshire Blvd. Los Angeles;X-APPLE-RADIUS=500;X-TITLE=707 Wilshire Blvd.:geo:-118.2570021,34.0492187
END:VEVENT
END:VCALENDAR