BEGIN:VCALENDAR
VERSION:2.0
PRODID:-//NoHowest.org - ECPv6.15.16//NONSGML v1.0//EN
CALSCALE:GREGORIAN
METHOD:PUBLISH
X-WR-CALNAME:NoHowest.org
X-ORIGINAL-URL:https://nohowest.org
X-WR-CALDESC:Events for NoHowest.org
REFRESH-INTERVAL;VALUE=DURATION:PT1H
X-Robots-Tag:noindex
X-PUBLISHED-TTL:PT1H
BEGIN:VTIMEZONE
TZID:America/Los_Angeles
BEGIN:DAYLIGHT
TZOFFSETFROM:-0800
TZOFFSETTO:-0700
TZNAME:PDT
DTSTART:20160313T100000
END:DAYLIGHT
BEGIN:STANDARD
TZOFFSETFROM:-0700
TZOFFSETTO:-0800
TZNAME:PST
DTSTART:20161106T090000
END:STANDARD
BEGIN:DAYLIGHT
TZOFFSETFROM:-0800
TZOFFSETTO:-0700
TZNAME:PDT
DTSTART:20170312T100000
END:DAYLIGHT
BEGIN:STANDARD
TZOFFSETFROM:-0700
TZOFFSETTO:-0800
TZNAME:PST
DTSTART:20171105T090000
END:STANDARD
BEGIN:DAYLIGHT
TZOFFSETFROM:-0800
TZOFFSETTO:-0700
TZNAME:PDT
DTSTART:20180311T100000
END:DAYLIGHT
BEGIN:STANDARD
TZOFFSETFROM:-0700
TZOFFSETTO:-0800
TZNAME:PST
DTSTART:20181104T090000
END:STANDARD
BEGIN:DAYLIGHT
TZOFFSETFROM:-0800
TZOFFSETTO:-0700
TZNAME:PDT
DTSTART:20190310T100000
END:DAYLIGHT
BEGIN:STANDARD
TZOFFSETFROM:-0700
TZOFFSETTO:-0800
TZNAME:PST
DTSTART:20191103T090000
END:STANDARD
END:VTIMEZONE
BEGIN:VEVENT
DTSTART;TZID=America/Los_Angeles:20180905T173000
DTEND;TZID=America/Los_Angeles:20180905T193000
DTSTAMP:20260424T045218
CREATED:20180829T223401Z
LAST-MODIFIED:20180829T223401Z
UID:7965-1536168600-1536175800@nohowest.org
SUMMARY:Burbank / LA High Speed Rail Community Meeting
DESCRIPTION:Wednesday\, September 5\, 5:30 pm to 7:30 pm\nBuena Vista Branch Library\n300 N Buena Vista St\nBurbank\, CA 91505 \nThe California High-Speed Rail Authority is conducting a series of outreach meetings for the Burbank to Los Angeles Project Section. The section is part of the first phase of building the nation’s first high-speed rail system and runs approximately 14 miles connecting Burbank (airport area) and Los Angeles Union Station. Learn about the project recommendations\, new and existing grade separations and other proposed project features. If you can’t attend\, watch the live webcast on ustream.tv/channel/chsra.
URL:https://nohowest.org/calendar/burbank-la-high-speed-rail-community-meeting/
LOCATION:Buena Vista Branch Library\, 300 N Buena Vista St.\, Burbank\, 91505
CATEGORIES:Community Events
GEO:34.1641363;-118.3303637
X-APPLE-STRUCTURED-LOCATION;VALUE=URI;X-ADDRESS=Buena Vista Branch Library 300 N Buena Vista St. Burbank 91505;X-APPLE-RADIUS=500;X-TITLE=300 N Buena Vista St.:geo:-118.3303637,34.1641363
END:VEVENT
BEGIN:VEVENT
DTSTART;TZID=America/Los_Angeles:20170313T180000
DTEND;TZID=America/Los_Angeles:20170313T200000
DTSTAMP:20260424T045218
CREATED:20170307T185702Z
LAST-MODIFIED:20170307T185702Z
UID:6191-1489428000-1489435200@nohowest.org
SUMMARY:Metro Public Meeting: Burbank Airport Station
DESCRIPTION:Metro Public Meeting:\nConstruction of the Burbank Airport – North Metrolink Station\nMonday\, March 13\, 6 pm\nBuena Vista Branch Library\n300 N Buena Vista St.\nBurbank\, CA 91505 \nOn March 13\, come meet the Metro project team and learn more about the schedule\, construction period\, and other details of the construction of the Burbank Airport – North Metrolink Station. Project experts will be available to answer questions. Presentation starts at 6:30 pm. You can also watch the live webcast: www.tinyurl.com/train2plane
URL:https://nohowest.org/calendar/metro-public-meeting-burbank-airport-station/
LOCATION:Buena Vista Branch Library\, 300 N Buena Vista St.\, Burbank\, 91505
CATEGORIES:Community Events
GEO:34.1641363;-118.3303637
X-APPLE-STRUCTURED-LOCATION;VALUE=URI;X-ADDRESS=Buena Vista Branch Library 300 N Buena Vista St. Burbank 91505;X-APPLE-RADIUS=500;X-TITLE=300 N Buena Vista St.:geo:-118.3303637,34.1641363
END:VEVENT
END:VCALENDAR