BEGIN:VCALENDAR
VERSION:2.0
PRODID:-//NoHowest.org - ECPv6.15.16//NONSGML v1.0//EN
CALSCALE:GREGORIAN
METHOD:PUBLISH
X-ORIGINAL-URL:https://nohowest.org
X-WR-CALDESC:Events for NoHowest.org
REFRESH-INTERVAL;VALUE=DURATION:PT1H
X-Robots-Tag:noindex
X-PUBLISHED-TTL:PT1H
BEGIN:VTIMEZONE
TZID:America/Los_Angeles
BEGIN:DAYLIGHT
TZOFFSETFROM:-0800
TZOFFSETTO:-0700
TZNAME:PDT
DTSTART:20160313T100000
END:DAYLIGHT
BEGIN:STANDARD
TZOFFSETFROM:-0700
TZOFFSETTO:-0800
TZNAME:PST
DTSTART:20161106T090000
END:STANDARD
BEGIN:DAYLIGHT
TZOFFSETFROM:-0800
TZOFFSETTO:-0700
TZNAME:PDT
DTSTART:20170312T100000
END:DAYLIGHT
BEGIN:STANDARD
TZOFFSETFROM:-0700
TZOFFSETTO:-0800
TZNAME:PST
DTSTART:20171105T090000
END:STANDARD
BEGIN:DAYLIGHT
TZOFFSETFROM:-0800
TZOFFSETTO:-0700
TZNAME:PDT
DTSTART:20180311T100000
END:DAYLIGHT
BEGIN:STANDARD
TZOFFSETFROM:-0700
TZOFFSETTO:-0800
TZNAME:PST
DTSTART:20181104T090000
END:STANDARD
BEGIN:DAYLIGHT
TZOFFSETFROM:-0800
TZOFFSETTO:-0700
TZNAME:PDT
DTSTART:20190310T100000
END:DAYLIGHT
BEGIN:STANDARD
TZOFFSETFROM:-0700
TZOFFSETTO:-0800
TZNAME:PST
DTSTART:20191103T090000
END:STANDARD
BEGIN:DAYLIGHT
TZOFFSETFROM:-0800
TZOFFSETTO:-0700
TZNAME:PDT
DTSTART:20200308T100000
END:DAYLIGHT
BEGIN:STANDARD
TZOFFSETFROM:-0700
TZOFFSETTO:-0800
TZNAME:PST
DTSTART:20201101T090000
END:STANDARD
BEGIN:DAYLIGHT
TZOFFSETFROM:-0800
TZOFFSETTO:-0700
TZNAME:PDT
DTSTART:20210314T100000
END:DAYLIGHT
BEGIN:STANDARD
TZOFFSETFROM:-0700
TZOFFSETTO:-0800
TZNAME:PST
DTSTART:20211107T090000
END:STANDARD
BEGIN:DAYLIGHT
TZOFFSETFROM:-0800
TZOFFSETTO:-0700
TZNAME:PDT
DTSTART:20220313T100000
END:DAYLIGHT
BEGIN:STANDARD
TZOFFSETFROM:-0700
TZOFFSETTO:-0800
TZNAME:PST
DTSTART:20221106T090000
END:STANDARD
BEGIN:DAYLIGHT
TZOFFSETFROM:-0800
TZOFFSETTO:-0700
TZNAME:PDT
DTSTART:20230312T100000
END:DAYLIGHT
BEGIN:STANDARD
TZOFFSETFROM:-0700
TZOFFSETTO:-0800
TZNAME:PST
DTSTART:20231105T090000
END:STANDARD
BEGIN:DAYLIGHT
TZOFFSETFROM:-0800
TZOFFSETTO:-0700
TZNAME:PDT
DTSTART:20240310T100000
END:DAYLIGHT
BEGIN:STANDARD
TZOFFSETFROM:-0700
TZOFFSETTO:-0800
TZNAME:PST
DTSTART:20241103T090000
END:STANDARD
END:VTIMEZONE
BEGIN:VEVENT
DTSTART;TZID=America/Los_Angeles:20230923T090000
DTEND;TZID=America/Los_Angeles:20230923T140000
DTSTAMP:20260423T193934
CREATED:20230913T185844Z
LAST-MODIFIED:20230913T185844Z
UID:16141-1695459600-1695477600@nohowest.org
SUMMARY:Catalytic Converter Etching
DESCRIPTION:
URL:https://nohowest.org/calendar/catalytic-converter-etching/
LOCATION:Church of Scientology\, 11455 Burbank\, N. Hollywood\, 91601
CATEGORIES:Community Events
GEO:34.1723066;-118.380579
X-APPLE-STRUCTURED-LOCATION;VALUE=URI;X-ADDRESS=Church of Scientology 11455 Burbank N. Hollywood 91601;X-APPLE-RADIUS=500;X-TITLE=11455 Burbank:geo:-118.380579,34.1723066
END:VEVENT
BEGIN:VEVENT
DTSTART;TZID=America/Los_Angeles:20181013T083000
DTEND;TZID=America/Los_Angeles:20181013T113000
DTSTAMP:20260423T193934
CREATED:20181004T204750Z
LAST-MODIFIED:20181004T204751Z
UID:8052-1539419400-1539430200@nohowest.org
SUMMARY:Emergency Preparedness Summit
DESCRIPTION:
URL:https://nohowest.org/calendar/emergency-preparedness-summit/
LOCATION:Church of Scientology\, 11455 Burbank\, N. Hollywood\, 91601
CATEGORIES:Community Events
GEO:34.1723066;-118.380579
X-APPLE-STRUCTURED-LOCATION;VALUE=URI;X-ADDRESS=Church of Scientology 11455 Burbank N. Hollywood 91601;X-APPLE-RADIUS=500;X-TITLE=11455 Burbank:geo:-118.380579,34.1723066
END:VEVENT
BEGIN:VEVENT
DTSTART;TZID=America/Los_Angeles:20171021T083000
DTEND;TZID=America/Los_Angeles:20171021T120000
DTSTAMP:20260423T193934
CREATED:20170908T171041Z
LAST-MODIFIED:20170908T171041Z
UID:6703-1508574600-1508587200@nohowest.org
SUMMARY:East Valley Emergency Preparedness Summit
DESCRIPTION:
URL:https://nohowest.org/calendar/east-valley-emergency-preparedness-summit-2/
LOCATION:Church of Scientology\, 11455 Burbank\, N. Hollywood\, 91601
CATEGORIES:Community Events
GEO:34.1723066;-118.380579
X-APPLE-STRUCTURED-LOCATION;VALUE=URI;X-ADDRESS=Church of Scientology 11455 Burbank N. Hollywood 91601;X-APPLE-RADIUS=500;X-TITLE=11455 Burbank:geo:-118.380579,34.1723066
END:VEVENT
END:VCALENDAR