BEGIN:VCALENDAR
VERSION:2.0
PRODID:-//NoHowest.org - ECPv6.15.16//NONSGML v1.0//EN
CALSCALE:GREGORIAN
METHOD:PUBLISH
X-WR-CALNAME:NoHowest.org
X-ORIGINAL-URL:https://nohowest.org
X-WR-CALDESC:Events for NoHowest.org
REFRESH-INTERVAL;VALUE=DURATION:PT1H
X-Robots-Tag:noindex
X-PUBLISHED-TTL:PT1H
BEGIN:VTIMEZONE
TZID:America/Los_Angeles
BEGIN:DAYLIGHT
TZOFFSETFROM:-0800
TZOFFSETTO:-0700
TZNAME:PDT
DTSTART:20150308T100000
END:DAYLIGHT
BEGIN:STANDARD
TZOFFSETFROM:-0700
TZOFFSETTO:-0800
TZNAME:PST
DTSTART:20151101T090000
END:STANDARD
BEGIN:DAYLIGHT
TZOFFSETFROM:-0800
TZOFFSETTO:-0700
TZNAME:PDT
DTSTART:20160313T100000
END:DAYLIGHT
BEGIN:STANDARD
TZOFFSETFROM:-0700
TZOFFSETTO:-0800
TZNAME:PST
DTSTART:20161106T090000
END:STANDARD
BEGIN:DAYLIGHT
TZOFFSETFROM:-0800
TZOFFSETTO:-0700
TZNAME:PDT
DTSTART:20170312T100000
END:DAYLIGHT
BEGIN:STANDARD
TZOFFSETFROM:-0700
TZOFFSETTO:-0800
TZNAME:PST
DTSTART:20171105T090000
END:STANDARD
BEGIN:DAYLIGHT
TZOFFSETFROM:-0800
TZOFFSETTO:-0700
TZNAME:PDT
DTSTART:20180311T100000
END:DAYLIGHT
BEGIN:STANDARD
TZOFFSETFROM:-0700
TZOFFSETTO:-0800
TZNAME:PST
DTSTART:20181104T090000
END:STANDARD
BEGIN:DAYLIGHT
TZOFFSETFROM:-0800
TZOFFSETTO:-0700
TZNAME:PDT
DTSTART:20190310T100000
END:DAYLIGHT
BEGIN:STANDARD
TZOFFSETFROM:-0700
TZOFFSETTO:-0800
TZNAME:PST
DTSTART:20191103T090000
END:STANDARD
BEGIN:DAYLIGHT
TZOFFSETFROM:-0800
TZOFFSETTO:-0700
TZNAME:PDT
DTSTART:20200308T100000
END:DAYLIGHT
BEGIN:STANDARD
TZOFFSETFROM:-0700
TZOFFSETTO:-0800
TZNAME:PST
DTSTART:20201101T090000
END:STANDARD
BEGIN:DAYLIGHT
TZOFFSETFROM:-0800
TZOFFSETTO:-0700
TZNAME:PDT
DTSTART:20210314T100000
END:DAYLIGHT
BEGIN:STANDARD
TZOFFSETFROM:-0700
TZOFFSETTO:-0800
TZNAME:PST
DTSTART:20211107T090000
END:STANDARD
BEGIN:DAYLIGHT
TZOFFSETFROM:-0800
TZOFFSETTO:-0700
TZNAME:PDT
DTSTART:20220313T100000
END:DAYLIGHT
BEGIN:STANDARD
TZOFFSETFROM:-0700
TZOFFSETTO:-0800
TZNAME:PST
DTSTART:20221106T090000
END:STANDARD
BEGIN:DAYLIGHT
TZOFFSETFROM:-0800
TZOFFSETTO:-0700
TZNAME:PDT
DTSTART:20230312T100000
END:DAYLIGHT
BEGIN:STANDARD
TZOFFSETFROM:-0700
TZOFFSETTO:-0800
TZNAME:PST
DTSTART:20231105T090000
END:STANDARD
BEGIN:DAYLIGHT
TZOFFSETFROM:-0800
TZOFFSETTO:-0700
TZNAME:PDT
DTSTART:20240310T100000
END:DAYLIGHT
BEGIN:STANDARD
TZOFFSETFROM:-0700
TZOFFSETTO:-0800
TZNAME:PST
DTSTART:20241103T090000
END:STANDARD
BEGIN:DAYLIGHT
TZOFFSETFROM:-0800
TZOFFSETTO:-0700
TZNAME:PDT
DTSTART:20250309T100000
END:DAYLIGHT
BEGIN:STANDARD
TZOFFSETFROM:-0700
TZOFFSETTO:-0800
TZNAME:PST
DTSTART:20251102T090000
END:STANDARD
BEGIN:DAYLIGHT
TZOFFSETFROM:-0800
TZOFFSETTO:-0700
TZNAME:PDT
DTSTART:20260308T100000
END:DAYLIGHT
BEGIN:STANDARD
TZOFFSETFROM:-0700
TZOFFSETTO:-0800
TZNAME:PST
DTSTART:20261101T090000
END:STANDARD
END:VTIMEZONE
BEGIN:VEVENT
DTSTART;TZID=America/Los_Angeles:20250927T080000
DTEND;TZID=America/Los_Angeles:20250927T170000
DTSTAMP:20260423T122313
CREATED:20250818T185015Z
LAST-MODIFIED:20250818T185015Z
UID:19663-1758960000-1758992400@nohowest.org
SUMMARY:Congress of Neighborhoods
DESCRIPTION:Registration is Now Open 🎉 \nJoin hundreds of your fellow NC members for: \n\n20+ workshops on leadership\, advocacy\, and community-building\n30 exhibitors with valuable resources\nOpportunities to meet with city leaders and fellow advocates\nComplimentary lunch and networking opportunities\n\nWhen: Saturday\, September 27\, 2025 from 8 am – 5 pm\nWhere: Los Angeles City Hall\nCost: Free and open to all
URL:https://nohowest.org/calendar/congress-of-neighborhoods-10/
LOCATION:City Hall
CATEGORIES:Community Events
GEO:34.0537126;-118.2428145
END:VEVENT
BEGIN:VEVENT
DTSTART;TZID=America/Los_Angeles:20250222T080000
DTEND;TZID=America/Los_Angeles:20250222T160000
DTSTAMP:20260423T122313
CREATED:20241120T190337Z
LAST-MODIFIED:20241120T190337Z
UID:19061-1740211200-1740240000@nohowest.org
SUMMARY:Youth Conference
DESCRIPTION:Are you an Angeleno between the ages of 14-17 looking to explore civic engagement\, local government\, and community leadership? Apply to attend the 2025 @EmpowerLA Youth Conference! \nEmpowerLA proudly presents the 2025 EmpowerLA Youth Conference\, a one-day event on Saturday\, February 22\, 2025 from 8:00am-4:00pm designed to engage and inspire youth from across Los Angeles. This year’s event will welcome 100 young people between the ages of 14-17 who will dive into the role the Neighborhood Council system plays in grassroots local democracy\, attend learning sessions on ways to be civically engaged in the community\, network with like-minded young leaders\, engage with City leaders\, and so much more. \nEmpowerLA seeks to motivate young people to get involved with the Neighborhood Council system and intentionally shape their personal and professional futures. Conference attendees will have the opportunity to hear from City leaders\, attend workshops and panel discussions\, and participate in a resource fair with over a dozen City departments and trusted community partners. This conference is free to attend\, and breakfast and lunch will be provided to all attendees. \nYouth interested in attending the 2025 EmpowerLA Conference will be asked to complete a short application. This is a selective opportunity\, and not all applicants will be invited to attend the conference. Applications are due no later than 11:59pm on Friday\, December 20th. \nApply Now
URL:https://nohowest.org/calendar/youth-conference/
LOCATION:City Hall
CATEGORIES:Community Events
GEO:34.0537126;-118.2428145
END:VEVENT
BEGIN:VEVENT
DTSTART;TZID=America/Los_Angeles:20240928T080000
DTEND;TZID=America/Los_Angeles:20240928T163000
DTSTAMP:20260423T122313
CREATED:20240904T221051Z
LAST-MODIFIED:20240904T224248Z
UID:18844-1727510400-1727541000@nohowest.org
SUMMARY:Congress of Neighborhoods
DESCRIPTION:Registration for the 2024 Los Angeles Congress of Neighborhoods is officially OPEN! Last year\, we brought the community closer than ever\, and now we’re back at City Hall for our 14th Congress\, marking 25 years of Neighborhood Councils. \nJoin us on September 28th for “Neighborhood Power\, Citywide Impact: The Next 25 Years Start Now.” Let’s make history together!  Learn more and register: https://www.eventbrite.com/e/2024-los-angeles-congress-of-neighborhoods-tickets-881161416517
URL:https://nohowest.org/calendar/congress-of-neighborhoods-9/
LOCATION:City Hall
CATEGORIES:Community Events
GEO:34.0537126;-118.2428145
END:VEVENT
BEGIN:VEVENT
DTSTART;TZID=America/Los_Angeles:20240615T090000
DTEND;TZID=America/Los_Angeles:20240615T123000
DTSTAMP:20260423T122313
CREATED:20240403T190225Z
LAST-MODIFIED:20240607T224215Z
UID:18345-1718442000-1718454600@nohowest.org
SUMMARY:Budget Day
DESCRIPTION:Budget Advocates Report to NCs 2024.04 April \n  \n 
URL:https://nohowest.org/calendar/budget-day-7/
LOCATION:City Hall
CATEGORIES:Community Events
GEO:34.0537126;-118.2428145
END:VEVENT
BEGIN:VEVENT
DTSTART;TZID=America/Los_Angeles:20230923T080000
DTEND;TZID=America/Los_Angeles:20230923T163000
DTSTAMP:20260423T122313
CREATED:20230915T205920Z
LAST-MODIFIED:20230915T205920Z
UID:16193-1695456000-1695486600@nohowest.org
SUMMARY:Congress of Neighborhoods
DESCRIPTION:The annual Congress of Neighborhoods happens next week on Saturday\, September 23rd at LA City Hall! \nWhile the event is free to attend\, you’ll get free parking\, breakfast\, and lunch if you RSVP to the event by visiting: http://NeighborhoodCongress.LA \nPlease sign up ASAP\, to help the caterer get an accurate headcount and ensure there’s enough food for everyone. \nThe Congress is a day of education and networking that gathers more than 500 Neighborhood Council leaders each year together with local elected officials and staff from City departments and other LA-area agencies. NC members get the opportunity to learn from each other; meet their City Councilmembers and others who represent them; and connect with service providers. \nThis is the first time the Congress has been held in person since 2019! Neighborhood Council board and committee members\, as well as members of the public who are interested in community service and local issues\, are all welcome to attend. \nEVENT SCHEDULE + WORKSHOPS \nThe event takes place from 8am – 4:30pm\, but you may come and go as you please. See the event schedule here. \nMore than 20 workshops and panel discussions are being offered this year\, in 3 sessions. You can attend any that you like;  there are sessions on everything from hot issues like homelessness and housing\, to skill-building on topics like leadership or land use issues. The full workshop schedule and descriptions are available here. \nHighlights for this year include a keynote speech from Mayor Karen Bass during the opening session in City Council Chambers\, which starts at 9am. After the Mayor’s speech\, stay for the group photo before you head for your first workshop session!
URL:https://nohowest.org/calendar/congress-of-neighborhoods-8/
LOCATION:City Hall
CATEGORIES:Community Events
GEO:34.0537126;-118.2428145
END:VEVENT
BEGIN:VEVENT
DTSTART;TZID=America/Los_Angeles:20230915T170000
DTEND;TZID=America/Los_Angeles:20230915T230000
DTSTAMP:20260423T122313
CREATED:20230825T002542Z
LAST-MODIFIED:20230825T002542Z
UID:15936-1694797200-1694818800@nohowest.org
SUMMARY:El Grito
DESCRIPTION:Get ready for the free family event of the season – El Grito on September 15! Join us to kick off Latino Heritage Month with our annual El Grito Celebration & Civic Ceremony commemorating the fight for Mexico’s Independence. This event has something for the entire family to enjoy – visit our tiendita activation by the Goddess Mercado\, food trucks\, silent disco and an incredible lineup of musical acts from 5-11 pm in front of the historic City Hall steps!
URL:https://nohowest.org/calendar/el-grito-3/
LOCATION:City Hall
CATEGORIES:Community Events
GEO:34.0537126;-118.2428145
END:VEVENT
BEGIN:VEVENT
DTSTART;TZID=America/Los_Angeles:20230612T100000
DTEND;TZID=America/Los_Angeles:20230612T120000
DTSTAMP:20260423T122313
CREATED:20230417T212201Z
LAST-MODIFIED:20230417T212201Z
UID:14573-1686564000-1686571200@nohowest.org
SUMMARY:Reform LA Listening Sessions
DESCRIPTION:
URL:https://nohowest.org/calendar/reform-la-listening-sessions-4/
LOCATION:City Hall
CATEGORIES:Community Events
GEO:34.0537126;-118.2428145
END:VEVENT
BEGIN:VEVENT
DTSTART;TZID=America/Los_Angeles:20190928T073000
DTEND;TZID=America/Los_Angeles:20190928T170000
DTSTAMP:20260423T122313
CREATED:20190826T204034Z
LAST-MODIFIED:20190826T204034Z
UID:8774-1569655800-1569690000@nohowest.org
SUMMARY:Congress of Neighborhoods
DESCRIPTION:Over 30 free workshops +\nfree breakfast\, lunch & parking if you RSVP \nTake classes on skills & subjects key to Neighborhood Council success\nNetwork with elected officials & staff from every City department\nJoin regional & Citywide alliances of Neighborhood Councils\nShare your success stories with other Neighborhood Council leaders\nSign up early – class space is limited! \nhttps://www.nccongressla.com/
URL:https://nohowest.org/calendar/congress-of-neighborhoods-4/
LOCATION:City Hall
CATEGORIES:Community Events
GEO:34.0537126;-118.2428145
END:VEVENT
BEGIN:VEVENT
DTSTART;TZID=America/Los_Angeles:20190922T140000
DTEND;TZID=America/Los_Angeles:20190922T180000
DTSTAMP:20260423T122313
CREATED:20190912T184612Z
LAST-MODIFIED:20190912T184612Z
UID:8804-1569160800-1569175200@nohowest.org
SUMMARY:Welcome to Prime Minister of Armenia
DESCRIPTION:The Consulate General of Armenia in Los Angeles\, City and County of Los Angeles invite you to the inaugural welcome celebration and concert in honor of His Excellency the Prime Minister of the Republic of Armenia Nikol Pashinyan. \nDuring this historic event\, Prime Minister Nikol Pashinyan will deliver a keynote address to the Armenian community of Los Angeles and Southern California.
URL:https://nohowest.org/calendar/welcome-to-prime-minister-of-armenia/
LOCATION:City Hall
CATEGORIES:Community Events
GEO:34.0537126;-118.2428145
END:VEVENT
BEGIN:VEVENT
DTSTART;TZID=America/Los_Angeles:20190629T083000
DTEND;TZID=America/Los_Angeles:20190629T120000
DTSTAMP:20260423T122313
CREATED:20190510T175825Z
LAST-MODIFIED:20190510T175825Z
UID:8579-1561797000-1561809600@nohowest.org
SUMMARY:Budget Day
DESCRIPTION:Join us Saturday\, June 29th\, 2019 when the Neighborhood Council Budget Advocates host the annual Budget Day at City Hall in Downtown Los Angeles! Invitations are extended to everyone; Los Angeles stakeholders\, Neighborhood Council Board Members\, Elected Officials\, City Employees and members of the press and anyone interested in learning more about our City’s budget. \nRegistration is now open! Follow the link here: http://bit.ly/BudgetDay2019. \nOn the 29th\, registration and breakfast will begin at 7:30am in the 3rd floor rotunda. As breakfast concludes\, guests will be invited into the John Ferraro Council Chamber for discussions on the City’s Budget. Not only about the changes and initiatives driving the FY19/20 plan\, but the actual process and timeline. \nSpeakers for the day will include our Elected Officials\, Department Representatives\, and Budget Advocate leadership. As guests speakers are confirmed\, additional details will be released. \nFollowing the general session\, attendees will be invited to smaller working groups with members from their respective areas in the City to discuss their greatest concerns\, thoughts and suggestions on how their quality of life and how to improve it. \nHere\, each person will be able to share their priorities and get a better understanding of the Budget process to understand how they can influence the decisions made by our elected officials. Current members of the Budget Advocates will help facilitate the discussion and ensure everyone’s thoughts are documented so the Committee can incorporate them into their process this fiscal year. \nWhen the discussion is concluded\, elections will be held to fill vacant seats on the Budget Advocate Committee. Elections are open to stakeholders who have been formally appointed as a Budget Representative by their Neighborhood Councils. \nFor more information on registering for the event\, what’s involved in Budget Advocacy or general questions\, email the Executive Committee at LABudgetAdvocates@gmail.com.
URL:https://nohowest.org/calendar/budget-day-3/
LOCATION:City Hall
CATEGORIES:Community Events
GEO:34.0537126;-118.2428145
END:VEVENT
BEGIN:VEVENT
DTSTART;TZID=America/Los_Angeles:20180922T073000
DTEND;TZID=America/Los_Angeles:20180922T170000
DTSTAMP:20260423T122313
CREATED:20180816T174954Z
LAST-MODIFIED:20180816T174954Z
UID:7913-1537601400-1537635600@nohowest.org
SUMMARY:Congress of Neighborhoods
DESCRIPTION:A day of education & networking for Neighborhood Council leaders \n2018 CONGRESS OF NEIGHBORHOODS \nSaturday\nSeptember 22nd\, 2018\nLA City Hall \nOver 40 free workshops +\nfree breakfast\, lunch & parking if you RSVP\nTake classes on skills & subjects key to Neighborhood Council success \nNetwork with elected officials & staff from every City department \nJoin regional & Citywide alliances of Neighborhood Councils \nShare your success stories with other Neighborhood Council leaders \nhttps://www.nccongressla.com/
URL:https://nohowest.org/calendar/congress-of-neighborhoods-3/
LOCATION:City Hall
CATEGORIES:Community Events
GEO:34.0537126;-118.2428145
END:VEVENT
BEGIN:VEVENT
DTSTART;TZID=America/Los_Angeles:20180623T073000
DTEND;TZID=America/Los_Angeles:20180623T120000
DTSTAMP:20260423T122313
CREATED:20180523T221014Z
LAST-MODIFIED:20180523T221014Z
UID:7684-1529739000-1529755200@nohowest.org
SUMMARY:Budget Day
DESCRIPTION:
URL:https://nohowest.org/calendar/budget-day-2/
LOCATION:City Hall
CATEGORIES:Community Events
GEO:34.0537126;-118.2428145
END:VEVENT
BEGIN:VEVENT
DTSTART;TZID=America/Los_Angeles:20180531T083000
DTEND;TZID=America/Los_Angeles:20180531T120000
DTSTAMP:20260423T122313
CREATED:20180523T221220Z
LAST-MODIFIED:20180523T221220Z
UID:7687-1527755400-1527768000@nohowest.org
SUMMARY:Beautification Summit
DESCRIPTION:The Board of Public Works Office of Community Beautification’s Keep Los Angeles Beautiful will host its first-ever Beautification Summit on Thursday\, May 31\, 2018 in the Tom Bradley Room at City Hall. \nAt the Beautification Summit\, we expect more than 100 participants from across Los Angeles to join us for this half-day program that will feature educational presentations\, networking opportunities\, and a resource fair. Attendees will also receive giveaway items and participate in raffles. This is an opportunity for like-minded groups to come together to share knowledge and resources from our dedicated efforts toward building a clean\, green\, and beautiful Los Angeles. By discussing efforts to prevent litter\, promote the reduction of waste through reuse and recycling\, other beautification projects\, and funding opportunities\, this event will inspire beautification organizations with ideas for new projects and help identify opportunities for collaboration with the City of Los Angeles. \nFor more information\, parking instructions\, and to RSVP visits: https://www.eventbrite.com/e/keep-los-angeles-beautification-summit-tickets-43627529114.
URL:https://nohowest.org/calendar/beautification-summit/
LOCATION:City Hall
CATEGORIES:Community Events
GEO:34.0537126;-118.2428145
END:VEVENT
BEGIN:VEVENT
DTSTART;TZID=America/Los_Angeles:20171026T170000
DTEND;TZID=America/Los_Angeles:20171026T200000
DTSTAMP:20260423T122313
CREATED:20171010T213704Z
LAST-MODIFIED:20171010T213705Z
UID:6804-1509037200-1509048000@nohowest.org
SUMMARY:Grow With: A Business Forum for Women
DESCRIPTION:5:00pm – 5:45pm:        Check-in\, networking & resources fair \n5:45pm – 6:00pm:        Opening remarks \n6:00pm – 6:30pm:        Stories & Experiences of Successful LA Businesswomen \n6:30pm – 6:45pm:        Break \n6:45pm – 7:15pm:        Business-to-Government (B2G): Certified for Success \n7:15pm – 7:30pm:        Closing Remarks \n7:30pm – 8:00pm:        Networking & resources fair \nFor those coming from the street level\, please enter through the Main Street entrance. To reserve parking\, please fill out this form by Tuesday\, October 24th at 5pm. The event will be held in the John Ferraro Council Chamber\, Room 340\, inside City Hall. \nGrow With is organized as part of National Women’s Small Business Month and LA’s commitment to elevating and supporting women leadership in business and across all aspects of life. \nRegister
URL:https://nohowest.org/calendar/grow-with-a-business-forum-for-women/
LOCATION:City Hall
CATEGORIES:Community Events
GEO:34.0537126;-118.2428145
END:VEVENT
BEGIN:VEVENT
DTSTART;TZID=America/Los_Angeles:20171018T183000
DTEND;TZID=America/Los_Angeles:20171018T203000
DTSTAMP:20260423T122313
CREATED:20171010T213815Z
LAST-MODIFIED:20171010T213815Z
UID:6808-1508351400-1508358600@nohowest.org
SUMMARY:Days of Compassion Homeless Civic U
DESCRIPTION:The Mayors Office of Public Engagement is excited to announce the next iteration of the Days of Compassion Initiative\, our “Days of Compassion Civic University ” ! \nThe Days of Compassion Civic University is a 3 day training session is to provide congregants\, lay leaders\, clergy and advocates within the faith community focused on providing comprehensive engagement\, resources and education to participants as well as assisting with the development individual service plans for attendees.to develop a strong foundation for homeless service partnership. \nWhen: \nWednesday October 18\, 2017 6:30 PM – 8:30 PM \nFriday October 20\, 2017 10:00 AM – 12:00 PM \nWednesday October 25\, 20176:30 PM – 8:30 PM \nWhere: \nLos Angeles City Hall 200 N. Spring St. LA CA 90012 \n  \nAll attendees are asked to be prepared to attend all 3 days of training. \nSign Up Here \nProgram Details \nDay One: Homelessness 101 “This section of Civic U will highlight the various sectors of homeless services including System Structure\, Policy\, Data\, Populations and Service Provision. This section will include representatives from City\, County\, Los Angeles Service Authority\, HOPE and ERT Teams and the Service provider community. These representative will give an opening presentation\, participate in question and answer and close with tangible activity recommendations for engagement in their area of service. \nDay Two: Site Visits – Section 2 will provide a firsthand engagement opportunity for participants. Attendees will visit a Permanent Supportive Housing Campus\, Coordinated Entry System and Homeless Family Service System Intake Site and a Transitional Living Facility. During this portion of the CIVIC U participants will be able to see the facilities speak with service providers and learn about the processes that move homeless persons into sustainable housing. \nDay Three: Recap and Planning “In the final section of the DOC CIVIC U the participants will recap and share\, feedback\, learning and impact of the previous days. To culminate\, each congregation represented will create an action plan to implement within their faith organization. This strategy will be designed for the capacity of the congregation\, focused on their geographic service area and based on an identified population and service model.
URL:https://nohowest.org/calendar/days-of-compassion-homeless-civic-u/
LOCATION:City Hall
CATEGORIES:Community Events
GEO:34.0537126;-118.2428145
END:VEVENT
BEGIN:VEVENT
DTSTART;TZID=America/Los_Angeles:20170909T074500
DTEND;TZID=America/Los_Angeles:20170909T160000
DTSTAMP:20260423T122313
CREATED:20170808T215348Z
LAST-MODIFIED:20170808T215348Z
UID:6636-1504943100-1504972800@nohowest.org
SUMMARY:Congress of Neighborhoods
DESCRIPTION:Everyone is invited to the premier civic engagement event in Los Angeles: \nOver 40 free workshops + free breakfast\, lunch & parking if you RSVP \nTake classes on skills & subjects key to Neighborhood Council success \nNetwork with elected officials & staff from every City department \nJoin regional & Citywide alliances of Neighborhood Councils \nShare your success stories with other Neighborhood Council leaders \nMore
URL:https://nohowest.org/calendar/congress-of-neighborhoods-2/
LOCATION:City Hall
CATEGORIES:Community Events
GEO:34.0537126;-118.2428145
END:VEVENT
BEGIN:VEVENT
DTSTART;TZID=America/Los_Angeles:20170713T083000
DTEND;TZID=America/Los_Angeles:20170713T103000
DTSTAMP:20260423T122313
CREATED:20170605T221609Z
LAST-MODIFIED:20170605T221609Z
UID:6466-1499934600-1499941800@nohowest.org
SUMMARY:Public Hearing on Value Capture Ordinance
DESCRIPTION:The Department of City Planning is please to release the attached Value Capture ordinance. The ordinance will require affordable housing for certain conditional use permits and public benefit projects that allow for the consideration of density increases over 35%. \nA public hearing for the draft ordinance will take place at the City Planning Commission meeting on Thursday\, July 13th after 8:30 am in City Hall. The attached documents will also be available on the Department website (planning.lacity.org) under What’s New and Proposed Ordinances. \nIf you have any questions or comments on this matter\, please send them directly to me. Comments submitted prior to the end of the day on June 26th will be considered for the staff recommendation report. Comments submitted after this time should also be directed to the City Planning Commission (cpc@lacity.org). \nVC_ProposedOrdinance \nVC_FAQ \nVC_PublicHearing Notice
URL:https://nohowest.org/calendar/public-hearing-on-value-capture-ordinance/
LOCATION:City Hall
CATEGORIES:Community Events
GEO:34.0537126;-118.2428145
END:VEVENT
BEGIN:VEVENT
DTSTART;TZID=America/Los_Angeles:20170629T100000
DTEND;TZID=America/Los_Angeles:20170629T120000
DTSTAMP:20260423T122313
CREATED:20170614T182918Z
LAST-MODIFIED:20170614T182918Z
UID:6510-1498730400-1498737600@nohowest.org
SUMMARY:Public Hearing Commercial Cannabis Ordinance
DESCRIPTION:The Department of City Planning has prepared the proposed Commercial Cannabis Location Restriction Ordinance\, which would establish location restrictions and a limited immunity from enforcement of specified City prohibitions relating to commercial cannabis activity. In addition\, the Department has prepared an ordinance supplement with a land use review process option\, which the City Council may incorporate at its discretion. \nThe Department will conduct a public hearing to gather input on the proposed ordinance. This hearing has been scheduled for Thursday\, June 29\, 2017 at 10:00 a.m. in Los Angeles City Hall\, Room 1010. All interested persons are invited to attend. \nMore
URL:https://nohowest.org/calendar/public-hearing-commercial-cannabis-ordinance/
LOCATION:City Hall
CATEGORIES:Community Events
GEO:34.0537126;-118.2428145
END:VEVENT
BEGIN:VEVENT
DTSTART;TZID=America/Los_Angeles:20170624T073000
DTEND;TZID=America/Los_Angeles:20170624T123000
DTSTAMP:20260423T122313
CREATED:20170605T213739Z
LAST-MODIFIED:20170605T213739Z
UID:6452-1498289400-1498307400@nohowest.org
SUMMARY:Budget Day
DESCRIPTION:Saturday\, June 24th is Budget Day and all Angelenos are invited. Besides a free breakfast\, attendees will have the opportunity to check out the amazing architecture of City Hall and learn a bit about the City’s budget and how it operates. \nSaturday\, June 24\, 2017 7:30am-12:30pm**\nFull breakfast will be served 7:30-8:30am at City Hall.\nParking is free\, details will be provided to those who RSVP closer to the day.\nPlenary sessions and Regional breakouts will run from 8:30am to 12:30pm\, rooms to be determined. \nRSVP
URL:https://nohowest.org/calendar/budget-day/
LOCATION:City Hall
CATEGORIES:Committee Meeting
GEO:34.0537126;-118.2428145
END:VEVENT
BEGIN:VEVENT
DTSTART;TZID=America/Los_Angeles:20170106T100000
DTEND;TZID=America/Los_Angeles:20170106T120000
DTSTAMP:20260423T122313
CREATED:20161230T185157Z
LAST-MODIFIED:20161230T185157Z
UID:5986-1483696800-1483704000@nohowest.org
SUMMARY:Public Hearing: Time Extension
DESCRIPTION:You are invited to attend a public hearing on the proposed Procedural Time Extension Code Amendment (CPC-2016-4515-CA). The public hearing will be held on January 6\, 2017 at 10 am in Room 1050 of City Hall (200 N. Spring Street).
URL:https://nohowest.org/calendar/public-hearing-time-extension/
LOCATION:City Hall
CATEGORIES:Community Events
GEO:34.0537126;-118.2428145
END:VEVENT
BEGIN:VEVENT
DTSTART;TZID=America/Los_Angeles:20161212T130000
DTEND;TZID=America/Los_Angeles:20161212T170000
DTSTAMP:20260423T122313
CREATED:20161207T202846Z
LAST-MODIFIED:20161207T202846Z
UID:5912-1481547600-1481562000@nohowest.org
SUMMARY:Street Vending Hearing
DESCRIPTION:Councilmembers Joe Buscaino (CD 15) and Curren Price (CD 9) have put forward a new Street Vending Proposal to be considered in a hearing at City Hall December 12\, 1pm: \n\nStreet vending will be allowed City-wide from 7a.m. to 9 p.m.\nVending will be prohibited in residential neighborhoods with the exception of roaming pushcart vendors.\n2 vendors per block in commercial areas with the consent of the adjacent business or property owner and other protections.\nAbility of neighborhoods to opt-out with some limitations.\nEnforcement by LAPD and Bureau of Engineering is discussed but specifics have not yet been provided.\nA review of this policy within one year.\n\n \nLA Times Article on Street Vending Proposal \n 
URL:https://nohowest.org/calendar/street-vending-hearing/
LOCATION:City Hall
CATEGORIES:Community Events
GEO:34.0537126;-118.2428145
END:VEVENT
BEGIN:VEVENT
DTSTART;TZID=America/Los_Angeles:20160924T010000
DTEND;TZID=America/Los_Angeles:20160924T100000
DTSTAMP:20260423T122313
CREATED:20160714T224217Z
LAST-MODIFIED:20160916T033819Z
UID:5605-1474678800-1474711200@nohowest.org
SUMMARY:Congress of Neighborhoods
DESCRIPTION:This is a free event for Neighborhood Council Board Members and stakeholders who would like to up their civic engagement. Multiple sessions address how to get things done at City Hall and in our communities.
URL:https://nohowest.org/calendar/congress-of-neighborhoods/
LOCATION:City Hall
CATEGORIES:Community Events
GEO:34.0537126;-118.2428145
END:VEVENT
BEGIN:VEVENT
DTSTART;TZID=America/Los_Angeles:20160730T010000
DTEND;TZID=America/Los_Angeles:20160730T053000
DTSTAMP:20260423T122313
CREATED:20160714T224019Z
LAST-MODIFIED:20160714T224019Z
UID:5603-1469840400-1469856600@nohowest.org
SUMMARY:Los Angeles Budget Day
DESCRIPTION:All Board members and stakeholders are invited to attend the main program on Budget Day and to participate in the subsequent regional breakout sessions but only the designated Budget Representatives can elect the Budget Advocates. \nEach Neighborhood Council’s two Budget Representatives should attend Budget Day to learn more about learn more about the City’s finances and how NCs can have input both by their own participation and by reporting back to their respective NCs. \nRegistration for 2016 Neighborhood Council Budget Day has begun — click here to register. \nPlease note: times shown here are not confirmed. Please check with registration
URL:https://nohowest.org/calendar/los-angeles-budget-day/
LOCATION:City Hall
CATEGORIES:Community Events
GEO:34.0537126;-118.2428145
END:VEVENT
END:VCALENDAR