BEGIN:VCALENDAR
VERSION:2.0
PRODID:-//NoHowest.org - ECPv6.15.16//NONSGML v1.0//EN
CALSCALE:GREGORIAN
METHOD:PUBLISH
X-WR-CALNAME:NoHowest.org
X-ORIGINAL-URL:https://nohowest.org
X-WR-CALDESC:Events for NoHowest.org
REFRESH-INTERVAL;VALUE=DURATION:PT1H
X-Robots-Tag:noindex
X-PUBLISHED-TTL:PT1H
BEGIN:VTIMEZONE
TZID:America/Los_Angeles
BEGIN:DAYLIGHT
TZOFFSETFROM:-0800
TZOFFSETTO:-0700
TZNAME:PDT
DTSTART:20150308T100000
END:DAYLIGHT
BEGIN:STANDARD
TZOFFSETFROM:-0700
TZOFFSETTO:-0800
TZNAME:PST
DTSTART:20151101T090000
END:STANDARD
BEGIN:DAYLIGHT
TZOFFSETFROM:-0800
TZOFFSETTO:-0700
TZNAME:PDT
DTSTART:20160313T100000
END:DAYLIGHT
BEGIN:STANDARD
TZOFFSETFROM:-0700
TZOFFSETTO:-0800
TZNAME:PST
DTSTART:20161106T090000
END:STANDARD
BEGIN:DAYLIGHT
TZOFFSETFROM:-0800
TZOFFSETTO:-0700
TZNAME:PDT
DTSTART:20170312T100000
END:DAYLIGHT
BEGIN:STANDARD
TZOFFSETFROM:-0700
TZOFFSETTO:-0800
TZNAME:PST
DTSTART:20171105T090000
END:STANDARD
END:VTIMEZONE
BEGIN:VEVENT
DTSTART;TZID=America/Los_Angeles:20161212T130000
DTEND;TZID=America/Los_Angeles:20161212T170000
DTSTAMP:20260423T162547
CREATED:20161207T202846Z
LAST-MODIFIED:20161207T202846Z
UID:5912-1481547600-1481562000@nohowest.org
SUMMARY:Street Vending Hearing
DESCRIPTION:Councilmembers Joe Buscaino (CD 15) and Curren Price (CD 9) have put forward a new Street Vending Proposal to be considered in a hearing at City Hall December 12\, 1pm: \n\nStreet vending will be allowed City-wide from 7a.m. to 9 p.m.\nVending will be prohibited in residential neighborhoods with the exception of roaming pushcart vendors.\n2 vendors per block in commercial areas with the consent of the adjacent business or property owner and other protections.\nAbility of neighborhoods to opt-out with some limitations.\nEnforcement by LAPD and Bureau of Engineering is discussed but specifics have not yet been provided.\nA review of this policy within one year.\n\n \nLA Times Article on Street Vending Proposal \n 
URL:https://nohowest.org/calendar/street-vending-hearing/
LOCATION:City Hall
CATEGORIES:Community Events
GEO:34.0537126;-118.2428145
END:VEVENT
BEGIN:VEVENT
DTSTART;TZID=America/Los_Angeles:20160924T010000
DTEND;TZID=America/Los_Angeles:20160924T100000
DTSTAMP:20260423T162547
CREATED:20160714T224217Z
LAST-MODIFIED:20160916T033819Z
UID:5605-1474678800-1474711200@nohowest.org
SUMMARY:Congress of Neighborhoods
DESCRIPTION:This is a free event for Neighborhood Council Board Members and stakeholders who would like to up their civic engagement. Multiple sessions address how to get things done at City Hall and in our communities.
URL:https://nohowest.org/calendar/congress-of-neighborhoods/
LOCATION:City Hall
CATEGORIES:Community Events
GEO:34.0537126;-118.2428145
END:VEVENT
BEGIN:VEVENT
DTSTART;TZID=America/Los_Angeles:20160730T010000
DTEND;TZID=America/Los_Angeles:20160730T053000
DTSTAMP:20260423T162547
CREATED:20160714T224019Z
LAST-MODIFIED:20160714T224019Z
UID:5603-1469840400-1469856600@nohowest.org
SUMMARY:Los Angeles Budget Day
DESCRIPTION:All Board members and stakeholders are invited to attend the main program on Budget Day and to participate in the subsequent regional breakout sessions but only the designated Budget Representatives can elect the Budget Advocates. \nEach Neighborhood Council’s two Budget Representatives should attend Budget Day to learn more about learn more about the City’s finances and how NCs can have input both by their own participation and by reporting back to their respective NCs. \nRegistration for 2016 Neighborhood Council Budget Day has begun — click here to register. \nPlease note: times shown here are not confirmed. Please check with registration
URL:https://nohowest.org/calendar/los-angeles-budget-day/
LOCATION:City Hall
CATEGORIES:Community Events
GEO:34.0537126;-118.2428145
END:VEVENT
END:VCALENDAR