BEGIN:VCALENDAR
VERSION:2.0
PRODID:-//NoHowest.org - ECPv6.15.16//NONSGML v1.0//EN
CALSCALE:GREGORIAN
METHOD:PUBLISH
X-WR-CALNAME:NoHowest.org
X-ORIGINAL-URL:https://nohowest.org
X-WR-CALDESC:Events for NoHowest.org
REFRESH-INTERVAL;VALUE=DURATION:PT1H
X-Robots-Tag:noindex
X-PUBLISHED-TTL:PT1H
BEGIN:VTIMEZONE
TZID:America/Los_Angeles
BEGIN:DAYLIGHT
TZOFFSETFROM:-0800
TZOFFSETTO:-0700
TZNAME:PDT
DTSTART:20180311T100000
END:DAYLIGHT
BEGIN:STANDARD
TZOFFSETFROM:-0700
TZOFFSETTO:-0800
TZNAME:PST
DTSTART:20181104T090000
END:STANDARD
BEGIN:DAYLIGHT
TZOFFSETFROM:-0800
TZOFFSETTO:-0700
TZNAME:PDT
DTSTART:20190310T100000
END:DAYLIGHT
BEGIN:STANDARD
TZOFFSETFROM:-0700
TZOFFSETTO:-0800
TZNAME:PST
DTSTART:20191103T090000
END:STANDARD
BEGIN:DAYLIGHT
TZOFFSETFROM:-0800
TZOFFSETTO:-0700
TZNAME:PDT
DTSTART:20200308T100000
END:DAYLIGHT
BEGIN:STANDARD
TZOFFSETFROM:-0700
TZOFFSETTO:-0800
TZNAME:PST
DTSTART:20201101T090000
END:STANDARD
END:VTIMEZONE
BEGIN:VEVENT
DTSTART;TZID=America/Los_Angeles:20190928T080000
DTEND;TZID=America/Los_Angeles:20190928T100000
DTSTAMP:20260423T194731
CREATED:20190912T184918Z
LAST-MODIFIED:20190912T184918Z
UID:8811-1569657600-1569664800@nohowest.org
SUMMARY:Community Hike at Coldwater Canyon Park
DESCRIPTION:Join Councilmember Krekorian\, Assemblymember Nazarian and TreePeople for a morning hike in beautiful Coldwater Canyon Park! Tree giveaway to the first 50 people! \n8:00 AM Light Refreshments\n8:30 AM Hear from the experts and your representatives about fire safety\n9:00 AM Take a hike! Easy and intermediate hiking trails for hikers at all levels. \nLIMITED PARKING! \nParking is very limited at the location. Please carpool or use alternative transportation\, rideshare\, etc.\nNo pets are allowed on this hike. \nRemember to dress accordingly for the weather and the outdoors\, and to bring water and sunscreen. Participants should meet at the TreePeople conference center before the hike begins at 8 am. \nColdwater Canyon Park\n12601 Mulholland Dr\nBeverly Hills\, CA 90210\nUnited States \nRSVP
URL:https://nohowest.org/calendar/community-hike-at-coldwater-canyon-park/
LOCATION:Coldwater Canyon Park\, 12601 Mulholland Dr.\, Beverly Hills\, 90210
CATEGORIES:Community Events
GEO:34.1291363;-118.4069622
X-APPLE-STRUCTURED-LOCATION;VALUE=URI;X-ADDRESS=Coldwater Canyon Park 12601 Mulholland Dr. Beverly Hills 90210;X-APPLE-RADIUS=500;X-TITLE=12601 Mulholland Dr.:geo:-118.4069622,34.1291363
END:VEVENT
END:VCALENDAR