BEGIN:VCALENDAR
VERSION:2.0
PRODID:-//NoHowest.org - ECPv6.15.16//NONSGML v1.0//EN
CALSCALE:GREGORIAN
METHOD:PUBLISH
X-ORIGINAL-URL:https://nohowest.org
X-WR-CALDESC:Events for NoHowest.org
REFRESH-INTERVAL;VALUE=DURATION:PT1H
X-Robots-Tag:noindex
X-PUBLISHED-TTL:PT1H
BEGIN:VTIMEZONE
TZID:America/Los_Angeles
BEGIN:DAYLIGHT
TZOFFSETFROM:-0800
TZOFFSETTO:-0700
TZNAME:PDT
DTSTART:20160313T100000
END:DAYLIGHT
BEGIN:STANDARD
TZOFFSETFROM:-0700
TZOFFSETTO:-0800
TZNAME:PST
DTSTART:20161106T090000
END:STANDARD
BEGIN:DAYLIGHT
TZOFFSETFROM:-0800
TZOFFSETTO:-0700
TZNAME:PDT
DTSTART:20170312T100000
END:DAYLIGHT
BEGIN:STANDARD
TZOFFSETFROM:-0700
TZOFFSETTO:-0800
TZNAME:PST
DTSTART:20171105T090000
END:STANDARD
BEGIN:DAYLIGHT
TZOFFSETFROM:-0800
TZOFFSETTO:-0700
TZNAME:PDT
DTSTART:20180311T100000
END:DAYLIGHT
BEGIN:STANDARD
TZOFFSETFROM:-0700
TZOFFSETTO:-0800
TZNAME:PST
DTSTART:20181104T090000
END:STANDARD
END:VTIMEZONE
BEGIN:VEVENT
DTSTART;TZID=America/Los_Angeles:20171118T100000
DTEND;TZID=America/Los_Angeles:20171118T130000
DTSTAMP:20260423T225223
CREATED:20171108T224913Z
LAST-MODIFIED:20171108T224913Z
UID:6918-1510999200-1511010000@nohowest.org
SUMMARY:Affordable Care Act Health Fair
DESCRIPTION:
URL:https://nohowest.org/calendar/affordable-care-act-health-fair/
LOCATION:David M Gonzales Recreation Center\, 10943 Herrick Ave\, Pacoima\, 91331
CATEGORIES:Community Events
GEO:34.2694036;-118.4129766
X-APPLE-STRUCTURED-LOCATION;VALUE=URI;X-ADDRESS=David M Gonzales Recreation Center 10943 Herrick Ave Pacoima 91331;X-APPLE-RADIUS=500;X-TITLE=10943 Herrick Ave:geo:-118.4129766,34.2694036
END:VEVENT
END:VCALENDAR