BEGIN:VCALENDAR
VERSION:2.0
PRODID:-//NoHowest.org - ECPv6.15.16//NONSGML v1.0//EN
CALSCALE:GREGORIAN
METHOD:PUBLISH
X-WR-CALNAME:NoHowest.org
X-ORIGINAL-URL:https://nohowest.org
X-WR-CALDESC:Events for NoHowest.org
REFRESH-INTERVAL;VALUE=DURATION:PT1H
X-Robots-Tag:noindex
X-PUBLISHED-TTL:PT1H
BEGIN:VTIMEZONE
TZID:America/Los_Angeles
BEGIN:DAYLIGHT
TZOFFSETFROM:-0800
TZOFFSETTO:-0700
TZNAME:PDT
DTSTART:20160313T100000
END:DAYLIGHT
BEGIN:STANDARD
TZOFFSETFROM:-0700
TZOFFSETTO:-0800
TZNAME:PST
DTSTART:20161106T090000
END:STANDARD
BEGIN:DAYLIGHT
TZOFFSETFROM:-0800
TZOFFSETTO:-0700
TZNAME:PDT
DTSTART:20170312T100000
END:DAYLIGHT
BEGIN:STANDARD
TZOFFSETFROM:-0700
TZOFFSETTO:-0800
TZNAME:PST
DTSTART:20171105T090000
END:STANDARD
BEGIN:DAYLIGHT
TZOFFSETFROM:-0800
TZOFFSETTO:-0700
TZNAME:PDT
DTSTART:20180311T100000
END:DAYLIGHT
BEGIN:STANDARD
TZOFFSETFROM:-0700
TZOFFSETTO:-0800
TZNAME:PST
DTSTART:20181104T090000
END:STANDARD
BEGIN:DAYLIGHT
TZOFFSETFROM:-0800
TZOFFSETTO:-0700
TZNAME:PDT
DTSTART:20190310T100000
END:DAYLIGHT
BEGIN:STANDARD
TZOFFSETFROM:-0700
TZOFFSETTO:-0800
TZNAME:PST
DTSTART:20191103T090000
END:STANDARD
BEGIN:DAYLIGHT
TZOFFSETFROM:-0800
TZOFFSETTO:-0700
TZNAME:PDT
DTSTART:20200308T100000
END:DAYLIGHT
BEGIN:STANDARD
TZOFFSETFROM:-0700
TZOFFSETTO:-0800
TZNAME:PST
DTSTART:20201101T090000
END:STANDARD
BEGIN:DAYLIGHT
TZOFFSETFROM:-0800
TZOFFSETTO:-0700
TZNAME:PDT
DTSTART:20210314T100000
END:DAYLIGHT
BEGIN:STANDARD
TZOFFSETFROM:-0700
TZOFFSETTO:-0800
TZNAME:PST
DTSTART:20211107T090000
END:STANDARD
END:VTIMEZONE
BEGIN:VEVENT
DTSTART;TZID=America/Los_Angeles:20200113T150000
DTEND;TZID=America/Los_Angeles:20200113T163000
DTSTAMP:20260423T225007
CREATED:20200109T041306Z
LAST-MODIFIED:20200109T041306Z
UID:8998-1578927600-1578933000@nohowest.org
SUMMARY:Executive Committee Meeting
DESCRIPTION:January 13\, 2020 Executive Committee Agenda
URL:https://nohowest.org/calendar/executive-committee-meeting-21/
LOCATION:Denny’s\, 13136 Sherman Way\, North Hollywood\, 91605
CATEGORIES:Committee Meeting
GEO:34.2009029;-118.4197125
X-APPLE-STRUCTURED-LOCATION;VALUE=URI;X-ADDRESS=Denny’s 13136 Sherman Way North Hollywood 91605;X-APPLE-RADIUS=500;X-TITLE=13136 Sherman Way:geo:-118.4197125,34.2009029
END:VEVENT
BEGIN:VEVENT
DTSTART;TZID=America/Los_Angeles:20200109T110000
DTEND;TZID=America/Los_Angeles:20200109T120000
DTSTAMP:20260423T225007
CREATED:20200109T041424Z
LAST-MODIFIED:20200109T041424Z
UID:9000-1578567600-1578571200@nohowest.org
SUMMARY:Beautification Committee Meeting
DESCRIPTION:January 9\, 2020 Beautification Agenda
URL:https://nohowest.org/calendar/beautification-committee-meeting-7/
LOCATION:Denny’s\, 13136 Sherman Way\, North Hollywood\, 91605
CATEGORIES:Committee Meeting
GEO:34.2009029;-118.4197125
X-APPLE-STRUCTURED-LOCATION;VALUE=URI;X-ADDRESS=Denny’s 13136 Sherman Way North Hollywood 91605;X-APPLE-RADIUS=500;X-TITLE=13136 Sherman Way:geo:-118.4197125,34.2009029
END:VEVENT
BEGIN:VEVENT
DTSTART;TZID=America/Los_Angeles:20191212T120000
DTEND;TZID=America/Los_Angeles:20191212T130000
DTSTAMP:20260423T225007
CREATED:20191210T191641Z
LAST-MODIFIED:20191210T191641Z
UID:8946-1576152000-1576155600@nohowest.org
SUMMARY:Outreach Meeting
DESCRIPTION:December 12\, 2019 Outreach Agenda
URL:https://nohowest.org/calendar/outreach-meeting-3/
LOCATION:Denny’s\, 13136 Sherman Way\, North Hollywood\, 91605
CATEGORIES:Committee Meeting
GEO:34.2009029;-118.4197125
X-APPLE-STRUCTURED-LOCATION;VALUE=URI;X-ADDRESS=Denny’s 13136 Sherman Way North Hollywood 91605;X-APPLE-RADIUS=500;X-TITLE=13136 Sherman Way:geo:-118.4197125,34.2009029
END:VEVENT
BEGIN:VEVENT
DTSTART;TZID=America/Los_Angeles:20191021T100000
DTEND;TZID=America/Los_Angeles:20191021T120000
DTSTAMP:20260423T225007
CREATED:20181126T214657Z
LAST-MODIFIED:20191018T203258Z
UID:8449-1571652000-1571659200@nohowest.org
SUMMARY:Executive Committee Meeting
DESCRIPTION:October 21\, 2019 Executive Committee Agenda
URL:https://nohowest.org/calendar/executive-committee-meeting-20-2019-10-15/
LOCATION:Denny’s\, 13136 Sherman Way\, North Hollywood\, 91605
CATEGORIES:Committee Meeting
GEO:34.2009029;-118.4197125
X-APPLE-STRUCTURED-LOCATION;VALUE=URI;X-ADDRESS=Denny’s 13136 Sherman Way North Hollywood 91605;X-APPLE-RADIUS=500;X-TITLE=13136 Sherman Way:geo:-118.4197125,34.2009029
END:VEVENT
BEGIN:VEVENT
DTSTART;TZID=America/Los_Angeles:20190603T190000
DTEND;TZID=America/Los_Angeles:20190603T200000
DTSTAMP:20260423T225007
CREATED:20181126T214657Z
LAST-MODIFIED:20190529T211359Z
UID:8445-1559588400-1559592000@nohowest.org
SUMMARY:Executive Committee Meeting-Cancelled
DESCRIPTION:
URL:https://nohowest.org/calendar/executive-committee-meeting-20-2019-06-18/
LOCATION:Denny’s\, 13136 Sherman Way\, North Hollywood\, 91605
CATEGORIES:Committee Meeting
GEO:34.2009029;-118.4197125
X-APPLE-STRUCTURED-LOCATION;VALUE=URI;X-ADDRESS=Denny’s 13136 Sherman Way North Hollywood 91605;X-APPLE-RADIUS=500;X-TITLE=13136 Sherman Way:geo:-118.4197125,34.2009029
END:VEVENT
BEGIN:VEVENT
DTSTART;TZID=America/Los_Angeles:20181120T180000
DTEND;TZID=America/Los_Angeles:20181120T190000
DTSTAMP:20260423T225007
CREATED:20181117T024014Z
LAST-MODIFIED:20181117T025951Z
UID:8154-1542736800-1542740400@nohowest.org
SUMMARY:Executive Committee Meeting
DESCRIPTION:Join us for our Executive Committee meeting to plan our next Board Meeting. We will meet at Denny’s\, 13136 Sherman Way on Tuesday\, November 20\, 6pm. \n2018-1120-Agenda
URL:https://nohowest.org/calendar/executive-committee-meeting-19/
LOCATION:Denny’s\, 13136 Sherman Way\, North Hollywood\, 91605
CATEGORIES:Committee Meeting
GEO:34.2009029;-118.4197125
X-APPLE-STRUCTURED-LOCATION;VALUE=URI;X-ADDRESS=Denny’s 13136 Sherman Way North Hollywood 91605;X-APPLE-RADIUS=500;X-TITLE=13136 Sherman Way:geo:-118.4197125,34.2009029
END:VEVENT
BEGIN:VEVENT
DTSTART;TZID=America/Los_Angeles:20180612T100000
DTEND;TZID=America/Los_Angeles:20180612T110000
DTSTAMP:20260423T225007
CREATED:20180612T015228Z
LAST-MODIFIED:20180612T015228Z
UID:7738-1528797600-1528801200@nohowest.org
SUMMARY:Outreach Committee Meeting
DESCRIPTION:
URL:https://nohowest.org/calendar/outreach-committee-meeting-6/
LOCATION:Denny’s\, 13136 Sherman Way\, North Hollywood\, 91605
CATEGORIES:Committee Meeting
GEO:34.2009029;-118.4197125
X-APPLE-STRUCTURED-LOCATION;VALUE=URI;X-ADDRESS=Denny’s 13136 Sherman Way North Hollywood 91605;X-APPLE-RADIUS=500;X-TITLE=13136 Sherman Way:geo:-118.4197125,34.2009029
END:VEVENT
BEGIN:VEVENT
DTSTART;TZID=America/Los_Angeles:20180208T130000
DTEND;TZID=America/Los_Angeles:20180208T140000
DTSTAMP:20260423T225007
CREATED:20180207T001028Z
LAST-MODIFIED:20180207T004020Z
UID:7408-1518094800-1518098400@nohowest.org
SUMMARY:Beautification Committee Meeting
DESCRIPTION:Join us for our Beautification Committee Meeting on Thursday\, February 8\, at 1pm or immediately after the Outreach Committee meeting that starts at 11am. The meetings will be held at Denny’s. \n2018-0208-Beautification-Agenda
URL:https://nohowest.org/calendar/beautification-committee-meeting-4/
LOCATION:Denny’s\, 13136 Sherman Way\, North Hollywood\, 91605
CATEGORIES:Committee Meeting
GEO:34.2009029;-118.4197125
X-APPLE-STRUCTURED-LOCATION;VALUE=URI;X-ADDRESS=Denny’s 13136 Sherman Way North Hollywood 91605;X-APPLE-RADIUS=500;X-TITLE=13136 Sherman Way:geo:-118.4197125,34.2009029
END:VEVENT
BEGIN:VEVENT
DTSTART;TZID=America/Los_Angeles:20180119T100000
DTEND;TZID=America/Los_Angeles:20180119T110000
DTSTAMP:20260423T225007
CREATED:20180118T182932Z
LAST-MODIFIED:20180118T182932Z
UID:7158-1516356000-1516359600@nohowest.org
SUMMARY:Special Beautification Meeting
DESCRIPTION:2018-01-19 Agenda
URL:https://nohowest.org/calendar/special-beautification-meeting/
LOCATION:Denny’s\, 13136 Sherman Way\, North Hollywood\, 91605
CATEGORIES:Committee Meeting
GEO:34.2009029;-118.4197125
X-APPLE-STRUCTURED-LOCATION;VALUE=URI;X-ADDRESS=Denny’s 13136 Sherman Way North Hollywood 91605;X-APPLE-RADIUS=500;X-TITLE=13136 Sherman Way:geo:-118.4197125,34.2009029
END:VEVENT
BEGIN:VEVENT
DTSTART;TZID=America/Los_Angeles:20170607T183000
DTEND;TZID=America/Los_Angeles:20170607T183000
DTSTAMP:20260423T225007
CREATED:20170605T214726Z
LAST-MODIFIED:20170605T214726Z
UID:6460-1496860200-1496860200@nohowest.org
SUMMARY:Beautification Committee Meeting
DESCRIPTION:Join us Wednesday\, June 7\, 6:30 pm at Denny’s\, 13136 Sherman Way to discuss possible beautification projects and budget. \nAgenda
URL:https://nohowest.org/calendar/beautification-committee-meeting/
LOCATION:Denny’s\, 13136 Sherman Way\, North Hollywood\, 91605
CATEGORIES:Committee Meeting
GEO:34.2009029;-118.4197125
X-APPLE-STRUCTURED-LOCATION;VALUE=URI;X-ADDRESS=Denny’s 13136 Sherman Way North Hollywood 91605;X-APPLE-RADIUS=500;X-TITLE=13136 Sherman Way:geo:-118.4197125,34.2009029
END:VEVENT
END:VCALENDAR