BEGIN:VCALENDAR
VERSION:2.0
PRODID:-//NoHowest.org - ECPv6.15.16//NONSGML v1.0//EN
CALSCALE:GREGORIAN
METHOD:PUBLISH
X-WR-CALNAME:NoHowest.org
X-ORIGINAL-URL:https://nohowest.org
X-WR-CALDESC:Events for NoHowest.org
REFRESH-INTERVAL;VALUE=DURATION:PT1H
X-Robots-Tag:noindex
X-PUBLISHED-TTL:PT1H
BEGIN:VTIMEZONE
TZID:America/Los_Angeles
BEGIN:DAYLIGHT
TZOFFSETFROM:-0800
TZOFFSETTO:-0700
TZNAME:PDT
DTSTART:20180311T100000
END:DAYLIGHT
BEGIN:STANDARD
TZOFFSETFROM:-0700
TZOFFSETTO:-0800
TZNAME:PST
DTSTART:20181104T090000
END:STANDARD
BEGIN:DAYLIGHT
TZOFFSETFROM:-0800
TZOFFSETTO:-0700
TZNAME:PDT
DTSTART:20190310T100000
END:DAYLIGHT
BEGIN:STANDARD
TZOFFSETFROM:-0700
TZOFFSETTO:-0800
TZNAME:PST
DTSTART:20191103T090000
END:STANDARD
BEGIN:DAYLIGHT
TZOFFSETFROM:-0800
TZOFFSETTO:-0700
TZNAME:PDT
DTSTART:20200308T100000
END:DAYLIGHT
BEGIN:STANDARD
TZOFFSETFROM:-0700
TZOFFSETTO:-0800
TZNAME:PST
DTSTART:20201101T090000
END:STANDARD
BEGIN:DAYLIGHT
TZOFFSETFROM:-0800
TZOFFSETTO:-0700
TZNAME:PDT
DTSTART:20210314T100000
END:DAYLIGHT
BEGIN:STANDARD
TZOFFSETFROM:-0700
TZOFFSETTO:-0800
TZNAME:PST
DTSTART:20211107T090000
END:STANDARD
BEGIN:DAYLIGHT
TZOFFSETFROM:-0800
TZOFFSETTO:-0700
TZNAME:PDT
DTSTART:20220313T100000
END:DAYLIGHT
BEGIN:STANDARD
TZOFFSETFROM:-0700
TZOFFSETTO:-0800
TZNAME:PST
DTSTART:20221106T090000
END:STANDARD
BEGIN:DAYLIGHT
TZOFFSETFROM:-0800
TZOFFSETTO:-0700
TZNAME:PDT
DTSTART:20230312T100000
END:DAYLIGHT
BEGIN:STANDARD
TZOFFSETFROM:-0700
TZOFFSETTO:-0800
TZNAME:PST
DTSTART:20231105T090000
END:STANDARD
BEGIN:DAYLIGHT
TZOFFSETFROM:-0800
TZOFFSETTO:-0700
TZNAME:PDT
DTSTART:20240310T100000
END:DAYLIGHT
BEGIN:STANDARD
TZOFFSETFROM:-0700
TZOFFSETTO:-0800
TZNAME:PST
DTSTART:20241103T090000
END:STANDARD
BEGIN:DAYLIGHT
TZOFFSETFROM:-0800
TZOFFSETTO:-0700
TZNAME:PDT
DTSTART:20250309T100000
END:DAYLIGHT
BEGIN:STANDARD
TZOFFSETFROM:-0700
TZOFFSETTO:-0800
TZNAME:PST
DTSTART:20251102T090000
END:STANDARD
END:VTIMEZONE
BEGIN:VEVENT
DTSTART;TZID=America/Los_Angeles:20241207T100000
DTEND;TZID=America/Los_Angeles:20241207T130000
DTSTAMP:20260423T223654
CREATED:20241120T185831Z
LAST-MODIFIED:20241120T185831Z
UID:19054-1733565600-1733576400@nohowest.org
SUMMARY:Family Day at the Discovery Cube
DESCRIPTION:❄️ Attention BD6 Families ❄️ Join us for a FREE Family Day at the Discovery Cube! We are once again partnering with @discoverycubela to bring a morning of fun activities for BD6 families on Saturday\, December 7\, 2024\, from 10am-1pm. Enjoy:\n🎅🏼 Pictures with Santa!\n🥘 Free food!\n☃️ Holiday-themed Activities!\nEntry will be free for the first 1000 attendees that register.\nRegistration is required. BD6 families can register at the following link! 🔗 https://www.discoverycube.org/los-angeles/lausd-bd6/
URL:https://nohowest.org/calendar/family-day-at-the-discovery-cube/
LOCATION:Discovery Cube
CATEGORIES:Community Events
END:VEVENT
BEGIN:VEVENT
DTSTART;TZID=America/Los_Angeles:20190709T180000
DTEND;TZID=America/Los_Angeles:20190709T200000
DTSTAMP:20260423T223654
CREATED:20190708T215517Z
LAST-MODIFIED:20190708T215517Z
UID:8695-1562695200-1562702400@nohowest.org
SUMMARY:River Workshop: Reimagine Our Waterways
DESCRIPTION:The Upper Los Angeles River & Tributaries Working Group is hosting two free workshops to discuss the Upper Los Angeles River planning efforts and we’d love for you to join the conversation. Each workshop will include an update on the work to date\, a summary of community feedback\, and an overview of concepts being considered for the plan. We want to hear your thoughts on how these concepts contribute to the neighborhoods near the river and tributaries. This meeting is open to the public and we invite your questions and comments. Refreshments and snacks provided and admission to the Discovery Cube – Sylmar and Dreamworks is also free! RSVP is highly encouraged. \nTuesday\, July 9\n6 PM – 8 PM\n&\nThursday\, July 11\n6:30 PM – 8:30 PM \nDiscovery Cube\n11800 Foothill Blvd\nSylmar
URL:https://nohowest.org/calendar/river-workshop-reimagine-our-waterways/2019-07-09/
LOCATION:Discovery Cube
CATEGORIES:Community Events
END:VEVENT
END:VCALENDAR