BEGIN:VCALENDAR
VERSION:2.0
PRODID:-//NoHowest.org - ECPv6.15.16//NONSGML v1.0//EN
CALSCALE:GREGORIAN
METHOD:PUBLISH
X-WR-CALNAME:NoHowest.org
X-ORIGINAL-URL:https://nohowest.org
X-WR-CALDESC:Events for NoHowest.org
REFRESH-INTERVAL;VALUE=DURATION:PT1H
X-Robots-Tag:noindex
X-PUBLISHED-TTL:PT1H
BEGIN:VTIMEZONE
TZID:America/Los_Angeles
BEGIN:DAYLIGHT
TZOFFSETFROM:-0800
TZOFFSETTO:-0700
TZNAME:PDT
DTSTART:20170312T100000
END:DAYLIGHT
BEGIN:STANDARD
TZOFFSETFROM:-0700
TZOFFSETTO:-0800
TZNAME:PST
DTSTART:20171105T090000
END:STANDARD
BEGIN:DAYLIGHT
TZOFFSETFROM:-0800
TZOFFSETTO:-0700
TZNAME:PDT
DTSTART:20180311T100000
END:DAYLIGHT
BEGIN:STANDARD
TZOFFSETFROM:-0700
TZOFFSETTO:-0800
TZNAME:PST
DTSTART:20181104T090000
END:STANDARD
BEGIN:DAYLIGHT
TZOFFSETFROM:-0800
TZOFFSETTO:-0700
TZNAME:PDT
DTSTART:20190310T100000
END:DAYLIGHT
BEGIN:STANDARD
TZOFFSETFROM:-0700
TZOFFSETTO:-0800
TZNAME:PST
DTSTART:20191103T090000
END:STANDARD
END:VTIMEZONE
BEGIN:VEVENT
DTSTART;TZID=America/Los_Angeles:20180929T181500
DTEND;TZID=America/Los_Angeles:20180929T213000
DTSTAMP:20260424T065337
CREATED:20180924T183404Z
LAST-MODIFIED:20180924T183404Z
UID:8017-1538244900-1538256600@nohowest.org
SUMMARY:Movie in the Park: Sing
DESCRIPTION:
URL:https://nohowest.org/calendar/movie-in-the-park-sing/
LOCATION:East Valley Baseball League\, 8015 Whitsett Ave\, North Hollywood\, 91605
CATEGORIES:Community Events
GEO:34.215897;-118.4052777
X-APPLE-STRUCTURED-LOCATION;VALUE=URI;X-ADDRESS=East Valley Baseball League 8015 Whitsett Ave North Hollywood 91605;X-APPLE-RADIUS=500;X-TITLE=8015 Whitsett Ave:geo:-118.4052777,34.215897
END:VEVENT
END:VCALENDAR