BEGIN:VCALENDAR
VERSION:2.0
PRODID:-//NoHowest.org - ECPv6.15.16//NONSGML v1.0//EN
CALSCALE:GREGORIAN
METHOD:PUBLISH
X-ORIGINAL-URL:https://nohowest.org
X-WR-CALDESC:Events for NoHowest.org
REFRESH-INTERVAL;VALUE=DURATION:PT1H
X-Robots-Tag:noindex
X-PUBLISHED-TTL:PT1H
BEGIN:VTIMEZONE
TZID:America/Los_Angeles
BEGIN:DAYLIGHT
TZOFFSETFROM:-0800
TZOFFSETTO:-0700
TZNAME:PDT
DTSTART:20220313T100000
END:DAYLIGHT
BEGIN:STANDARD
TZOFFSETFROM:-0700
TZOFFSETTO:-0800
TZNAME:PST
DTSTART:20221106T090000
END:STANDARD
BEGIN:DAYLIGHT
TZOFFSETFROM:-0800
TZOFFSETTO:-0700
TZNAME:PDT
DTSTART:20230312T100000
END:DAYLIGHT
BEGIN:STANDARD
TZOFFSETFROM:-0700
TZOFFSETTO:-0800
TZNAME:PST
DTSTART:20231105T090000
END:STANDARD
BEGIN:DAYLIGHT
TZOFFSETFROM:-0800
TZOFFSETTO:-0700
TZNAME:PDT
DTSTART:20240310T100000
END:DAYLIGHT
BEGIN:STANDARD
TZOFFSETFROM:-0700
TZOFFSETTO:-0800
TZNAME:PST
DTSTART:20241103T090000
END:STANDARD
BEGIN:DAYLIGHT
TZOFFSETFROM:-0800
TZOFFSETTO:-0700
TZNAME:PDT
DTSTART:20250309T100000
END:DAYLIGHT
BEGIN:STANDARD
TZOFFSETFROM:-0700
TZOFFSETTO:-0800
TZNAME:PST
DTSTART:20251102T090000
END:STANDARD
END:VTIMEZONE
BEGIN:VEVENT
DTSTART;TZID=America/Los_Angeles:20240427T093000
DTEND;TZID=America/Los_Angeles:20240427T143000
DTSTAMP:20260424T065235
CREATED:20240403T190522Z
LAST-MODIFIED:20240403T190522Z
UID:18350-1714210200-1714228200@nohowest.org
SUMMARY:Youth Mental Health Summit
DESCRIPTION:As a part of a recent strategy the Department of Public Health has adopted to increase opportunities for healing and social connection\, our office is planning a series of Youth Mental Summits throughout LA County. The summits are part of our initiative to provide more learning opportunities for young people to become mental health advocates. Youth attendees will learn to recognize common mental health challenges; identify and develop strategies to create a supportive network in their homes\, schools\, and communities; and participate in a community resource and activity fair with local mental health partners. Additionally\, youth will partake in mindfulness practices\, hear from county leaders\, and leave with tangible mental health guides\, workbooks\, and tools. Sessions will be facilitated by staff from DMH\, DPH\, Teenline (a program of Didi Hirsch)\, the American Foundation for Suicide Prevention\, and more. Youth attendees will also each receive 5 community service hours\, a certificate of completion signed by DPH Leadership\, and a $25 gift card. \nI am excited to share that we will be holding our summit for Supervisorial District 3 youth at El Cariso Regional Community Park on Saturday April 27.
URL:https://nohowest.org/calendar/youth-mental-health-summit/
LOCATION:El Cariso Park\, 13100 Hubbard St.\, Sylmar\, 91342
CATEGORIES:Community Events
GEO:34.3169761;-118.4175779
X-APPLE-STRUCTURED-LOCATION;VALUE=URI;X-ADDRESS=El Cariso Park 13100 Hubbard St. Sylmar 91342;X-APPLE-RADIUS=500;X-TITLE=13100 Hubbard St.:geo:-118.4175779,34.3169761
END:VEVENT
BEGIN:VEVENT
DTSTART;TZID=America/Los_Angeles:20230701T200000
DTEND;TZID=America/Los_Angeles:20230701T210000
DTSTAMP:20260424T065235
CREATED:20230629T001804Z
LAST-MODIFIED:20230629T001804Z
UID:15271-1688241600-1688245200@nohowest.org
SUMMARY:Laser Light Show
DESCRIPTION:
URL:https://nohowest.org/calendar/laser-light-show/
LOCATION:El Cariso Park\, 13100 Hubbard St.\, Sylmar\, 91342
CATEGORIES:Community Events
GEO:34.3169761;-118.4175779
X-APPLE-STRUCTURED-LOCATION;VALUE=URI;X-ADDRESS=El Cariso Park 13100 Hubbard St. Sylmar 91342;X-APPLE-RADIUS=500;X-TITLE=13100 Hubbard St.:geo:-118.4175779,34.3169761
END:VEVENT
END:VCALENDAR