BEGIN:VCALENDAR
VERSION:2.0
PRODID:-//NoHowest.org - ECPv6.15.16//NONSGML v1.0//EN
CALSCALE:GREGORIAN
METHOD:PUBLISH
X-ORIGINAL-URL:https://nohowest.org
X-WR-CALDESC:Events for NoHowest.org
REFRESH-INTERVAL;VALUE=DURATION:PT1H
X-Robots-Tag:noindex
X-PUBLISHED-TTL:PT1H
BEGIN:VTIMEZONE
TZID:America/Los_Angeles
BEGIN:DAYLIGHT
TZOFFSETFROM:-0800
TZOFFSETTO:-0700
TZNAME:PDT
DTSTART:20240310T100000
END:DAYLIGHT
BEGIN:STANDARD
TZOFFSETFROM:-0700
TZOFFSETTO:-0800
TZNAME:PST
DTSTART:20241103T090000
END:STANDARD
BEGIN:DAYLIGHT
TZOFFSETFROM:-0800
TZOFFSETTO:-0700
TZNAME:PDT
DTSTART:20250309T100000
END:DAYLIGHT
BEGIN:STANDARD
TZOFFSETFROM:-0700
TZOFFSETTO:-0800
TZNAME:PST
DTSTART:20251102T090000
END:STANDARD
BEGIN:DAYLIGHT
TZOFFSETFROM:-0800
TZOFFSETTO:-0700
TZNAME:PDT
DTSTART:20260308T100000
END:DAYLIGHT
BEGIN:STANDARD
TZOFFSETFROM:-0700
TZOFFSETTO:-0800
TZNAME:PST
DTSTART:20261101T090000
END:STANDARD
END:VTIMEZONE
BEGIN:VEVENT
DTSTART;TZID=America/Los_Angeles:20250531T100000
DTEND;TZID=America/Los_Angeles:20250531T130000
DTSTAMP:20260424T015215
CREATED:20250527T214425Z
LAST-MODIFIED:20250527T214425Z
UID:19502-1748685600-1748696400@nohowest.org
SUMMARY:South Valley Town Hall
DESCRIPTION:Hear from City officials and collaborate with fellow South Valley Neighborhood Council leaders on current matters important to Neighborhood Council services and operations. A light breakfast will be provided\, and live interpretation services are available upon request. To ensure interpretation services can be secured\, please be sure to register no later than Friday\, May 23\, 2025. \nIf you have any questions\, please don’t hesitate to contact erick.munoz@lacity.org. We look forward to seeing you soon!
URL:https://nohowest.org/calendar/south-valley-town-hall/
LOCATION:Encino Community Center\, 4935 Balboa Blvd\, Encino\, 91316
CATEGORIES:Community Events
GEO:34.1601961;-118.5014044
X-APPLE-STRUCTURED-LOCATION;VALUE=URI;X-ADDRESS=Encino Community Center 4935 Balboa Blvd Encino 91316;X-APPLE-RADIUS=500;X-TITLE=4935 Balboa Blvd:geo:-118.5014044,34.1601961
END:VEVENT
END:VCALENDAR