BEGIN:VCALENDAR
VERSION:2.0
PRODID:-//NoHowest.org - ECPv6.15.16//NONSGML v1.0//EN
CALSCALE:GREGORIAN
METHOD:PUBLISH
X-ORIGINAL-URL:https://nohowest.org
X-WR-CALDESC:Events for NoHowest.org
REFRESH-INTERVAL;VALUE=DURATION:PT1H
X-Robots-Tag:noindex
X-PUBLISHED-TTL:PT1H
BEGIN:VTIMEZONE
TZID:America/Los_Angeles
BEGIN:DAYLIGHT
TZOFFSETFROM:-0800
TZOFFSETTO:-0700
TZNAME:PDT
DTSTART:20220313T100000
END:DAYLIGHT
BEGIN:STANDARD
TZOFFSETFROM:-0700
TZOFFSETTO:-0800
TZNAME:PST
DTSTART:20221106T090000
END:STANDARD
BEGIN:DAYLIGHT
TZOFFSETFROM:-0800
TZOFFSETTO:-0700
TZNAME:PDT
DTSTART:20230312T100000
END:DAYLIGHT
BEGIN:STANDARD
TZOFFSETFROM:-0700
TZOFFSETTO:-0800
TZNAME:PST
DTSTART:20231105T090000
END:STANDARD
BEGIN:DAYLIGHT
TZOFFSETFROM:-0800
TZOFFSETTO:-0700
TZNAME:PDT
DTSTART:20240310T100000
END:DAYLIGHT
BEGIN:STANDARD
TZOFFSETFROM:-0700
TZOFFSETTO:-0800
TZNAME:PST
DTSTART:20241103T090000
END:STANDARD
END:VTIMEZONE
BEGIN:VEVENT
DTSTART;TZID=America/Los_Angeles:20230930T090000
DTEND;TZID=America/Los_Angeles:20230930T120000
DTSTAMP:20260423T212455
CREATED:20230930T032024Z
LAST-MODIFIED:20230930T032024Z
UID:16343-1696064400-1696075200@nohowest.org
SUMMARY:Day of Service
DESCRIPTION:
URL:https://nohowest.org/calendar/day-of-service/
LOCATION:Fair Ave Elementary School\, 6501 Fair Ave\, North Hollywood\, 91606
CATEGORIES:Community Events
GEO:34.1893779;-118.3757783
X-APPLE-STRUCTURED-LOCATION;VALUE=URI;X-ADDRESS=Fair Ave Elementary School 6501 Fair Ave North Hollywood 91606;X-APPLE-RADIUS=500;X-TITLE=6501 Fair Ave:geo:-118.3757783,34.1893779
END:VEVENT
END:VCALENDAR