BEGIN:VCALENDAR
VERSION:2.0
PRODID:-//NoHowest.org - ECPv6.15.16//NONSGML v1.0//EN
CALSCALE:GREGORIAN
METHOD:PUBLISH
X-ORIGINAL-URL:https://nohowest.org
X-WR-CALDESC:Events for NoHowest.org
REFRESH-INTERVAL;VALUE=DURATION:PT1H
X-Robots-Tag:noindex
X-PUBLISHED-TTL:PT1H
BEGIN:VTIMEZONE
TZID:America/Los_Angeles
BEGIN:DAYLIGHT
TZOFFSETFROM:-0800
TZOFFSETTO:-0700
TZNAME:PDT
DTSTART:20140309T100000
END:DAYLIGHT
BEGIN:STANDARD
TZOFFSETFROM:-0700
TZOFFSETTO:-0800
TZNAME:PST
DTSTART:20141102T090000
END:STANDARD
BEGIN:DAYLIGHT
TZOFFSETFROM:-0800
TZOFFSETTO:-0700
TZNAME:PDT
DTSTART:20150308T100000
END:DAYLIGHT
BEGIN:STANDARD
TZOFFSETFROM:-0700
TZOFFSETTO:-0800
TZNAME:PST
DTSTART:20151101T090000
END:STANDARD
BEGIN:DAYLIGHT
TZOFFSETFROM:-0800
TZOFFSETTO:-0700
TZNAME:PDT
DTSTART:20160313T100000
END:DAYLIGHT
BEGIN:STANDARD
TZOFFSETFROM:-0700
TZOFFSETTO:-0800
TZNAME:PST
DTSTART:20161106T090000
END:STANDARD
END:VTIMEZONE
BEGIN:VEVENT
DTSTART;TZID=America/Los_Angeles:20151203T103000
DTEND;TZID=America/Los_Angeles:20151203T123000
DTSTAMP:20260423T225831
CREATED:20151124T065122Z
LAST-MODIFIED:20151124T065122Z
UID:5321-1449138600-1449145800@nohowest.org
SUMMARY:El Nino Town Hall
DESCRIPTION:Join the City of Los Angeles Emergency Management Department for town hall meetings that will help residents and businesses prepare for El Niño\, and to learn more about what the City of Los Angeles is doing to prepare for this winter. \nCity officials and department representatives will help residents understand risks and answer questions related to wet winter weather. \nVALLEY\nThursday\, December 3\, 2015: 6:30pm – 8:30pm\nGranada Hills Recreation Center\n16730 Chatsworth St.\, Granada Hills\, CA 91344 \nThis event will feature representatives from various City of Los Angeles departments. \nInformation on El Niño preparedness for Los Angeles can be found at http://www.ElNinoLA.com
URL:https://nohowest.org/calendar/el-nino-town-hall/
LOCATION:Granada Hills Recreation Center\, 16730 Chatsworth St\, Granada Hills\, 91344
CATEGORIES:Community Events
GEO:34.2636359;-118.4966524
X-APPLE-STRUCTURED-LOCATION;VALUE=URI;X-ADDRESS=Granada Hills Recreation Center 16730 Chatsworth St Granada Hills 91344;X-APPLE-RADIUS=500;X-TITLE=16730 Chatsworth St:geo:-118.4966524,34.2636359
END:VEVENT
END:VCALENDAR