BEGIN:VCALENDAR
VERSION:2.0
PRODID:-//NoHowest.org - ECPv6.15.16//NONSGML v1.0//EN
CALSCALE:GREGORIAN
METHOD:PUBLISH
X-ORIGINAL-URL:https://nohowest.org
X-WR-CALDESC:Events for NoHowest.org
REFRESH-INTERVAL;VALUE=DURATION:PT1H
X-Robots-Tag:noindex
X-PUBLISHED-TTL:PT1H
BEGIN:VTIMEZONE
TZID:America/Los_Angeles
BEGIN:DAYLIGHT
TZOFFSETFROM:-0800
TZOFFSETTO:-0700
TZNAME:PDT
DTSTART:20180311T100000
END:DAYLIGHT
BEGIN:STANDARD
TZOFFSETFROM:-0700
TZOFFSETTO:-0800
TZNAME:PST
DTSTART:20181104T090000
END:STANDARD
BEGIN:DAYLIGHT
TZOFFSETFROM:-0800
TZOFFSETTO:-0700
TZNAME:PDT
DTSTART:20190310T100000
END:DAYLIGHT
BEGIN:STANDARD
TZOFFSETFROM:-0700
TZOFFSETTO:-0800
TZNAME:PST
DTSTART:20191103T090000
END:STANDARD
BEGIN:DAYLIGHT
TZOFFSETFROM:-0800
TZOFFSETTO:-0700
TZNAME:PDT
DTSTART:20200308T100000
END:DAYLIGHT
BEGIN:STANDARD
TZOFFSETFROM:-0700
TZOFFSETTO:-0800
TZNAME:PST
DTSTART:20201101T090000
END:STANDARD
BEGIN:DAYLIGHT
TZOFFSETFROM:-0800
TZOFFSETTO:-0700
TZNAME:PDT
DTSTART:20210314T100000
END:DAYLIGHT
BEGIN:STANDARD
TZOFFSETFROM:-0700
TZOFFSETTO:-0800
TZNAME:PST
DTSTART:20211107T090000
END:STANDARD
BEGIN:DAYLIGHT
TZOFFSETFROM:-0800
TZOFFSETTO:-0700
TZNAME:PDT
DTSTART:20220313T100000
END:DAYLIGHT
BEGIN:STANDARD
TZOFFSETFROM:-0700
TZOFFSETTO:-0800
TZNAME:PST
DTSTART:20221106T090000
END:STANDARD
BEGIN:DAYLIGHT
TZOFFSETFROM:-0800
TZOFFSETTO:-0700
TZNAME:PDT
DTSTART:20230312T100000
END:DAYLIGHT
BEGIN:STANDARD
TZOFFSETFROM:-0700
TZOFFSETTO:-0800
TZNAME:PST
DTSTART:20231105T090000
END:STANDARD
BEGIN:DAYLIGHT
TZOFFSETFROM:-0800
TZOFFSETTO:-0700
TZNAME:PDT
DTSTART:20240310T100000
END:DAYLIGHT
BEGIN:STANDARD
TZOFFSETFROM:-0700
TZOFFSETTO:-0800
TZNAME:PST
DTSTART:20241103T090000
END:STANDARD
BEGIN:DAYLIGHT
TZOFFSETFROM:-0800
TZOFFSETTO:-0700
TZNAME:PDT
DTSTART:20250309T100000
END:DAYLIGHT
BEGIN:STANDARD
TZOFFSETFROM:-0700
TZOFFSETTO:-0800
TZNAME:PST
DTSTART:20251102T090000
END:STANDARD
END:VTIMEZONE
BEGIN:VEVENT
DTSTART;TZID=America/Los_Angeles:20240601T110000
DTEND;TZID=America/Los_Angeles:20240601T170000
DTSTAMP:20260423T225738
CREATED:20240514T193801Z
LAST-MODIFIED:20240514T193801Z
UID:18503-1717239600-1717261200@nohowest.org
SUMMARY:Senior Prrrom
DESCRIPTION:Heaven on Earth’s Senior Prrrom aims to create an opportunity where our incredible senior and medical needs cats can find loving forever homes. On the day of the event\, attendees can enjoy the company of featured cats and vote to crown a new Prom King and Queen!
URL:https://nohowest.org/calendar/senior-prrrom/
LOCATION:Heaven on Earth & Perry’s Place\, 7342 Fulton Ave.\, North Hollywood
CATEGORIES:Community Events
GEO:34.2042655;-118.422266
X-APPLE-STRUCTURED-LOCATION;VALUE=URI;X-ADDRESS=Heaven on Earth & Perry’s Place 7342 Fulton Ave. North Hollywood;X-APPLE-RADIUS=500;X-TITLE=7342 Fulton Ave.:geo:-118.422266,34.2042655
END:VEVENT
BEGIN:VEVENT
DTSTART;TZID=America/Los_Angeles:20220514T170000
DTEND;TZID=America/Los_Angeles:20220514T200000
DTSTAMP:20260423T225738
CREATED:20220426T205847Z
LAST-MODIFIED:20220426T205847Z
UID:11513-1652547600-1652558400@nohowest.org
SUMMARY:Heaven on Earth Open House
DESCRIPTION:We are happy to be hosting our first Open House in two years and we can’t wait to see you! \nJoin us Saturday\, May 14th from 5-8 PM for light refreshments\, music\, raffle prizes\, and of course the stars of the show: the cats! \nRSVP to reserve your spot!
URL:https://nohowest.org/calendar/heaven-on-earth-open-house/
LOCATION:Heaven on Earth & Perry’s Place\, 7342 Fulton Ave.\, North Hollywood
CATEGORIES:Community Events
GEO:34.2042655;-118.422266
X-APPLE-STRUCTURED-LOCATION;VALUE=URI;X-ADDRESS=Heaven on Earth & Perry’s Place 7342 Fulton Ave. North Hollywood;X-APPLE-RADIUS=500;X-TITLE=7342 Fulton Ave.:geo:-118.422266,34.2042655
END:VEVENT
BEGIN:VEVENT
DTSTART;TZID=America/Los_Angeles:20190505T170000
DTEND;TZID=America/Los_Angeles:20190505T200000
DTSTAMP:20260423T225738
CREATED:20190429T202306Z
LAST-MODIFIED:20190429T202306Z
UID:8559-1557075600-1557086400@nohowest.org
SUMMARY:Perry’s Place Spring Friends & Family Night
DESCRIPTION:Sunday\, May 5\, from 5 pm to 8 pm\nHeaven on Earth & Perry’s Place\n7342 Fulton Ave.\nNorth Hollywood\, CA 91605 \nCome see what’s happening at Perry’s Place!\nJoin the rescue organization for an evening of light refreshments\, great conversations\, opportunities to support our rescue efforts\, raffle prize drawings\, and some very special cats and kittens. To RSVP\, email rsvp@heavenlypets.org.
URL:https://nohowest.org/calendar/perrys-place-spring-friends-family-night/
LOCATION:Heaven on Earth & Perry’s Place\, 7342 Fulton Ave.\, North Hollywood
CATEGORIES:Community Events
GEO:34.2042655;-118.422266
X-APPLE-STRUCTURED-LOCATION;VALUE=URI;X-ADDRESS=Heaven on Earth & Perry’s Place 7342 Fulton Ave. North Hollywood;X-APPLE-RADIUS=500;X-TITLE=7342 Fulton Ave.:geo:-118.422266,34.2042655
END:VEVENT
END:VCALENDAR