BEGIN:VCALENDAR
VERSION:2.0
PRODID:-//NoHowest.org - ECPv6.15.16//NONSGML v1.0//EN
CALSCALE:GREGORIAN
METHOD:PUBLISH
X-ORIGINAL-URL:https://nohowest.org
X-WR-CALDESC:Events for NoHowest.org
REFRESH-INTERVAL;VALUE=DURATION:PT1H
X-Robots-Tag:noindex
X-PUBLISHED-TTL:PT1H
BEGIN:VTIMEZONE
TZID:America/Los_Angeles
BEGIN:DAYLIGHT
TZOFFSETFROM:-0800
TZOFFSETTO:-0700
TZNAME:PDT
DTSTART:20160313T100000
END:DAYLIGHT
BEGIN:STANDARD
TZOFFSETFROM:-0700
TZOFFSETTO:-0800
TZNAME:PST
DTSTART:20161106T090000
END:STANDARD
BEGIN:DAYLIGHT
TZOFFSETFROM:-0800
TZOFFSETTO:-0700
TZNAME:PDT
DTSTART:20170312T100000
END:DAYLIGHT
BEGIN:STANDARD
TZOFFSETFROM:-0700
TZOFFSETTO:-0800
TZNAME:PST
DTSTART:20171105T090000
END:STANDARD
BEGIN:DAYLIGHT
TZOFFSETFROM:-0800
TZOFFSETTO:-0700
TZNAME:PDT
DTSTART:20180311T100000
END:DAYLIGHT
BEGIN:STANDARD
TZOFFSETFROM:-0700
TZOFFSETTO:-0800
TZNAME:PST
DTSTART:20181104T090000
END:STANDARD
END:VTIMEZONE
BEGIN:VEVENT
DTSTART;TZID=America/Los_Angeles:20170311T100000
DTEND;TZID=America/Los_Angeles:20170311T120000
DTSTAMP:20260424T082633
CREATED:20170227T180748Z
LAST-MODIFIED:20170227T194130Z
UID:6157-1489226400-1489233600@nohowest.org
SUMMARY:African American Historic Context Community Meeting
DESCRIPTION:To RSVP for the meeting please visit the following webpage:\nhttps://SurveyLA_AfricanAmerican_Context.Eventbrite.com\nFor question about the meeting\, please contact Sara Delgadillo Cruz at sara.cruz@lacity.org\nor (213) 978‐1189. \nEvent Introduction Letter
URL:https://nohowest.org/calendar/african-american-historic-context-community-meeting/
LOCATION:Holman United Methodist Church\, 3320 West Adams Blvd\, Los Angeles\, 90018
CATEGORIES:Community Events
GEO:34.032388;-118.320776
X-APPLE-STRUCTURED-LOCATION;VALUE=URI;X-ADDRESS=Holman United Methodist Church 3320 West Adams Blvd Los Angeles 90018;X-APPLE-RADIUS=500;X-TITLE=3320 West Adams Blvd:geo:-118.320776,34.032388
END:VEVENT
END:VCALENDAR