BEGIN:VCALENDAR
VERSION:2.0
PRODID:-//NoHowest.org - ECPv6.15.16//NONSGML v1.0//EN
CALSCALE:GREGORIAN
METHOD:PUBLISH
X-WR-CALNAME:NoHowest.org
X-ORIGINAL-URL:https://nohowest.org
X-WR-CALDESC:Events for NoHowest.org
REFRESH-INTERVAL;VALUE=DURATION:PT1H
X-Robots-Tag:noindex
X-PUBLISHED-TTL:PT1H
BEGIN:VTIMEZONE
TZID:America/Los_Angeles
BEGIN:DAYLIGHT
TZOFFSETFROM:-0800
TZOFFSETTO:-0700
TZNAME:PDT
DTSTART:20210314T100000
END:DAYLIGHT
BEGIN:STANDARD
TZOFFSETFROM:-0700
TZOFFSETTO:-0800
TZNAME:PST
DTSTART:20211107T090000
END:STANDARD
BEGIN:DAYLIGHT
TZOFFSETFROM:-0800
TZOFFSETTO:-0700
TZNAME:PDT
DTSTART:20220313T100000
END:DAYLIGHT
BEGIN:STANDARD
TZOFFSETFROM:-0700
TZOFFSETTO:-0800
TZNAME:PST
DTSTART:20221106T090000
END:STANDARD
BEGIN:DAYLIGHT
TZOFFSETFROM:-0800
TZOFFSETTO:-0700
TZNAME:PDT
DTSTART:20230312T100000
END:DAYLIGHT
BEGIN:STANDARD
TZOFFSETFROM:-0700
TZOFFSETTO:-0800
TZNAME:PST
DTSTART:20231105T090000
END:STANDARD
END:VTIMEZONE
BEGIN:VEVENT
DTSTART;TZID=America/Los_Angeles:20220208T170000
DTEND;TZID=America/Los_Angeles:20220208T193000
DTSTAMP:20260424T173158
CREATED:20220207T195355Z
LAST-MODIFIED:20220207T195355Z
UID:11249-1644339600-1644348600@nohowest.org
SUMMARY:Hope of the Valley Job Fair
DESCRIPTION:More
URL:https://nohowest.org/calendar/hope-of-the-valley-job-fair/
LOCATION:Hope of the Valley Headquarters\, 16641 Roscoe Place\, North Hills\, 91343
CATEGORIES:Community Events
GEO:34.2217307;-118.4956381
X-APPLE-STRUCTURED-LOCATION;VALUE=URI;X-ADDRESS=Hope of the Valley Headquarters 16641 Roscoe Place North Hills 91343;X-APPLE-RADIUS=500;X-TITLE=16641 Roscoe Place:geo:-118.4956381,34.2217307
END:VEVENT
END:VCALENDAR