BEGIN:VCALENDAR
VERSION:2.0
PRODID:-//NoHowest.org - ECPv6.15.16//NONSGML v1.0//EN
CALSCALE:GREGORIAN
METHOD:PUBLISH
X-ORIGINAL-URL:https://nohowest.org
X-WR-CALDESC:Events for NoHowest.org
REFRESH-INTERVAL;VALUE=DURATION:PT1H
X-Robots-Tag:noindex
X-PUBLISHED-TTL:PT1H
BEGIN:VTIMEZONE
TZID:America/Los_Angeles
BEGIN:DAYLIGHT
TZOFFSETFROM:-0800
TZOFFSETTO:-0700
TZNAME:PDT
DTSTART:20220313T100000
END:DAYLIGHT
BEGIN:STANDARD
TZOFFSETFROM:-0700
TZOFFSETTO:-0800
TZNAME:PST
DTSTART:20221106T090000
END:STANDARD
BEGIN:DAYLIGHT
TZOFFSETFROM:-0800
TZOFFSETTO:-0700
TZNAME:PDT
DTSTART:20230312T100000
END:DAYLIGHT
BEGIN:STANDARD
TZOFFSETFROM:-0700
TZOFFSETTO:-0800
TZNAME:PST
DTSTART:20231105T090000
END:STANDARD
BEGIN:DAYLIGHT
TZOFFSETFROM:-0800
TZOFFSETTO:-0700
TZNAME:PDT
DTSTART:20240310T100000
END:DAYLIGHT
BEGIN:STANDARD
TZOFFSETFROM:-0700
TZOFFSETTO:-0800
TZNAME:PST
DTSTART:20241103T090000
END:STANDARD
BEGIN:DAYLIGHT
TZOFFSETFROM:-0800
TZOFFSETTO:-0700
TZNAME:PDT
DTSTART:20250309T100000
END:DAYLIGHT
BEGIN:STANDARD
TZOFFSETFROM:-0700
TZOFFSETTO:-0800
TZNAME:PST
DTSTART:20251102T090000
END:STANDARD
BEGIN:DAYLIGHT
TZOFFSETFROM:-0800
TZOFFSETTO:-0700
TZNAME:PDT
DTSTART:20260308T100000
END:DAYLIGHT
BEGIN:STANDARD
TZOFFSETFROM:-0700
TZOFFSETTO:-0800
TZNAME:PST
DTSTART:20261101T090000
END:STANDARD
BEGIN:DAYLIGHT
TZOFFSETFROM:-0800
TZOFFSETTO:-0700
TZNAME:PDT
DTSTART:20270314T100000
END:DAYLIGHT
BEGIN:STANDARD
TZOFFSETFROM:-0700
TZOFFSETTO:-0800
TZNAME:PST
DTSTART:20271107T090000
END:STANDARD
END:VTIMEZONE
BEGIN:VEVENT
DTSTART;TZID=America/Los_Angeles:20260326T180000
DTEND;TZID=America/Los_Angeles:20260326T193000
DTSTAMP:20260423T193843
CREATED:20260320T191943Z
LAST-MODIFIED:20260320T192238Z
UID:20077-1774548000-1774553400@nohowest.org
SUMMARY:Madison Middle School Classroom Replacement Project Community Meeting
DESCRIPTION:You are invited to our first community meeting to learn all about this exciting $60.5 million CLASSROOM REPLACEMENT PROJECT at Madison Middle School. We will provide a project overview\, the preliminary design\, anticipated project development calendar and the anticipated construction schedule. We look forward to hearing your comments and answering your questions. \nOnline Zoom Meeting:\nlausd.zoom.us/j/84173598887\nMeeting ID#: 841 7359 8887
URL:https://nohowest.org/calendar/madison-middle-school-classroom-replacement-project-community-meeting/
LOCATION:James Madison Middle School\, 13000 Hart St.\, North Hollywood\, 91605
CATEGORIES:Community Events
GEO:34.196254;-118.4162646
X-APPLE-STRUCTURED-LOCATION;VALUE=URI;X-ADDRESS=James Madison Middle School 13000 Hart St. North Hollywood 91605;X-APPLE-RADIUS=500;X-TITLE=13000 Hart St.:geo:-118.4162646,34.196254
END:VEVENT
BEGIN:VEVENT
DTSTART;TZID=America/Los_Angeles:20240110T183000
DTEND;TZID=America/Los_Angeles:20240110T203000
DTSTAMP:20260423T193843
CREATED:20231121T223048Z
LAST-MODIFIED:20231208T192635Z
UID:16870-1704911400-1704918600@nohowest.org
SUMMARY:Board Meeting-Cancelled
DESCRIPTION:
URL:https://nohowest.org/calendar/board-meeting-8/
LOCATION:James Madison Middle School\, 13000 Hart St.\, North Hollywood\, 91605
CATEGORIES:General Board
GEO:34.196254;-118.4162646
X-APPLE-STRUCTURED-LOCATION;VALUE=URI;X-ADDRESS=James Madison Middle School 13000 Hart St. North Hollywood 91605;X-APPLE-RADIUS=500;X-TITLE=13000 Hart St.:geo:-118.4162646,34.196254
END:VEVENT
BEGIN:VEVENT
DTSTART;TZID=America/Los_Angeles:20231213T183000
DTEND;TZID=America/Los_Angeles:20231213T203000
DTSTAMP:20260423T193843
CREATED:20221110T211916Z
LAST-MODIFIED:20231213T192105Z
UID:13134-1702492200-1702499400@nohowest.org
SUMMARY:Board Meeting
DESCRIPTION:Join us for the next NoHo West Neighborhood Council Meeting Wednesday\, December 13\, 6:30pm at Madison Middle School as we hear a presentation on the Keswick Pocket Park at 7701 Laurel Canyon Blvd. \nMeeting documents: \n\nAgenda: NoHo West NC General Board Meeting Agenda 12-13-23\nNoHo West NC November 2023 MER\nNoHoWestNC Resolution – Virtual Meetings\nNoHo West NC Special Board Meeting Minutes 11-04-23\nProposed City Pocket Park — North Hollywood DRAFT STATEMENT\n\nOr you may join on zoom: \nZoom meeting Online or By Telephone\nhttps://us02web.zoom.us/j/85132000142\nDial 888-475-4499 to Join the Meeting\nThen enter This Webinar ID:\n851 3200 0142 and Press # \n 
URL:https://nohowest.org/calendar/board-meeting-7-2023-12-13/
LOCATION:James Madison Middle School\, 13000 Hart St.\, North Hollywood\, 91605
CATEGORIES:General Board
GEO:34.196254;-118.4162646
X-APPLE-STRUCTURED-LOCATION;VALUE=URI;X-ADDRESS=James Madison Middle School 13000 Hart St. North Hollywood 91605;X-APPLE-RADIUS=500;X-TITLE=13000 Hart St.:geo:-118.4162646,34.196254
END:VEVENT
BEGIN:VEVENT
DTSTART;TZID=America/Los_Angeles:20230913T183000
DTEND;TZID=America/Los_Angeles:20230913T203000
DTSTAMP:20260423T193843
CREATED:20221110T211916Z
LAST-MODIFIED:20230913T184442Z
UID:13131-1694629800-1694637000@nohowest.org
SUMMARY:Board Meeting
DESCRIPTION:Join us for our next NoHo West Neighborhood Council Meeting on Wednesday\, September 13\, 6:30pm at the James Madison Middle School Auditorium\, 13000 Hart St. \nLAUSD School Board Member Kelly Gonez will be our guest. Bring your questions! \nMeeting Documents: \n\nGeneral Board Meeting Agenda 9-13-23\nNoHo West Special Board Meeting Minutes 8-11-23\nRollover Funds – North Hollywood West NC\nLANCC Declaration of Neighborhood Council Rights 2023.06.03 revised final\nLittle Angels NoHo app – Complete\nCouncil File 23-0867\nVP NPG Halloween\nAugust 2023 MER
URL:https://nohowest.org/calendar/board-meeting-2023-09-13/
LOCATION:James Madison Middle School\, 13000 Hart St.\, North Hollywood\, 91605
CATEGORIES:General Board
GEO:34.196254;-118.4162646
X-APPLE-STRUCTURED-LOCATION;VALUE=URI;X-ADDRESS=James Madison Middle School 13000 Hart St. North Hollywood 91605;X-APPLE-RADIUS=500;X-TITLE=13000 Hart St.:geo:-118.4162646,34.196254
END:VEVENT
BEGIN:VEVENT
DTSTART;TZID=America/Los_Angeles:20230712T183000
DTEND;TZID=America/Los_Angeles:20230712T203000
DTSTAMP:20260423T193843
CREATED:20221110T211916Z
LAST-MODIFIED:20230707T204943Z
UID:13129-1689186600-1689193800@nohowest.org
SUMMARY:Board Meeting
DESCRIPTION:Join us for the next NoHo West Neighborhood Council Meeting Wednesday\, July 12\, 6:30pm at James Madison Middle School\, 13000 Hart St. Also available by Zoom: \nZoom Meeting Online or By Telephone\nhttps://us02web.zoom.us/j/85132000142\nDial 888-475-4499 to Join the Meeting\nThen Enter This Webinar ID:\n851 3200 0142 and Press # \nOn our agenda: \n\nAppoint new Board Members\nElect Officers\nPresentation by LAUSD School Board Member Kelly Gonez\n\nMeeting Documents: \n\nGeneral Board Meeting Agenda 7-12-23\nGeneral Board Meeting Minutes 5-10-23\nSpecial Board Meeting Minutes 5-22-23\nMay 2023 MER\nJune 2023 MER\nNCFP AdminPacket-AnnualBudget NoHoWest 2023-24\nGmail – Fwd HostGator – Payment Confirmation Notification\nNoHo West Online Outreach Proposal 2023-0705\nProposed NoHoWest NC Standing Rules FY2023-24\nNPG Valley Plaza Summer 2023
URL:https://nohowest.org/calendar/board-meeting-7-2023-07-12/
LOCATION:James Madison Middle School\, 13000 Hart St.\, North Hollywood\, 91605
CATEGORIES:General Board
GEO:34.196254;-118.4162646
X-APPLE-STRUCTURED-LOCATION;VALUE=URI;X-ADDRESS=James Madison Middle School 13000 Hart St. North Hollywood 91605;X-APPLE-RADIUS=500;X-TITLE=13000 Hart St.:geo:-118.4162646,34.196254
END:VEVENT
BEGIN:VEVENT
DTSTART;TZID=America/Los_Angeles:20230510T183000
DTEND;TZID=America/Los_Angeles:20230510T203000
DTSTAMP:20260423T193843
CREATED:20221110T211916Z
LAST-MODIFIED:20230508T225224Z
UID:13127-1683743400-1683750600@nohowest.org
SUMMARY:Board Meeting
DESCRIPTION:Join us for the next NoHo West Neighborhood Council Meeting on Wednesday\, May 10\, 6:30pm at Madison Middle School Auditorium\, 13000 Hart Street. \nMeeting materials: \n\nGeneral Board Meeting Agenda 5-10-23\nNoHo West General Board Meeting Minutes 4-12-23\nCouncil File 14-1371-S13 DRAFT\nWhitsett Slope Proposal 4.21.23
URL:https://nohowest.org/calendar/board-meeting-7-2023-05-10/
LOCATION:James Madison Middle School\, 13000 Hart St.\, North Hollywood\, 91605
CATEGORIES:General Board
GEO:34.196254;-118.4162646
X-APPLE-STRUCTURED-LOCATION;VALUE=URI;X-ADDRESS=James Madison Middle School 13000 Hart St. North Hollywood 91605;X-APPLE-RADIUS=500;X-TITLE=13000 Hart St.:geo:-118.4162646,34.196254
END:VEVENT
END:VCALENDAR